BEGIN:VCALENDAR
VERSION:2.0
PRODID:-//Gympie RSL - ECPv6.15.20//NONSGML v1.0//EN
CALSCALE:GREGORIAN
METHOD:PUBLISH
X-WR-CALNAME:Gympie RSL
X-ORIGINAL-URL:https://gympiersl.com.au
X-WR-CALDESC:Events for Gympie RSL
REFRESH-INTERVAL;VALUE=DURATION:PT1H
X-Robots-Tag:noindex
X-PUBLISHED-TTL:PT1H
BEGIN:VTIMEZONE
TZID:Australia/Brisbane
BEGIN:STANDARD
TZOFFSETFROM:+1000
TZOFFSETTO:+1000
TZNAME:AEST
DTSTART:20250101T000000
END:STANDARD
END:VTIMEZONE
BEGIN:VEVENT
DTSTART;TZID=Australia/Brisbane:20260721T100000
DTEND;TZID=Australia/Brisbane:20260721T120000
DTSTAMP:20260422T050210
CREATED:20240509T221424Z
LAST-MODIFIED:20240509T224325Z
UID:10016909-1784628000-1784635200@gympiersl.com.au
SUMMARY:Coffee & Chat
DESCRIPTION:Join us at the Rendezvous Café every Tuesday for Coffee & Chat! \nAll veterans are welcome to join\, share stories\, and lend a listening ear.
URL:https://gympiersl.com.au/event/coffee-chat/2026-07-21/
LOCATION:Rendezvous Café & Bar\, Gympie RSL\, 217 Mary Street\, Gympie\, QLD\, 4570\, Australia
CATEGORIES:Welfare,Welfare Weekly
ATTACH;FMTTYPE=image/jpeg:https://gympiersl.com.au/wp-content/uploads/2024/05/Gympie-RSL-Web-Event-Featured_Coffee-Chat.jpg
END:VEVENT
BEGIN:VEVENT
DTSTART;TZID=Australia/Brisbane:20260728T100000
DTEND;TZID=Australia/Brisbane:20260728T120000
DTSTAMP:20260422T050210
CREATED:20240509T221424Z
LAST-MODIFIED:20240509T224325Z
UID:10016910-1785232800-1785240000@gympiersl.com.au
SUMMARY:Coffee & Chat
DESCRIPTION:Join us at the Rendezvous Café every Tuesday for Coffee & Chat! \nAll veterans are welcome to join\, share stories\, and lend a listening ear.
URL:https://gympiersl.com.au/event/coffee-chat/2026-07-28/
LOCATION:Rendezvous Café & Bar\, Gympie RSL\, 217 Mary Street\, Gympie\, QLD\, 4570\, Australia
CATEGORIES:Welfare,Welfare Weekly
ATTACH;FMTTYPE=image/jpeg:https://gympiersl.com.au/wp-content/uploads/2024/05/Gympie-RSL-Web-Event-Featured_Coffee-Chat.jpg
END:VEVENT
BEGIN:VEVENT
DTSTART;TZID=Australia/Brisbane:20260804T100000
DTEND;TZID=Australia/Brisbane:20260804T120000
DTSTAMP:20260422T050210
CREATED:20240509T221424Z
LAST-MODIFIED:20240509T224325Z
UID:10016911-1785837600-1785844800@gympiersl.com.au
SUMMARY:Coffee & Chat
DESCRIPTION:Join us at the Rendezvous Café every Tuesday for Coffee & Chat! \nAll veterans are welcome to join\, share stories\, and lend a listening ear.
URL:https://gympiersl.com.au/event/coffee-chat/2026-08-04/
LOCATION:Rendezvous Café & Bar\, Gympie RSL\, 217 Mary Street\, Gympie\, QLD\, 4570\, Australia
CATEGORIES:Welfare,Welfare Weekly
ATTACH;FMTTYPE=image/jpeg:https://gympiersl.com.au/wp-content/uploads/2024/05/Gympie-RSL-Web-Event-Featured_Coffee-Chat.jpg
END:VEVENT
BEGIN:VEVENT
DTSTART;TZID=Australia/Brisbane:20260811T100000
DTEND;TZID=Australia/Brisbane:20260811T120000
DTSTAMP:20260422T050210
CREATED:20240509T221424Z
LAST-MODIFIED:20240509T224325Z
UID:10016912-1786442400-1786449600@gympiersl.com.au
SUMMARY:Coffee & Chat
DESCRIPTION:Join us at the Rendezvous Café every Tuesday for Coffee & Chat! \nAll veterans are welcome to join\, share stories\, and lend a listening ear.
URL:https://gympiersl.com.au/event/coffee-chat/2026-08-11/
LOCATION:Rendezvous Café & Bar\, Gympie RSL\, 217 Mary Street\, Gympie\, QLD\, 4570\, Australia
CATEGORIES:Welfare,Welfare Weekly
ATTACH;FMTTYPE=image/jpeg:https://gympiersl.com.au/wp-content/uploads/2024/05/Gympie-RSL-Web-Event-Featured_Coffee-Chat.jpg
END:VEVENT
BEGIN:VEVENT
DTSTART;TZID=Australia/Brisbane:20260818T100000
DTEND;TZID=Australia/Brisbane:20260818T120000
DTSTAMP:20260422T050210
CREATED:20240509T221424Z
LAST-MODIFIED:20240509T224325Z
UID:10016913-1787047200-1787054400@gympiersl.com.au
SUMMARY:Coffee & Chat
DESCRIPTION:Join us at the Rendezvous Café every Tuesday for Coffee & Chat! \nAll veterans are welcome to join\, share stories\, and lend a listening ear.
URL:https://gympiersl.com.au/event/coffee-chat/2026-08-18/
LOCATION:Rendezvous Café & Bar\, Gympie RSL\, 217 Mary Street\, Gympie\, QLD\, 4570\, Australia
CATEGORIES:Welfare,Welfare Weekly
ATTACH;FMTTYPE=image/jpeg:https://gympiersl.com.au/wp-content/uploads/2024/05/Gympie-RSL-Web-Event-Featured_Coffee-Chat.jpg
END:VEVENT
BEGIN:VEVENT
DTSTART;TZID=Australia/Brisbane:20260825T100000
DTEND;TZID=Australia/Brisbane:20260825T120000
DTSTAMP:20260422T050210
CREATED:20240509T221424Z
LAST-MODIFIED:20240509T224325Z
UID:10016914-1787652000-1787659200@gympiersl.com.au
SUMMARY:Coffee & Chat
DESCRIPTION:Join us at the Rendezvous Café every Tuesday for Coffee & Chat! \nAll veterans are welcome to join\, share stories\, and lend a listening ear.
URL:https://gympiersl.com.au/event/coffee-chat/2026-08-25/
LOCATION:Rendezvous Café & Bar\, Gympie RSL\, 217 Mary Street\, Gympie\, QLD\, 4570\, Australia
CATEGORIES:Welfare,Welfare Weekly
ATTACH;FMTTYPE=image/jpeg:https://gympiersl.com.au/wp-content/uploads/2024/05/Gympie-RSL-Web-Event-Featured_Coffee-Chat.jpg
END:VEVENT
BEGIN:VEVENT
DTSTART;TZID=Australia/Brisbane:20260901T100000
DTEND;TZID=Australia/Brisbane:20260901T120000
DTSTAMP:20260422T050210
CREATED:20240509T221424Z
LAST-MODIFIED:20240509T224325Z
UID:10016915-1788256800-1788264000@gympiersl.com.au
SUMMARY:Coffee & Chat
DESCRIPTION:Join us at the Rendezvous Café every Tuesday for Coffee & Chat! \nAll veterans are welcome to join\, share stories\, and lend a listening ear.
URL:https://gympiersl.com.au/event/coffee-chat/2026-09-01/
LOCATION:Rendezvous Café & Bar\, Gympie RSL\, 217 Mary Street\, Gympie\, QLD\, 4570\, Australia
CATEGORIES:Welfare,Welfare Weekly
ATTACH;FMTTYPE=image/jpeg:https://gympiersl.com.au/wp-content/uploads/2024/05/Gympie-RSL-Web-Event-Featured_Coffee-Chat.jpg
END:VEVENT
BEGIN:VEVENT
DTSTART;TZID=Australia/Brisbane:20260908T100000
DTEND;TZID=Australia/Brisbane:20260908T120000
DTSTAMP:20260422T050210
CREATED:20240509T221424Z
LAST-MODIFIED:20240509T224325Z
UID:10016916-1788861600-1788868800@gympiersl.com.au
SUMMARY:Coffee & Chat
DESCRIPTION:Join us at the Rendezvous Café every Tuesday for Coffee & Chat! \nAll veterans are welcome to join\, share stories\, and lend a listening ear.
URL:https://gympiersl.com.au/event/coffee-chat/2026-09-08/
LOCATION:Rendezvous Café & Bar\, Gympie RSL\, 217 Mary Street\, Gympie\, QLD\, 4570\, Australia
CATEGORIES:Welfare,Welfare Weekly
ATTACH;FMTTYPE=image/jpeg:https://gympiersl.com.au/wp-content/uploads/2024/05/Gympie-RSL-Web-Event-Featured_Coffee-Chat.jpg
END:VEVENT
BEGIN:VEVENT
DTSTART;TZID=Australia/Brisbane:20260915T100000
DTEND;TZID=Australia/Brisbane:20260915T120000
DTSTAMP:20260422T050210
CREATED:20240509T221424Z
LAST-MODIFIED:20240509T224325Z
UID:10016917-1789466400-1789473600@gympiersl.com.au
SUMMARY:Coffee & Chat
DESCRIPTION:Join us at the Rendezvous Café every Tuesday for Coffee & Chat! \nAll veterans are welcome to join\, share stories\, and lend a listening ear.
URL:https://gympiersl.com.au/event/coffee-chat/2026-09-15/
LOCATION:Rendezvous Café & Bar\, Gympie RSL\, 217 Mary Street\, Gympie\, QLD\, 4570\, Australia
CATEGORIES:Welfare,Welfare Weekly
ATTACH;FMTTYPE=image/jpeg:https://gympiersl.com.au/wp-content/uploads/2024/05/Gympie-RSL-Web-Event-Featured_Coffee-Chat.jpg
END:VEVENT
BEGIN:VEVENT
DTSTART;TZID=Australia/Brisbane:20260922T100000
DTEND;TZID=Australia/Brisbane:20260922T120000
DTSTAMP:20260422T050210
CREATED:20240509T221424Z
LAST-MODIFIED:20240509T224325Z
UID:10016918-1790071200-1790078400@gympiersl.com.au
SUMMARY:Coffee & Chat
DESCRIPTION:Join us at the Rendezvous Café every Tuesday for Coffee & Chat! \nAll veterans are welcome to join\, share stories\, and lend a listening ear.
URL:https://gympiersl.com.au/event/coffee-chat/2026-09-22/
LOCATION:Rendezvous Café & Bar\, Gympie RSL\, 217 Mary Street\, Gympie\, QLD\, 4570\, Australia
CATEGORIES:Welfare,Welfare Weekly
ATTACH;FMTTYPE=image/jpeg:https://gympiersl.com.au/wp-content/uploads/2024/05/Gympie-RSL-Web-Event-Featured_Coffee-Chat.jpg
END:VEVENT
BEGIN:VEVENT
DTSTART;TZID=Australia/Brisbane:20260929T100000
DTEND;TZID=Australia/Brisbane:20260929T120000
DTSTAMP:20260422T050210
CREATED:20240509T221424Z
LAST-MODIFIED:20240509T224325Z
UID:10016919-1790676000-1790683200@gympiersl.com.au
SUMMARY:Coffee & Chat
DESCRIPTION:Join us at the Rendezvous Café every Tuesday for Coffee & Chat! \nAll veterans are welcome to join\, share stories\, and lend a listening ear.
URL:https://gympiersl.com.au/event/coffee-chat/2026-09-29/
LOCATION:Rendezvous Café & Bar\, Gympie RSL\, 217 Mary Street\, Gympie\, QLD\, 4570\, Australia
CATEGORIES:Welfare,Welfare Weekly
ATTACH;FMTTYPE=image/jpeg:https://gympiersl.com.au/wp-content/uploads/2024/05/Gympie-RSL-Web-Event-Featured_Coffee-Chat.jpg
END:VEVENT
BEGIN:VEVENT
DTSTART;TZID=Australia/Brisbane:20261006T100000
DTEND;TZID=Australia/Brisbane:20261006T120000
DTSTAMP:20260422T050210
CREATED:20240509T221424Z
LAST-MODIFIED:20240509T224325Z
UID:10016920-1791280800-1791288000@gympiersl.com.au
SUMMARY:Coffee & Chat
DESCRIPTION:Join us at the Rendezvous Café every Tuesday for Coffee & Chat! \nAll veterans are welcome to join\, share stories\, and lend a listening ear.
URL:https://gympiersl.com.au/event/coffee-chat/2026-10-06/
LOCATION:Rendezvous Café & Bar\, Gympie RSL\, 217 Mary Street\, Gympie\, QLD\, 4570\, Australia
CATEGORIES:Welfare,Welfare Weekly
ATTACH;FMTTYPE=image/jpeg:https://gympiersl.com.au/wp-content/uploads/2024/05/Gympie-RSL-Web-Event-Featured_Coffee-Chat.jpg
END:VEVENT
BEGIN:VEVENT
DTSTART;TZID=Australia/Brisbane:20261013T100000
DTEND;TZID=Australia/Brisbane:20261013T120000
DTSTAMP:20260422T050210
CREATED:20240509T221424Z
LAST-MODIFIED:20240509T224325Z
UID:10016921-1791885600-1791892800@gympiersl.com.au
SUMMARY:Coffee & Chat
DESCRIPTION:Join us at the Rendezvous Café every Tuesday for Coffee & Chat! \nAll veterans are welcome to join\, share stories\, and lend a listening ear.
URL:https://gympiersl.com.au/event/coffee-chat/2026-10-13/
LOCATION:Rendezvous Café & Bar\, Gympie RSL\, 217 Mary Street\, Gympie\, QLD\, 4570\, Australia
CATEGORIES:Welfare,Welfare Weekly
ATTACH;FMTTYPE=image/jpeg:https://gympiersl.com.au/wp-content/uploads/2024/05/Gympie-RSL-Web-Event-Featured_Coffee-Chat.jpg
END:VEVENT
BEGIN:VEVENT
DTSTART;TZID=Australia/Brisbane:20261020T100000
DTEND;TZID=Australia/Brisbane:20261020T120000
DTSTAMP:20260422T050210
CREATED:20240509T221424Z
LAST-MODIFIED:20240509T224325Z
UID:10016922-1792490400-1792497600@gympiersl.com.au
SUMMARY:Coffee & Chat
DESCRIPTION:Join us at the Rendezvous Café every Tuesday for Coffee & Chat! \nAll veterans are welcome to join\, share stories\, and lend a listening ear.
URL:https://gympiersl.com.au/event/coffee-chat/2026-10-20/
LOCATION:Rendezvous Café & Bar\, Gympie RSL\, 217 Mary Street\, Gympie\, QLD\, 4570\, Australia
CATEGORIES:Welfare,Welfare Weekly
ATTACH;FMTTYPE=image/jpeg:https://gympiersl.com.au/wp-content/uploads/2024/05/Gympie-RSL-Web-Event-Featured_Coffee-Chat.jpg
END:VEVENT
BEGIN:VEVENT
DTSTART;TZID=Australia/Brisbane:20261027T100000
DTEND;TZID=Australia/Brisbane:20261027T120000
DTSTAMP:20260422T050210
CREATED:20240509T221424Z
LAST-MODIFIED:20240509T224325Z
UID:10016923-1793095200-1793102400@gympiersl.com.au
SUMMARY:Coffee & Chat
DESCRIPTION:Join us at the Rendezvous Café every Tuesday for Coffee & Chat! \nAll veterans are welcome to join\, share stories\, and lend a listening ear.
URL:https://gympiersl.com.au/event/coffee-chat/2026-10-27/
LOCATION:Rendezvous Café & Bar\, Gympie RSL\, 217 Mary Street\, Gympie\, QLD\, 4570\, Australia
CATEGORIES:Welfare,Welfare Weekly
ATTACH;FMTTYPE=image/jpeg:https://gympiersl.com.au/wp-content/uploads/2024/05/Gympie-RSL-Web-Event-Featured_Coffee-Chat.jpg
END:VEVENT
BEGIN:VEVENT
DTSTART;TZID=Australia/Brisbane:20261103T100000
DTEND;TZID=Australia/Brisbane:20261103T120000
DTSTAMP:20260422T050210
CREATED:20240509T221424Z
LAST-MODIFIED:20240509T224325Z
UID:10016924-1793700000-1793707200@gympiersl.com.au
SUMMARY:Coffee & Chat
DESCRIPTION:Join us at the Rendezvous Café every Tuesday for Coffee & Chat! \nAll veterans are welcome to join\, share stories\, and lend a listening ear.
URL:https://gympiersl.com.au/event/coffee-chat/2026-11-03/
LOCATION:Rendezvous Café & Bar\, Gympie RSL\, 217 Mary Street\, Gympie\, QLD\, 4570\, Australia
CATEGORIES:Welfare,Welfare Weekly
ATTACH;FMTTYPE=image/jpeg:https://gympiersl.com.au/wp-content/uploads/2024/05/Gympie-RSL-Web-Event-Featured_Coffee-Chat.jpg
END:VEVENT
BEGIN:VEVENT
DTSTART;TZID=Australia/Brisbane:20261110T100000
DTEND;TZID=Australia/Brisbane:20261110T120000
DTSTAMP:20260422T050210
CREATED:20240509T221424Z
LAST-MODIFIED:20240509T224325Z
UID:10016925-1794304800-1794312000@gympiersl.com.au
SUMMARY:Coffee & Chat
DESCRIPTION:Join us at the Rendezvous Café every Tuesday for Coffee & Chat! \nAll veterans are welcome to join\, share stories\, and lend a listening ear.
URL:https://gympiersl.com.au/event/coffee-chat/2026-11-10/
LOCATION:Rendezvous Café & Bar\, Gympie RSL\, 217 Mary Street\, Gympie\, QLD\, 4570\, Australia
CATEGORIES:Welfare,Welfare Weekly
ATTACH;FMTTYPE=image/jpeg:https://gympiersl.com.au/wp-content/uploads/2024/05/Gympie-RSL-Web-Event-Featured_Coffee-Chat.jpg
END:VEVENT
BEGIN:VEVENT
DTSTART;TZID=Australia/Brisbane:20261117T100000
DTEND;TZID=Australia/Brisbane:20261117T120000
DTSTAMP:20260422T050210
CREATED:20240509T221424Z
LAST-MODIFIED:20240509T224325Z
UID:10016926-1794909600-1794916800@gympiersl.com.au
SUMMARY:Coffee & Chat
DESCRIPTION:Join us at the Rendezvous Café every Tuesday for Coffee & Chat! \nAll veterans are welcome to join\, share stories\, and lend a listening ear.
URL:https://gympiersl.com.au/event/coffee-chat/2026-11-17/
LOCATION:Rendezvous Café & Bar\, Gympie RSL\, 217 Mary Street\, Gympie\, QLD\, 4570\, Australia
CATEGORIES:Welfare,Welfare Weekly
ATTACH;FMTTYPE=image/jpeg:https://gympiersl.com.au/wp-content/uploads/2024/05/Gympie-RSL-Web-Event-Featured_Coffee-Chat.jpg
END:VEVENT
BEGIN:VEVENT
DTSTART;TZID=Australia/Brisbane:20261124T100000
DTEND;TZID=Australia/Brisbane:20261124T120000
DTSTAMP:20260422T050210
CREATED:20240509T221424Z
LAST-MODIFIED:20240509T224325Z
UID:10016927-1795514400-1795521600@gympiersl.com.au
SUMMARY:Coffee & Chat
DESCRIPTION:Join us at the Rendezvous Café every Tuesday for Coffee & Chat! \nAll veterans are welcome to join\, share stories\, and lend a listening ear.
URL:https://gympiersl.com.au/event/coffee-chat/2026-11-24/
LOCATION:Rendezvous Café & Bar\, Gympie RSL\, 217 Mary Street\, Gympie\, QLD\, 4570\, Australia
CATEGORIES:Welfare,Welfare Weekly
ATTACH;FMTTYPE=image/jpeg:https://gympiersl.com.au/wp-content/uploads/2024/05/Gympie-RSL-Web-Event-Featured_Coffee-Chat.jpg
END:VEVENT
BEGIN:VEVENT
DTSTART;TZID=Australia/Brisbane:20261201T100000
DTEND;TZID=Australia/Brisbane:20261201T120000
DTSTAMP:20260422T050210
CREATED:20240509T221424Z
LAST-MODIFIED:20240509T224325Z
UID:10016928-1796119200-1796126400@gympiersl.com.au
SUMMARY:Coffee & Chat
DESCRIPTION:Join us at the Rendezvous Café every Tuesday for Coffee & Chat! \nAll veterans are welcome to join\, share stories\, and lend a listening ear.
URL:https://gympiersl.com.au/event/coffee-chat/2026-12-01/
LOCATION:Rendezvous Café & Bar\, Gympie RSL\, 217 Mary Street\, Gympie\, QLD\, 4570\, Australia
CATEGORIES:Welfare,Welfare Weekly
ATTACH;FMTTYPE=image/jpeg:https://gympiersl.com.au/wp-content/uploads/2024/05/Gympie-RSL-Web-Event-Featured_Coffee-Chat.jpg
END:VEVENT
BEGIN:VEVENT
DTSTART;TZID=Australia/Brisbane:20261208T100000
DTEND;TZID=Australia/Brisbane:20261208T120000
DTSTAMP:20260422T050210
CREATED:20240509T221424Z
LAST-MODIFIED:20240509T224325Z
UID:10016929-1796724000-1796731200@gympiersl.com.au
SUMMARY:Coffee & Chat
DESCRIPTION:Join us at the Rendezvous Café every Tuesday for Coffee & Chat! \nAll veterans are welcome to join\, share stories\, and lend a listening ear.
URL:https://gympiersl.com.au/event/coffee-chat/2026-12-08/
LOCATION:Rendezvous Café & Bar\, Gympie RSL\, 217 Mary Street\, Gympie\, QLD\, 4570\, Australia
CATEGORIES:Welfare,Welfare Weekly
ATTACH;FMTTYPE=image/jpeg:https://gympiersl.com.au/wp-content/uploads/2024/05/Gympie-RSL-Web-Event-Featured_Coffee-Chat.jpg
END:VEVENT
BEGIN:VEVENT
DTSTART;TZID=Australia/Brisbane:20261215T100000
DTEND;TZID=Australia/Brisbane:20261215T120000
DTSTAMP:20260422T050210
CREATED:20240509T221424Z
LAST-MODIFIED:20240509T224325Z
UID:10016930-1797328800-1797336000@gympiersl.com.au
SUMMARY:Coffee & Chat
DESCRIPTION:Join us at the Rendezvous Café every Tuesday for Coffee & Chat! \nAll veterans are welcome to join\, share stories\, and lend a listening ear.
URL:https://gympiersl.com.au/event/coffee-chat/2026-12-15/
LOCATION:Rendezvous Café & Bar\, Gympie RSL\, 217 Mary Street\, Gympie\, QLD\, 4570\, Australia
CATEGORIES:Welfare,Welfare Weekly
ATTACH;FMTTYPE=image/jpeg:https://gympiersl.com.au/wp-content/uploads/2024/05/Gympie-RSL-Web-Event-Featured_Coffee-Chat.jpg
END:VEVENT
BEGIN:VEVENT
DTSTART;TZID=Australia/Brisbane:20261222T100000
DTEND;TZID=Australia/Brisbane:20261222T120000
DTSTAMP:20260422T050210
CREATED:20240509T221424Z
LAST-MODIFIED:20240509T224325Z
UID:10016931-1797933600-1797940800@gympiersl.com.au
SUMMARY:Coffee & Chat
DESCRIPTION:Join us at the Rendezvous Café every Tuesday for Coffee & Chat! \nAll veterans are welcome to join\, share stories\, and lend a listening ear.
URL:https://gympiersl.com.au/event/coffee-chat/2026-12-22/
LOCATION:Rendezvous Café & Bar\, Gympie RSL\, 217 Mary Street\, Gympie\, QLD\, 4570\, Australia
CATEGORIES:Welfare,Welfare Weekly
ATTACH;FMTTYPE=image/jpeg:https://gympiersl.com.au/wp-content/uploads/2024/05/Gympie-RSL-Web-Event-Featured_Coffee-Chat.jpg
END:VEVENT
BEGIN:VEVENT
DTSTART;TZID=Australia/Brisbane:20261229T100000
DTEND;TZID=Australia/Brisbane:20261229T120000
DTSTAMP:20260422T050210
CREATED:20240509T221424Z
LAST-MODIFIED:20240509T224325Z
UID:10016932-1798538400-1798545600@gympiersl.com.au
SUMMARY:Coffee & Chat
DESCRIPTION:Join us at the Rendezvous Café every Tuesday for Coffee & Chat! \nAll veterans are welcome to join\, share stories\, and lend a listening ear.
URL:https://gympiersl.com.au/event/coffee-chat/2026-12-29/
LOCATION:Rendezvous Café & Bar\, Gympie RSL\, 217 Mary Street\, Gympie\, QLD\, 4570\, Australia
CATEGORIES:Welfare,Welfare Weekly
ATTACH;FMTTYPE=image/jpeg:https://gympiersl.com.au/wp-content/uploads/2024/05/Gympie-RSL-Web-Event-Featured_Coffee-Chat.jpg
END:VEVENT
BEGIN:VEVENT
DTSTART;TZID=Australia/Brisbane:20270105T100000
DTEND;TZID=Australia/Brisbane:20270105T120000
DTSTAMP:20260422T050210
CREATED:20240509T221424Z
LAST-MODIFIED:20240509T224325Z
UID:10016933-1799143200-1799150400@gympiersl.com.au
SUMMARY:Coffee & Chat
DESCRIPTION:Join us at the Rendezvous Café every Tuesday for Coffee & Chat! \nAll veterans are welcome to join\, share stories\, and lend a listening ear.
URL:https://gympiersl.com.au/event/coffee-chat/2027-01-05/
LOCATION:Rendezvous Café & Bar\, Gympie RSL\, 217 Mary Street\, Gympie\, QLD\, 4570\, Australia
CATEGORIES:Welfare,Welfare Weekly
ATTACH;FMTTYPE=image/jpeg:https://gympiersl.com.au/wp-content/uploads/2024/05/Gympie-RSL-Web-Event-Featured_Coffee-Chat.jpg
END:VEVENT
BEGIN:VEVENT
DTSTART;TZID=Australia/Brisbane:20270112T100000
DTEND;TZID=Australia/Brisbane:20270112T120000
DTSTAMP:20260422T050210
CREATED:20240509T221424Z
LAST-MODIFIED:20240509T224325Z
UID:10016934-1799748000-1799755200@gympiersl.com.au
SUMMARY:Coffee & Chat
DESCRIPTION:Join us at the Rendezvous Café every Tuesday for Coffee & Chat! \nAll veterans are welcome to join\, share stories\, and lend a listening ear.
URL:https://gympiersl.com.au/event/coffee-chat/2027-01-12/
LOCATION:Rendezvous Café & Bar\, Gympie RSL\, 217 Mary Street\, Gympie\, QLD\, 4570\, Australia
CATEGORIES:Welfare,Welfare Weekly
ATTACH;FMTTYPE=image/jpeg:https://gympiersl.com.au/wp-content/uploads/2024/05/Gympie-RSL-Web-Event-Featured_Coffee-Chat.jpg
END:VEVENT
BEGIN:VEVENT
DTSTART;TZID=Australia/Brisbane:20270119T100000
DTEND;TZID=Australia/Brisbane:20270119T120000
DTSTAMP:20260422T050210
CREATED:20240509T221424Z
LAST-MODIFIED:20240509T224325Z
UID:10016935-1800352800-1800360000@gympiersl.com.au
SUMMARY:Coffee & Chat
DESCRIPTION:Join us at the Rendezvous Café every Tuesday for Coffee & Chat! \nAll veterans are welcome to join\, share stories\, and lend a listening ear.
URL:https://gympiersl.com.au/event/coffee-chat/2027-01-19/
LOCATION:Rendezvous Café & Bar\, Gympie RSL\, 217 Mary Street\, Gympie\, QLD\, 4570\, Australia
CATEGORIES:Welfare,Welfare Weekly
ATTACH;FMTTYPE=image/jpeg:https://gympiersl.com.au/wp-content/uploads/2024/05/Gympie-RSL-Web-Event-Featured_Coffee-Chat.jpg
END:VEVENT
BEGIN:VEVENT
DTSTART;TZID=Australia/Brisbane:20270126T100000
DTEND;TZID=Australia/Brisbane:20270126T120000
DTSTAMP:20260422T050210
CREATED:20240509T221424Z
LAST-MODIFIED:20240509T224325Z
UID:10016936-1800957600-1800964800@gympiersl.com.au
SUMMARY:Coffee & Chat
DESCRIPTION:Join us at the Rendezvous Café every Tuesday for Coffee & Chat! \nAll veterans are welcome to join\, share stories\, and lend a listening ear.
URL:https://gympiersl.com.au/event/coffee-chat/2027-01-26/
LOCATION:Rendezvous Café & Bar\, Gympie RSL\, 217 Mary Street\, Gympie\, QLD\, 4570\, Australia
CATEGORIES:Welfare,Welfare Weekly
ATTACH;FMTTYPE=image/jpeg:https://gympiersl.com.au/wp-content/uploads/2024/05/Gympie-RSL-Web-Event-Featured_Coffee-Chat.jpg
END:VEVENT
BEGIN:VEVENT
DTSTART;TZID=Australia/Brisbane:20270202T100000
DTEND;TZID=Australia/Brisbane:20270202T120000
DTSTAMP:20260422T050210
CREATED:20240509T221424Z
LAST-MODIFIED:20240509T224325Z
UID:10016937-1801562400-1801569600@gympiersl.com.au
SUMMARY:Coffee & Chat
DESCRIPTION:Join us at the Rendezvous Café every Tuesday for Coffee & Chat! \nAll veterans are welcome to join\, share stories\, and lend a listening ear.
URL:https://gympiersl.com.au/event/coffee-chat/2027-02-02/
LOCATION:Rendezvous Café & Bar\, Gympie RSL\, 217 Mary Street\, Gympie\, QLD\, 4570\, Australia
CATEGORIES:Welfare,Welfare Weekly
ATTACH;FMTTYPE=image/jpeg:https://gympiersl.com.au/wp-content/uploads/2024/05/Gympie-RSL-Web-Event-Featured_Coffee-Chat.jpg
END:VEVENT
BEGIN:VEVENT
DTSTART;TZID=Australia/Brisbane:20270209T100000
DTEND;TZID=Australia/Brisbane:20270209T120000
DTSTAMP:20260422T050210
CREATED:20240509T221424Z
LAST-MODIFIED:20240509T224325Z
UID:10016938-1802167200-1802174400@gympiersl.com.au
SUMMARY:Coffee & Chat
DESCRIPTION:Join us at the Rendezvous Café every Tuesday for Coffee & Chat! \nAll veterans are welcome to join\, share stories\, and lend a listening ear.
URL:https://gympiersl.com.au/event/coffee-chat/2027-02-09/
LOCATION:Rendezvous Café & Bar\, Gympie RSL\, 217 Mary Street\, Gympie\, QLD\, 4570\, Australia
CATEGORIES:Welfare,Welfare Weekly
ATTACH;FMTTYPE=image/jpeg:https://gympiersl.com.au/wp-content/uploads/2024/05/Gympie-RSL-Web-Event-Featured_Coffee-Chat.jpg
END:VEVENT
END:VCALENDAR