BEGIN:VCALENDAR
VERSION:2.0
PRODID:-//Gympie RSL - ECPv6.15.20//NONSGML v1.0//EN
CALSCALE:GREGORIAN
METHOD:PUBLISH
X-ORIGINAL-URL:https://gympiersl.com.au
X-WR-CALDESC:Events for Gympie RSL
REFRESH-INTERVAL;VALUE=DURATION:PT1H
X-Robots-Tag:noindex
X-PUBLISHED-TTL:PT1H
BEGIN:VTIMEZONE
TZID:Australia/Brisbane
BEGIN:STANDARD
TZOFFSETFROM:+1000
TZOFFSETTO:+1000
TZNAME:AEST
DTSTART:20280101T000000
END:STANDARD
END:VTIMEZONE
BEGIN:VEVENT
DTSTART;TZID=Australia/Brisbane:20290424T100000
DTEND;TZID=Australia/Brisbane:20290424T120000
DTSTAMP:20260423T092707
CREATED:20240509T221424Z
LAST-MODIFIED:20240509T224325Z
UID:10017053-1871719200-1871726400@gympiersl.com.au
SUMMARY:Coffee & Chat
DESCRIPTION:Join us at the Rendezvous Café every Tuesday for Coffee & Chat! \nAll veterans are welcome to join\, share stories\, and lend a listening ear.
URL:https://gympiersl.com.au/event/coffee-chat/2029-04-24/
LOCATION:Rendezvous Café & Bar\, Gympie RSL\, 217 Mary Street\, Gympie\, QLD\, 4570\, Australia
CATEGORIES:Welfare,Welfare Weekly
ATTACH;FMTTYPE=image/jpeg:https://gympiersl.com.au/wp-content/uploads/2024/05/Gympie-RSL-Web-Event-Featured_Coffee-Chat.jpg
END:VEVENT
BEGIN:VEVENT
DTSTART;TZID=Australia/Brisbane:20290501T100000
DTEND;TZID=Australia/Brisbane:20290501T120000
DTSTAMP:20260423T092707
CREATED:20240509T221424Z
LAST-MODIFIED:20240509T224325Z
UID:10017054-1872324000-1872331200@gympiersl.com.au
SUMMARY:Coffee & Chat
DESCRIPTION:Join us at the Rendezvous Café every Tuesday for Coffee & Chat! \nAll veterans are welcome to join\, share stories\, and lend a listening ear.
URL:https://gympiersl.com.au/event/coffee-chat/2029-05-01/
LOCATION:Rendezvous Café & Bar\, Gympie RSL\, 217 Mary Street\, Gympie\, QLD\, 4570\, Australia
CATEGORIES:Welfare,Welfare Weekly
ATTACH;FMTTYPE=image/jpeg:https://gympiersl.com.au/wp-content/uploads/2024/05/Gympie-RSL-Web-Event-Featured_Coffee-Chat.jpg
END:VEVENT
BEGIN:VEVENT
DTSTART;TZID=Australia/Brisbane:20290508T100000
DTEND;TZID=Australia/Brisbane:20290508T120000
DTSTAMP:20260423T092707
CREATED:20240509T221424Z
LAST-MODIFIED:20240509T224325Z
UID:10017055-1872928800-1872936000@gympiersl.com.au
SUMMARY:Coffee & Chat
DESCRIPTION:Join us at the Rendezvous Café every Tuesday for Coffee & Chat! \nAll veterans are welcome to join\, share stories\, and lend a listening ear.
URL:https://gympiersl.com.au/event/coffee-chat/2029-05-08/
LOCATION:Rendezvous Café & Bar\, Gympie RSL\, 217 Mary Street\, Gympie\, QLD\, 4570\, Australia
CATEGORIES:Welfare,Welfare Weekly
ATTACH;FMTTYPE=image/jpeg:https://gympiersl.com.au/wp-content/uploads/2024/05/Gympie-RSL-Web-Event-Featured_Coffee-Chat.jpg
END:VEVENT
END:VCALENDAR