BEGIN:VCALENDAR
VERSION:2.0
PRODID:-//Gympie RSL - ECPv6.15.20//NONSGML v1.0//EN
CALSCALE:GREGORIAN
METHOD:PUBLISH
X-WR-CALNAME:Gympie RSL
X-ORIGINAL-URL:https://gympiersl.com.au
X-WR-CALDESC:Events for Gympie RSL
REFRESH-INTERVAL;VALUE=DURATION:PT1H
X-Robots-Tag:noindex
X-PUBLISHED-TTL:PT1H
BEGIN:VTIMEZONE
TZID:Australia/Brisbane
BEGIN:STANDARD
TZOFFSETFROM:+1000
TZOFFSETTO:+1000
TZNAME:AEST
DTSTART:20230101T000000
END:STANDARD
END:VTIMEZONE
BEGIN:VEVENT
DTSTART;TZID=Australia/Brisbane:20240926T100000
DTEND;TZID=Australia/Brisbane:20240926T130000
DTSTAMP:20260423T194417
CREATED:20240824T210052Z
LAST-MODIFIED:20240922T235903Z
UID:10019206-1727344800-1727355600@gympiersl.com.au
SUMMARY:Kids Bingo - School Holidays
DESCRIPTION:Looking for a fun-filled activity for the kids during the school holidays? \nJoin us for Kids Bingo on Thursday\, 26th September 2024\, from 10am to 1pm! \nWith a lucky door prize\, exciting games and prizes\, and a lolly bag for every participant\, it’s an event not to be missed. \nTickets are just $10 per child\, and kids under 3 get in for free. \nYou can book your tickets now online* or at Reception. \nDon’t miss out on this fantastic day of family fun! \n  \n*Please note that online booking fees apply. Children must be supervised by a parent or guardian at all times.
URL:https://gympiersl.com.au/event/kids-bingo-school-holidays/
CATEGORIES:Bingo,Entertainment,Special Events
ATTACH;FMTTYPE=image/jpeg:https://gympiersl.com.au/wp-content/uploads/2024/07/Gympie-RSL-Kids-Bingo-Spring-24_Website-Event-featured-image.jpg
ORGANIZER;CN="Gympie RSL":MAILTO:info@gympiersl.com.au
END:VEVENT
END:VCALENDAR