BEGIN:VCALENDAR
VERSION:2.0
PRODID:-//Gympie RSL - ECPv6.15.20//NONSGML v1.0//EN
CALSCALE:GREGORIAN
METHOD:PUBLISH
X-WR-CALNAME:Gympie RSL
X-ORIGINAL-URL:https://gympiersl.com.au
X-WR-CALDESC:Events for Gympie RSL
REFRESH-INTERVAL;VALUE=DURATION:PT1H
X-Robots-Tag:noindex
X-PUBLISHED-TTL:PT1H
BEGIN:VTIMEZONE
TZID:Australia/Brisbane
BEGIN:STANDARD
TZOFFSETFROM:+1000
TZOFFSETTO:+1000
TZNAME:AEST
DTSTART:20250101T000000
END:STANDARD
END:VTIMEZONE
BEGIN:VEVENT
DTSTART;TZID=Australia/Brisbane:20260423T130000
DTEND;TZID=Australia/Brisbane:20260423T140000
DTSTAMP:20260421T220649
CREATED:20240509T222733Z
LAST-MODIFIED:20251215T015412Z
UID:10017432-1776949200-1776952800@gympiersl.com.au
SUMMARY:Chair Exercise
DESCRIPTION:Sit\, Stretch\, Breathe with Chair Exercise \nJoin us at Gympie Aquatic Recreation Centre\, every Thursday from 1pm for our Chair Exercise classes. \nEnjoy some low-impact fitness that improves strength\, mobility\, posture\, balance and helps reduce stress. \nAll ages and abilities welcome! \n  \nBOOK HERE
URL:https://gympiersl.com.au/event/chair-exercise/2026-04-23/
LOCATION:Gympie Aquatic Centre\, Tozer Park Road\, Gympie\, QLD\, 4570\, Australia
CATEGORIES:Welfare,Welfare Weekly
ATTACH;FMTTYPE=image/jpeg:https://gympiersl.com.au/wp-content/uploads/2024/05/Gympie-RSL-Web-Event-Featured_Chair-Yoga.jpg
END:VEVENT
BEGIN:VEVENT
DTSTART;TZID=Australia/Brisbane:20260430T130000
DTEND;TZID=Australia/Brisbane:20260430T140000
DTSTAMP:20260421T220649
CREATED:20240509T222733Z
LAST-MODIFIED:20251215T015412Z
UID:10017433-1777554000-1777557600@gympiersl.com.au
SUMMARY:Chair Exercise
DESCRIPTION:Sit\, Stretch\, Breathe with Chair Exercise \nJoin us at Gympie Aquatic Recreation Centre\, every Thursday from 1pm for our Chair Exercise classes. \nEnjoy some low-impact fitness that improves strength\, mobility\, posture\, balance and helps reduce stress. \nAll ages and abilities welcome! \n  \nBOOK HERE
URL:https://gympiersl.com.au/event/chair-exercise/2026-04-30/
LOCATION:Gympie Aquatic Centre\, Tozer Park Road\, Gympie\, QLD\, 4570\, Australia
CATEGORIES:Welfare,Welfare Weekly
ATTACH;FMTTYPE=image/jpeg:https://gympiersl.com.au/wp-content/uploads/2024/05/Gympie-RSL-Web-Event-Featured_Chair-Yoga.jpg
END:VEVENT
BEGIN:VEVENT
DTSTART;TZID=Australia/Brisbane:20260507T130000
DTEND;TZID=Australia/Brisbane:20260507T140000
DTSTAMP:20260421T220649
CREATED:20240509T222733Z
LAST-MODIFIED:20251215T015412Z
UID:10017434-1778158800-1778162400@gympiersl.com.au
SUMMARY:Chair Exercise
DESCRIPTION:Sit\, Stretch\, Breathe with Chair Exercise \nJoin us at Gympie Aquatic Recreation Centre\, every Thursday from 1pm for our Chair Exercise classes. \nEnjoy some low-impact fitness that improves strength\, mobility\, posture\, balance and helps reduce stress. \nAll ages and abilities welcome! \n  \nBOOK HERE
URL:https://gympiersl.com.au/event/chair-exercise/2026-05-07/
LOCATION:Gympie Aquatic Centre\, Tozer Park Road\, Gympie\, QLD\, 4570\, Australia
CATEGORIES:Welfare,Welfare Weekly
ATTACH;FMTTYPE=image/jpeg:https://gympiersl.com.au/wp-content/uploads/2024/05/Gympie-RSL-Web-Event-Featured_Chair-Yoga.jpg
END:VEVENT
BEGIN:VEVENT
DTSTART;TZID=Australia/Brisbane:20260514T130000
DTEND;TZID=Australia/Brisbane:20260514T140000
DTSTAMP:20260421T220649
CREATED:20240509T222733Z
LAST-MODIFIED:20251215T015412Z
UID:10017435-1778763600-1778767200@gympiersl.com.au
SUMMARY:Chair Exercise
DESCRIPTION:Sit\, Stretch\, Breathe with Chair Exercise \nJoin us at Gympie Aquatic Recreation Centre\, every Thursday from 1pm for our Chair Exercise classes. \nEnjoy some low-impact fitness that improves strength\, mobility\, posture\, balance and helps reduce stress. \nAll ages and abilities welcome! \n  \nBOOK HERE
URL:https://gympiersl.com.au/event/chair-exercise/2026-05-14/
LOCATION:Gympie Aquatic Centre\, Tozer Park Road\, Gympie\, QLD\, 4570\, Australia
CATEGORIES:Welfare,Welfare Weekly
ATTACH;FMTTYPE=image/jpeg:https://gympiersl.com.au/wp-content/uploads/2024/05/Gympie-RSL-Web-Event-Featured_Chair-Yoga.jpg
END:VEVENT
BEGIN:VEVENT
DTSTART;TZID=Australia/Brisbane:20260521T130000
DTEND;TZID=Australia/Brisbane:20260521T140000
DTSTAMP:20260421T220649
CREATED:20240509T222733Z
LAST-MODIFIED:20251215T015412Z
UID:10017436-1779368400-1779372000@gympiersl.com.au
SUMMARY:Chair Exercise
DESCRIPTION:Sit\, Stretch\, Breathe with Chair Exercise \nJoin us at Gympie Aquatic Recreation Centre\, every Thursday from 1pm for our Chair Exercise classes. \nEnjoy some low-impact fitness that improves strength\, mobility\, posture\, balance and helps reduce stress. \nAll ages and abilities welcome! \n  \nBOOK HERE
URL:https://gympiersl.com.au/event/chair-exercise/2026-05-21/
LOCATION:Gympie Aquatic Centre\, Tozer Park Road\, Gympie\, QLD\, 4570\, Australia
CATEGORIES:Welfare,Welfare Weekly
ATTACH;FMTTYPE=image/jpeg:https://gympiersl.com.au/wp-content/uploads/2024/05/Gympie-RSL-Web-Event-Featured_Chair-Yoga.jpg
END:VEVENT
BEGIN:VEVENT
DTSTART;TZID=Australia/Brisbane:20260528T130000
DTEND;TZID=Australia/Brisbane:20260528T140000
DTSTAMP:20260421T220649
CREATED:20240509T222733Z
LAST-MODIFIED:20251215T015412Z
UID:10017437-1779973200-1779976800@gympiersl.com.au
SUMMARY:Chair Exercise
DESCRIPTION:Sit\, Stretch\, Breathe with Chair Exercise \nJoin us at Gympie Aquatic Recreation Centre\, every Thursday from 1pm for our Chair Exercise classes. \nEnjoy some low-impact fitness that improves strength\, mobility\, posture\, balance and helps reduce stress. \nAll ages and abilities welcome! \n  \nBOOK HERE
URL:https://gympiersl.com.au/event/chair-exercise/2026-05-28/
LOCATION:Gympie Aquatic Centre\, Tozer Park Road\, Gympie\, QLD\, 4570\, Australia
CATEGORIES:Welfare,Welfare Weekly
ATTACH;FMTTYPE=image/jpeg:https://gympiersl.com.au/wp-content/uploads/2024/05/Gympie-RSL-Web-Event-Featured_Chair-Yoga.jpg
END:VEVENT
BEGIN:VEVENT
DTSTART;TZID=Australia/Brisbane:20260604T130000
DTEND;TZID=Australia/Brisbane:20260604T140000
DTSTAMP:20260421T220649
CREATED:20240509T222733Z
LAST-MODIFIED:20251215T015412Z
UID:10017438-1780578000-1780581600@gympiersl.com.au
SUMMARY:Chair Exercise
DESCRIPTION:Sit\, Stretch\, Breathe with Chair Exercise \nJoin us at Gympie Aquatic Recreation Centre\, every Thursday from 1pm for our Chair Exercise classes. \nEnjoy some low-impact fitness that improves strength\, mobility\, posture\, balance and helps reduce stress. \nAll ages and abilities welcome! \n  \nBOOK HERE
URL:https://gympiersl.com.au/event/chair-exercise/2026-06-04/
LOCATION:Gympie Aquatic Centre\, Tozer Park Road\, Gympie\, QLD\, 4570\, Australia
CATEGORIES:Welfare,Welfare Weekly
ATTACH;FMTTYPE=image/jpeg:https://gympiersl.com.au/wp-content/uploads/2024/05/Gympie-RSL-Web-Event-Featured_Chair-Yoga.jpg
END:VEVENT
BEGIN:VEVENT
DTSTART;TZID=Australia/Brisbane:20260611T130000
DTEND;TZID=Australia/Brisbane:20260611T140000
DTSTAMP:20260421T220649
CREATED:20240509T222733Z
LAST-MODIFIED:20251215T015412Z
UID:10017439-1781182800-1781186400@gympiersl.com.au
SUMMARY:Chair Exercise
DESCRIPTION:Sit\, Stretch\, Breathe with Chair Exercise \nJoin us at Gympie Aquatic Recreation Centre\, every Thursday from 1pm for our Chair Exercise classes. \nEnjoy some low-impact fitness that improves strength\, mobility\, posture\, balance and helps reduce stress. \nAll ages and abilities welcome! \n  \nBOOK HERE
URL:https://gympiersl.com.au/event/chair-exercise/2026-06-11/
LOCATION:Gympie Aquatic Centre\, Tozer Park Road\, Gympie\, QLD\, 4570\, Australia
CATEGORIES:Welfare,Welfare Weekly
ATTACH;FMTTYPE=image/jpeg:https://gympiersl.com.au/wp-content/uploads/2024/05/Gympie-RSL-Web-Event-Featured_Chair-Yoga.jpg
END:VEVENT
BEGIN:VEVENT
DTSTART;TZID=Australia/Brisbane:20260618T130000
DTEND;TZID=Australia/Brisbane:20260618T140000
DTSTAMP:20260421T220649
CREATED:20240509T222733Z
LAST-MODIFIED:20251215T015412Z
UID:10017440-1781787600-1781791200@gympiersl.com.au
SUMMARY:Chair Exercise
DESCRIPTION:Sit\, Stretch\, Breathe with Chair Exercise \nJoin us at Gympie Aquatic Recreation Centre\, every Thursday from 1pm for our Chair Exercise classes. \nEnjoy some low-impact fitness that improves strength\, mobility\, posture\, balance and helps reduce stress. \nAll ages and abilities welcome! \n  \nBOOK HERE
URL:https://gympiersl.com.au/event/chair-exercise/2026-06-18/
LOCATION:Gympie Aquatic Centre\, Tozer Park Road\, Gympie\, QLD\, 4570\, Australia
CATEGORIES:Welfare,Welfare Weekly
ATTACH;FMTTYPE=image/jpeg:https://gympiersl.com.au/wp-content/uploads/2024/05/Gympie-RSL-Web-Event-Featured_Chair-Yoga.jpg
END:VEVENT
BEGIN:VEVENT
DTSTART;TZID=Australia/Brisbane:20260625T130000
DTEND;TZID=Australia/Brisbane:20260625T140000
DTSTAMP:20260421T220649
CREATED:20240509T222733Z
LAST-MODIFIED:20251215T015412Z
UID:10017441-1782392400-1782396000@gympiersl.com.au
SUMMARY:Chair Exercise
DESCRIPTION:Sit\, Stretch\, Breathe with Chair Exercise \nJoin us at Gympie Aquatic Recreation Centre\, every Thursday from 1pm for our Chair Exercise classes. \nEnjoy some low-impact fitness that improves strength\, mobility\, posture\, balance and helps reduce stress. \nAll ages and abilities welcome! \n  \nBOOK HERE
URL:https://gympiersl.com.au/event/chair-exercise/2026-06-25/
LOCATION:Gympie Aquatic Centre\, Tozer Park Road\, Gympie\, QLD\, 4570\, Australia
CATEGORIES:Welfare,Welfare Weekly
ATTACH;FMTTYPE=image/jpeg:https://gympiersl.com.au/wp-content/uploads/2024/05/Gympie-RSL-Web-Event-Featured_Chair-Yoga.jpg
END:VEVENT
BEGIN:VEVENT
DTSTART;TZID=Australia/Brisbane:20260702T130000
DTEND;TZID=Australia/Brisbane:20260702T140000
DTSTAMP:20260421T220649
CREATED:20240509T222733Z
LAST-MODIFIED:20251215T015412Z
UID:10017442-1782997200-1783000800@gympiersl.com.au
SUMMARY:Chair Exercise
DESCRIPTION:Sit\, Stretch\, Breathe with Chair Exercise \nJoin us at Gympie Aquatic Recreation Centre\, every Thursday from 1pm for our Chair Exercise classes. \nEnjoy some low-impact fitness that improves strength\, mobility\, posture\, balance and helps reduce stress. \nAll ages and abilities welcome! \n  \nBOOK HERE
URL:https://gympiersl.com.au/event/chair-exercise/2026-07-02/
LOCATION:Gympie Aquatic Centre\, Tozer Park Road\, Gympie\, QLD\, 4570\, Australia
CATEGORIES:Welfare,Welfare Weekly
ATTACH;FMTTYPE=image/jpeg:https://gympiersl.com.au/wp-content/uploads/2024/05/Gympie-RSL-Web-Event-Featured_Chair-Yoga.jpg
END:VEVENT
BEGIN:VEVENT
DTSTART;TZID=Australia/Brisbane:20260709T130000
DTEND;TZID=Australia/Brisbane:20260709T140000
DTSTAMP:20260421T220649
CREATED:20240509T222733Z
LAST-MODIFIED:20251215T015412Z
UID:10017443-1783602000-1783605600@gympiersl.com.au
SUMMARY:Chair Exercise
DESCRIPTION:Sit\, Stretch\, Breathe with Chair Exercise \nJoin us at Gympie Aquatic Recreation Centre\, every Thursday from 1pm for our Chair Exercise classes. \nEnjoy some low-impact fitness that improves strength\, mobility\, posture\, balance and helps reduce stress. \nAll ages and abilities welcome! \n  \nBOOK HERE
URL:https://gympiersl.com.au/event/chair-exercise/2026-07-09/
LOCATION:Gympie Aquatic Centre\, Tozer Park Road\, Gympie\, QLD\, 4570\, Australia
CATEGORIES:Welfare,Welfare Weekly
ATTACH;FMTTYPE=image/jpeg:https://gympiersl.com.au/wp-content/uploads/2024/05/Gympie-RSL-Web-Event-Featured_Chair-Yoga.jpg
END:VEVENT
BEGIN:VEVENT
DTSTART;TZID=Australia/Brisbane:20260716T130000
DTEND;TZID=Australia/Brisbane:20260716T140000
DTSTAMP:20260421T220649
CREATED:20240509T222733Z
LAST-MODIFIED:20251215T015412Z
UID:10017444-1784206800-1784210400@gympiersl.com.au
SUMMARY:Chair Exercise
DESCRIPTION:Sit\, Stretch\, Breathe with Chair Exercise \nJoin us at Gympie Aquatic Recreation Centre\, every Thursday from 1pm for our Chair Exercise classes. \nEnjoy some low-impact fitness that improves strength\, mobility\, posture\, balance and helps reduce stress. \nAll ages and abilities welcome! \n  \nBOOK HERE
URL:https://gympiersl.com.au/event/chair-exercise/2026-07-16/
LOCATION:Gympie Aquatic Centre\, Tozer Park Road\, Gympie\, QLD\, 4570\, Australia
CATEGORIES:Welfare,Welfare Weekly
ATTACH;FMTTYPE=image/jpeg:https://gympiersl.com.au/wp-content/uploads/2024/05/Gympie-RSL-Web-Event-Featured_Chair-Yoga.jpg
END:VEVENT
BEGIN:VEVENT
DTSTART;TZID=Australia/Brisbane:20260723T130000
DTEND;TZID=Australia/Brisbane:20260723T140000
DTSTAMP:20260421T220649
CREATED:20240509T222733Z
LAST-MODIFIED:20251215T015412Z
UID:10017445-1784811600-1784815200@gympiersl.com.au
SUMMARY:Chair Exercise
DESCRIPTION:Sit\, Stretch\, Breathe with Chair Exercise \nJoin us at Gympie Aquatic Recreation Centre\, every Thursday from 1pm for our Chair Exercise classes. \nEnjoy some low-impact fitness that improves strength\, mobility\, posture\, balance and helps reduce stress. \nAll ages and abilities welcome! \n  \nBOOK HERE
URL:https://gympiersl.com.au/event/chair-exercise/2026-07-23/
LOCATION:Gympie Aquatic Centre\, Tozer Park Road\, Gympie\, QLD\, 4570\, Australia
CATEGORIES:Welfare,Welfare Weekly
ATTACH;FMTTYPE=image/jpeg:https://gympiersl.com.au/wp-content/uploads/2024/05/Gympie-RSL-Web-Event-Featured_Chair-Yoga.jpg
END:VEVENT
BEGIN:VEVENT
DTSTART;TZID=Australia/Brisbane:20260730T130000
DTEND;TZID=Australia/Brisbane:20260730T140000
DTSTAMP:20260421T220650
CREATED:20240509T222733Z
LAST-MODIFIED:20251215T015412Z
UID:10017446-1785416400-1785420000@gympiersl.com.au
SUMMARY:Chair Exercise
DESCRIPTION:Sit\, Stretch\, Breathe with Chair Exercise \nJoin us at Gympie Aquatic Recreation Centre\, every Thursday from 1pm for our Chair Exercise classes. \nEnjoy some low-impact fitness that improves strength\, mobility\, posture\, balance and helps reduce stress. \nAll ages and abilities welcome! \n  \nBOOK HERE
URL:https://gympiersl.com.au/event/chair-exercise/2026-07-30/
LOCATION:Gympie Aquatic Centre\, Tozer Park Road\, Gympie\, QLD\, 4570\, Australia
CATEGORIES:Welfare,Welfare Weekly
ATTACH;FMTTYPE=image/jpeg:https://gympiersl.com.au/wp-content/uploads/2024/05/Gympie-RSL-Web-Event-Featured_Chair-Yoga.jpg
END:VEVENT
BEGIN:VEVENT
DTSTART;TZID=Australia/Brisbane:20260806T130000
DTEND;TZID=Australia/Brisbane:20260806T140000
DTSTAMP:20260421T220650
CREATED:20240509T222733Z
LAST-MODIFIED:20251215T015412Z
UID:10017447-1786021200-1786024800@gympiersl.com.au
SUMMARY:Chair Exercise
DESCRIPTION:Sit\, Stretch\, Breathe with Chair Exercise \nJoin us at Gympie Aquatic Recreation Centre\, every Thursday from 1pm for our Chair Exercise classes. \nEnjoy some low-impact fitness that improves strength\, mobility\, posture\, balance and helps reduce stress. \nAll ages and abilities welcome! \n  \nBOOK HERE
URL:https://gympiersl.com.au/event/chair-exercise/2026-08-06/
LOCATION:Gympie Aquatic Centre\, Tozer Park Road\, Gympie\, QLD\, 4570\, Australia
CATEGORIES:Welfare,Welfare Weekly
ATTACH;FMTTYPE=image/jpeg:https://gympiersl.com.au/wp-content/uploads/2024/05/Gympie-RSL-Web-Event-Featured_Chair-Yoga.jpg
END:VEVENT
BEGIN:VEVENT
DTSTART;TZID=Australia/Brisbane:20260813T130000
DTEND;TZID=Australia/Brisbane:20260813T140000
DTSTAMP:20260421T220650
CREATED:20240509T222733Z
LAST-MODIFIED:20251215T015412Z
UID:10017448-1786626000-1786629600@gympiersl.com.au
SUMMARY:Chair Exercise
DESCRIPTION:Sit\, Stretch\, Breathe with Chair Exercise \nJoin us at Gympie Aquatic Recreation Centre\, every Thursday from 1pm for our Chair Exercise classes. \nEnjoy some low-impact fitness that improves strength\, mobility\, posture\, balance and helps reduce stress. \nAll ages and abilities welcome! \n  \nBOOK HERE
URL:https://gympiersl.com.au/event/chair-exercise/2026-08-13/
LOCATION:Gympie Aquatic Centre\, Tozer Park Road\, Gympie\, QLD\, 4570\, Australia
CATEGORIES:Welfare,Welfare Weekly
ATTACH;FMTTYPE=image/jpeg:https://gympiersl.com.au/wp-content/uploads/2024/05/Gympie-RSL-Web-Event-Featured_Chair-Yoga.jpg
END:VEVENT
BEGIN:VEVENT
DTSTART;TZID=Australia/Brisbane:20260820T130000
DTEND;TZID=Australia/Brisbane:20260820T140000
DTSTAMP:20260421T220650
CREATED:20240509T222733Z
LAST-MODIFIED:20251215T015412Z
UID:10017449-1787230800-1787234400@gympiersl.com.au
SUMMARY:Chair Exercise
DESCRIPTION:Sit\, Stretch\, Breathe with Chair Exercise \nJoin us at Gympie Aquatic Recreation Centre\, every Thursday from 1pm for our Chair Exercise classes. \nEnjoy some low-impact fitness that improves strength\, mobility\, posture\, balance and helps reduce stress. \nAll ages and abilities welcome! \n  \nBOOK HERE
URL:https://gympiersl.com.au/event/chair-exercise/2026-08-20/
LOCATION:Gympie Aquatic Centre\, Tozer Park Road\, Gympie\, QLD\, 4570\, Australia
CATEGORIES:Welfare,Welfare Weekly
ATTACH;FMTTYPE=image/jpeg:https://gympiersl.com.au/wp-content/uploads/2024/05/Gympie-RSL-Web-Event-Featured_Chair-Yoga.jpg
END:VEVENT
BEGIN:VEVENT
DTSTART;TZID=Australia/Brisbane:20260827T130000
DTEND;TZID=Australia/Brisbane:20260827T140000
DTSTAMP:20260421T220650
CREATED:20240509T222733Z
LAST-MODIFIED:20251215T015412Z
UID:10017450-1787835600-1787839200@gympiersl.com.au
SUMMARY:Chair Exercise
DESCRIPTION:Sit\, Stretch\, Breathe with Chair Exercise \nJoin us at Gympie Aquatic Recreation Centre\, every Thursday from 1pm for our Chair Exercise classes. \nEnjoy some low-impact fitness that improves strength\, mobility\, posture\, balance and helps reduce stress. \nAll ages and abilities welcome! \n  \nBOOK HERE
URL:https://gympiersl.com.au/event/chair-exercise/2026-08-27/
LOCATION:Gympie Aquatic Centre\, Tozer Park Road\, Gympie\, QLD\, 4570\, Australia
CATEGORIES:Welfare,Welfare Weekly
ATTACH;FMTTYPE=image/jpeg:https://gympiersl.com.au/wp-content/uploads/2024/05/Gympie-RSL-Web-Event-Featured_Chair-Yoga.jpg
END:VEVENT
BEGIN:VEVENT
DTSTART;TZID=Australia/Brisbane:20260903T130000
DTEND;TZID=Australia/Brisbane:20260903T140000
DTSTAMP:20260421T220650
CREATED:20240509T222733Z
LAST-MODIFIED:20251215T015412Z
UID:10017451-1788440400-1788444000@gympiersl.com.au
SUMMARY:Chair Exercise
DESCRIPTION:Sit\, Stretch\, Breathe with Chair Exercise \nJoin us at Gympie Aquatic Recreation Centre\, every Thursday from 1pm for our Chair Exercise classes. \nEnjoy some low-impact fitness that improves strength\, mobility\, posture\, balance and helps reduce stress. \nAll ages and abilities welcome! \n  \nBOOK HERE
URL:https://gympiersl.com.au/event/chair-exercise/2026-09-03/
LOCATION:Gympie Aquatic Centre\, Tozer Park Road\, Gympie\, QLD\, 4570\, Australia
CATEGORIES:Welfare,Welfare Weekly
ATTACH;FMTTYPE=image/jpeg:https://gympiersl.com.au/wp-content/uploads/2024/05/Gympie-RSL-Web-Event-Featured_Chair-Yoga.jpg
END:VEVENT
BEGIN:VEVENT
DTSTART;TZID=Australia/Brisbane:20260910T130000
DTEND;TZID=Australia/Brisbane:20260910T140000
DTSTAMP:20260421T220650
CREATED:20240509T222733Z
LAST-MODIFIED:20251215T015412Z
UID:10017452-1789045200-1789048800@gympiersl.com.au
SUMMARY:Chair Exercise
DESCRIPTION:Sit\, Stretch\, Breathe with Chair Exercise \nJoin us at Gympie Aquatic Recreation Centre\, every Thursday from 1pm for our Chair Exercise classes. \nEnjoy some low-impact fitness that improves strength\, mobility\, posture\, balance and helps reduce stress. \nAll ages and abilities welcome! \n  \nBOOK HERE
URL:https://gympiersl.com.au/event/chair-exercise/2026-09-10/
LOCATION:Gympie Aquatic Centre\, Tozer Park Road\, Gympie\, QLD\, 4570\, Australia
CATEGORIES:Welfare,Welfare Weekly
ATTACH;FMTTYPE=image/jpeg:https://gympiersl.com.au/wp-content/uploads/2024/05/Gympie-RSL-Web-Event-Featured_Chair-Yoga.jpg
END:VEVENT
BEGIN:VEVENT
DTSTART;TZID=Australia/Brisbane:20260917T130000
DTEND;TZID=Australia/Brisbane:20260917T140000
DTSTAMP:20260421T220650
CREATED:20240509T222733Z
LAST-MODIFIED:20251215T015412Z
UID:10017453-1789650000-1789653600@gympiersl.com.au
SUMMARY:Chair Exercise
DESCRIPTION:Sit\, Stretch\, Breathe with Chair Exercise \nJoin us at Gympie Aquatic Recreation Centre\, every Thursday from 1pm for our Chair Exercise classes. \nEnjoy some low-impact fitness that improves strength\, mobility\, posture\, balance and helps reduce stress. \nAll ages and abilities welcome! \n  \nBOOK HERE
URL:https://gympiersl.com.au/event/chair-exercise/2026-09-17/
LOCATION:Gympie Aquatic Centre\, Tozer Park Road\, Gympie\, QLD\, 4570\, Australia
CATEGORIES:Welfare,Welfare Weekly
ATTACH;FMTTYPE=image/jpeg:https://gympiersl.com.au/wp-content/uploads/2024/05/Gympie-RSL-Web-Event-Featured_Chair-Yoga.jpg
END:VEVENT
BEGIN:VEVENT
DTSTART;TZID=Australia/Brisbane:20260924T130000
DTEND;TZID=Australia/Brisbane:20260924T140000
DTSTAMP:20260421T220650
CREATED:20240509T222733Z
LAST-MODIFIED:20251215T015412Z
UID:10017454-1790254800-1790258400@gympiersl.com.au
SUMMARY:Chair Exercise
DESCRIPTION:Sit\, Stretch\, Breathe with Chair Exercise \nJoin us at Gympie Aquatic Recreation Centre\, every Thursday from 1pm for our Chair Exercise classes. \nEnjoy some low-impact fitness that improves strength\, mobility\, posture\, balance and helps reduce stress. \nAll ages and abilities welcome! \n  \nBOOK HERE
URL:https://gympiersl.com.au/event/chair-exercise/2026-09-24/
LOCATION:Gympie Aquatic Centre\, Tozer Park Road\, Gympie\, QLD\, 4570\, Australia
CATEGORIES:Welfare,Welfare Weekly
ATTACH;FMTTYPE=image/jpeg:https://gympiersl.com.au/wp-content/uploads/2024/05/Gympie-RSL-Web-Event-Featured_Chair-Yoga.jpg
END:VEVENT
BEGIN:VEVENT
DTSTART;TZID=Australia/Brisbane:20261001T130000
DTEND;TZID=Australia/Brisbane:20261001T140000
DTSTAMP:20260421T220650
CREATED:20240509T222733Z
LAST-MODIFIED:20251215T015412Z
UID:10017455-1790859600-1790863200@gympiersl.com.au
SUMMARY:Chair Exercise
DESCRIPTION:Sit\, Stretch\, Breathe with Chair Exercise \nJoin us at Gympie Aquatic Recreation Centre\, every Thursday from 1pm for our Chair Exercise classes. \nEnjoy some low-impact fitness that improves strength\, mobility\, posture\, balance and helps reduce stress. \nAll ages and abilities welcome! \n  \nBOOK HERE
URL:https://gympiersl.com.au/event/chair-exercise/2026-10-01/
LOCATION:Gympie Aquatic Centre\, Tozer Park Road\, Gympie\, QLD\, 4570\, Australia
CATEGORIES:Welfare,Welfare Weekly
ATTACH;FMTTYPE=image/jpeg:https://gympiersl.com.au/wp-content/uploads/2024/05/Gympie-RSL-Web-Event-Featured_Chair-Yoga.jpg
END:VEVENT
BEGIN:VEVENT
DTSTART;TZID=Australia/Brisbane:20261008T130000
DTEND;TZID=Australia/Brisbane:20261008T140000
DTSTAMP:20260421T220650
CREATED:20240509T222733Z
LAST-MODIFIED:20251215T015412Z
UID:10017456-1791464400-1791468000@gympiersl.com.au
SUMMARY:Chair Exercise
DESCRIPTION:Sit\, Stretch\, Breathe with Chair Exercise \nJoin us at Gympie Aquatic Recreation Centre\, every Thursday from 1pm for our Chair Exercise classes. \nEnjoy some low-impact fitness that improves strength\, mobility\, posture\, balance and helps reduce stress. \nAll ages and abilities welcome! \n  \nBOOK HERE
URL:https://gympiersl.com.au/event/chair-exercise/2026-10-08/
LOCATION:Gympie Aquatic Centre\, Tozer Park Road\, Gympie\, QLD\, 4570\, Australia
CATEGORIES:Welfare,Welfare Weekly
ATTACH;FMTTYPE=image/jpeg:https://gympiersl.com.au/wp-content/uploads/2024/05/Gympie-RSL-Web-Event-Featured_Chair-Yoga.jpg
END:VEVENT
BEGIN:VEVENT
DTSTART;TZID=Australia/Brisbane:20261015T130000
DTEND;TZID=Australia/Brisbane:20261015T140000
DTSTAMP:20260421T220650
CREATED:20240509T222733Z
LAST-MODIFIED:20251215T015412Z
UID:10017457-1792069200-1792072800@gympiersl.com.au
SUMMARY:Chair Exercise
DESCRIPTION:Sit\, Stretch\, Breathe with Chair Exercise \nJoin us at Gympie Aquatic Recreation Centre\, every Thursday from 1pm for our Chair Exercise classes. \nEnjoy some low-impact fitness that improves strength\, mobility\, posture\, balance and helps reduce stress. \nAll ages and abilities welcome! \n  \nBOOK HERE
URL:https://gympiersl.com.au/event/chair-exercise/2026-10-15/
LOCATION:Gympie Aquatic Centre\, Tozer Park Road\, Gympie\, QLD\, 4570\, Australia
CATEGORIES:Welfare,Welfare Weekly
ATTACH;FMTTYPE=image/jpeg:https://gympiersl.com.au/wp-content/uploads/2024/05/Gympie-RSL-Web-Event-Featured_Chair-Yoga.jpg
END:VEVENT
BEGIN:VEVENT
DTSTART;TZID=Australia/Brisbane:20261022T130000
DTEND;TZID=Australia/Brisbane:20261022T140000
DTSTAMP:20260421T220650
CREATED:20240509T222733Z
LAST-MODIFIED:20251215T015412Z
UID:10017458-1792674000-1792677600@gympiersl.com.au
SUMMARY:Chair Exercise
DESCRIPTION:Sit\, Stretch\, Breathe with Chair Exercise \nJoin us at Gympie Aquatic Recreation Centre\, every Thursday from 1pm for our Chair Exercise classes. \nEnjoy some low-impact fitness that improves strength\, mobility\, posture\, balance and helps reduce stress. \nAll ages and abilities welcome! \n  \nBOOK HERE
URL:https://gympiersl.com.au/event/chair-exercise/2026-10-22/
LOCATION:Gympie Aquatic Centre\, Tozer Park Road\, Gympie\, QLD\, 4570\, Australia
CATEGORIES:Welfare,Welfare Weekly
ATTACH;FMTTYPE=image/jpeg:https://gympiersl.com.au/wp-content/uploads/2024/05/Gympie-RSL-Web-Event-Featured_Chair-Yoga.jpg
END:VEVENT
BEGIN:VEVENT
DTSTART;TZID=Australia/Brisbane:20261029T130000
DTEND;TZID=Australia/Brisbane:20261029T140000
DTSTAMP:20260421T220650
CREATED:20240509T222733Z
LAST-MODIFIED:20251215T015412Z
UID:10017459-1793278800-1793282400@gympiersl.com.au
SUMMARY:Chair Exercise
DESCRIPTION:Sit\, Stretch\, Breathe with Chair Exercise \nJoin us at Gympie Aquatic Recreation Centre\, every Thursday from 1pm for our Chair Exercise classes. \nEnjoy some low-impact fitness that improves strength\, mobility\, posture\, balance and helps reduce stress. \nAll ages and abilities welcome! \n  \nBOOK HERE
URL:https://gympiersl.com.au/event/chair-exercise/2026-10-29/
LOCATION:Gympie Aquatic Centre\, Tozer Park Road\, Gympie\, QLD\, 4570\, Australia
CATEGORIES:Welfare,Welfare Weekly
ATTACH;FMTTYPE=image/jpeg:https://gympiersl.com.au/wp-content/uploads/2024/05/Gympie-RSL-Web-Event-Featured_Chair-Yoga.jpg
END:VEVENT
BEGIN:VEVENT
DTSTART;TZID=Australia/Brisbane:20261105T130000
DTEND;TZID=Australia/Brisbane:20261105T140000
DTSTAMP:20260421T220650
CREATED:20240509T222733Z
LAST-MODIFIED:20251215T015412Z
UID:10017460-1793883600-1793887200@gympiersl.com.au
SUMMARY:Chair Exercise
DESCRIPTION:Sit\, Stretch\, Breathe with Chair Exercise \nJoin us at Gympie Aquatic Recreation Centre\, every Thursday from 1pm for our Chair Exercise classes. \nEnjoy some low-impact fitness that improves strength\, mobility\, posture\, balance and helps reduce stress. \nAll ages and abilities welcome! \n  \nBOOK HERE
URL:https://gympiersl.com.au/event/chair-exercise/2026-11-05/
LOCATION:Gympie Aquatic Centre\, Tozer Park Road\, Gympie\, QLD\, 4570\, Australia
CATEGORIES:Welfare,Welfare Weekly
ATTACH;FMTTYPE=image/jpeg:https://gympiersl.com.au/wp-content/uploads/2024/05/Gympie-RSL-Web-Event-Featured_Chair-Yoga.jpg
END:VEVENT
BEGIN:VEVENT
DTSTART;TZID=Australia/Brisbane:20261112T130000
DTEND;TZID=Australia/Brisbane:20261112T140000
DTSTAMP:20260421T220650
CREATED:20240509T222733Z
LAST-MODIFIED:20251215T015412Z
UID:10017461-1794488400-1794492000@gympiersl.com.au
SUMMARY:Chair Exercise
DESCRIPTION:Sit\, Stretch\, Breathe with Chair Exercise \nJoin us at Gympie Aquatic Recreation Centre\, every Thursday from 1pm for our Chair Exercise classes. \nEnjoy some low-impact fitness that improves strength\, mobility\, posture\, balance and helps reduce stress. \nAll ages and abilities welcome! \n  \nBOOK HERE
URL:https://gympiersl.com.au/event/chair-exercise/2026-11-12/
LOCATION:Gympie Aquatic Centre\, Tozer Park Road\, Gympie\, QLD\, 4570\, Australia
CATEGORIES:Welfare,Welfare Weekly
ATTACH;FMTTYPE=image/jpeg:https://gympiersl.com.au/wp-content/uploads/2024/05/Gympie-RSL-Web-Event-Featured_Chair-Yoga.jpg
END:VEVENT
END:VCALENDAR