BEGIN:VCALENDAR
VERSION:2.0
PRODID:-//Gympie RSL - ECPv6.15.20//NONSGML v1.0//EN
CALSCALE:GREGORIAN
METHOD:PUBLISH
X-WR-CALNAME:Gympie RSL
X-ORIGINAL-URL:https://gympiersl.com.au
X-WR-CALDESC:Events for Gympie RSL
REFRESH-INTERVAL;VALUE=DURATION:PT1H
X-Robots-Tag:noindex
X-PUBLISHED-TTL:PT1H
BEGIN:VTIMEZONE
TZID:Australia/Brisbane
BEGIN:STANDARD
TZOFFSETFROM:+1000
TZOFFSETTO:+1000
TZNAME:AEST
DTSTART:20250101T000000
END:STANDARD
END:VTIMEZONE
BEGIN:VEVENT
DTSTART;TZID=Australia/Brisbane:20260421T173000
DTEND;TZID=Australia/Brisbane:20260421T183000
DTSTAMP:20260421T020159
CREATED:20251015T001104Z
LAST-MODIFIED:20251015T002130Z
UID:10017157-1776792600-1776796200@gympiersl.com.au
SUMMARY:Choir
DESCRIPTION:Calling all Crooners! \nIf you love to sing\, then come along to Gympie Veteran Centre (39 Monkland St.) every Tuesday from 5:30pm and be part of our Choir. \nWe hold regular performances throughout the year. \nOpen to all members of the Gympie Community with any voice type and singing experience. \nFor more information\, please call 5483 7707 or email reception@gympiersla.com.au.
URL:https://gympiersl.com.au/event/choir-2/2026-04-21/
LOCATION:Veteran Services Centre\, 39 Monkland Street\, Gympie\, QLD\, 4570\, Australia
CATEGORIES:Welfare,Welfare Weekly
ATTACH;FMTTYPE=image/jpeg:https://gympiersl.com.au/wp-content/uploads/2024/05/Gympie-RSL-Web-Event-Featured_Choir.jpg
END:VEVENT
BEGIN:VEVENT
DTSTART;TZID=Australia/Brisbane:20260428T173000
DTEND;TZID=Australia/Brisbane:20260428T183000
DTSTAMP:20260421T020159
CREATED:20251015T001104Z
LAST-MODIFIED:20251015T002130Z
UID:10017158-1777397400-1777401000@gympiersl.com.au
SUMMARY:Choir
DESCRIPTION:Calling all Crooners! \nIf you love to sing\, then come along to Gympie Veteran Centre (39 Monkland St.) every Tuesday from 5:30pm and be part of our Choir. \nWe hold regular performances throughout the year. \nOpen to all members of the Gympie Community with any voice type and singing experience. \nFor more information\, please call 5483 7707 or email reception@gympiersla.com.au.
URL:https://gympiersl.com.au/event/choir-2/2026-04-28/
LOCATION:Veteran Services Centre\, 39 Monkland Street\, Gympie\, QLD\, 4570\, Australia
CATEGORIES:Welfare,Welfare Weekly
ATTACH;FMTTYPE=image/jpeg:https://gympiersl.com.au/wp-content/uploads/2024/05/Gympie-RSL-Web-Event-Featured_Choir.jpg
END:VEVENT
BEGIN:VEVENT
DTSTART;TZID=Australia/Brisbane:20260505T173000
DTEND;TZID=Australia/Brisbane:20260505T183000
DTSTAMP:20260421T020159
CREATED:20251015T001104Z
LAST-MODIFIED:20251015T002130Z
UID:10017159-1778002200-1778005800@gympiersl.com.au
SUMMARY:Choir
DESCRIPTION:Calling all Crooners! \nIf you love to sing\, then come along to Gympie Veteran Centre (39 Monkland St.) every Tuesday from 5:30pm and be part of our Choir. \nWe hold regular performances throughout the year. \nOpen to all members of the Gympie Community with any voice type and singing experience. \nFor more information\, please call 5483 7707 or email reception@gympiersla.com.au.
URL:https://gympiersl.com.au/event/choir-2/2026-05-05/
LOCATION:Veteran Services Centre\, 39 Monkland Street\, Gympie\, QLD\, 4570\, Australia
CATEGORIES:Welfare,Welfare Weekly
ATTACH;FMTTYPE=image/jpeg:https://gympiersl.com.au/wp-content/uploads/2024/05/Gympie-RSL-Web-Event-Featured_Choir.jpg
END:VEVENT
BEGIN:VEVENT
DTSTART;TZID=Australia/Brisbane:20260512T173000
DTEND;TZID=Australia/Brisbane:20260512T183000
DTSTAMP:20260421T020159
CREATED:20251015T001104Z
LAST-MODIFIED:20251015T002130Z
UID:10017160-1778607000-1778610600@gympiersl.com.au
SUMMARY:Choir
DESCRIPTION:Calling all Crooners! \nIf you love to sing\, then come along to Gympie Veteran Centre (39 Monkland St.) every Tuesday from 5:30pm and be part of our Choir. \nWe hold regular performances throughout the year. \nOpen to all members of the Gympie Community with any voice type and singing experience. \nFor more information\, please call 5483 7707 or email reception@gympiersla.com.au.
URL:https://gympiersl.com.au/event/choir-2/2026-05-12/
LOCATION:Veteran Services Centre\, 39 Monkland Street\, Gympie\, QLD\, 4570\, Australia
CATEGORIES:Welfare,Welfare Weekly
ATTACH;FMTTYPE=image/jpeg:https://gympiersl.com.au/wp-content/uploads/2024/05/Gympie-RSL-Web-Event-Featured_Choir.jpg
END:VEVENT
BEGIN:VEVENT
DTSTART;TZID=Australia/Brisbane:20260519T173000
DTEND;TZID=Australia/Brisbane:20260519T183000
DTSTAMP:20260421T020159
CREATED:20251015T001104Z
LAST-MODIFIED:20251015T002130Z
UID:10017161-1779211800-1779215400@gympiersl.com.au
SUMMARY:Choir
DESCRIPTION:Calling all Crooners! \nIf you love to sing\, then come along to Gympie Veteran Centre (39 Monkland St.) every Tuesday from 5:30pm and be part of our Choir. \nWe hold regular performances throughout the year. \nOpen to all members of the Gympie Community with any voice type and singing experience. \nFor more information\, please call 5483 7707 or email reception@gympiersla.com.au.
URL:https://gympiersl.com.au/event/choir-2/2026-05-19/
LOCATION:Veteran Services Centre\, 39 Monkland Street\, Gympie\, QLD\, 4570\, Australia
CATEGORIES:Welfare,Welfare Weekly
ATTACH;FMTTYPE=image/jpeg:https://gympiersl.com.au/wp-content/uploads/2024/05/Gympie-RSL-Web-Event-Featured_Choir.jpg
END:VEVENT
BEGIN:VEVENT
DTSTART;TZID=Australia/Brisbane:20260526T173000
DTEND;TZID=Australia/Brisbane:20260526T183000
DTSTAMP:20260421T020159
CREATED:20251015T001104Z
LAST-MODIFIED:20251015T002130Z
UID:10017162-1779816600-1779820200@gympiersl.com.au
SUMMARY:Choir
DESCRIPTION:Calling all Crooners! \nIf you love to sing\, then come along to Gympie Veteran Centre (39 Monkland St.) every Tuesday from 5:30pm and be part of our Choir. \nWe hold regular performances throughout the year. \nOpen to all members of the Gympie Community with any voice type and singing experience. \nFor more information\, please call 5483 7707 or email reception@gympiersla.com.au.
URL:https://gympiersl.com.au/event/choir-2/2026-05-26/
LOCATION:Veteran Services Centre\, 39 Monkland Street\, Gympie\, QLD\, 4570\, Australia
CATEGORIES:Welfare,Welfare Weekly
ATTACH;FMTTYPE=image/jpeg:https://gympiersl.com.au/wp-content/uploads/2024/05/Gympie-RSL-Web-Event-Featured_Choir.jpg
END:VEVENT
BEGIN:VEVENT
DTSTART;TZID=Australia/Brisbane:20260602T173000
DTEND;TZID=Australia/Brisbane:20260602T183000
DTSTAMP:20260421T020159
CREATED:20251015T001104Z
LAST-MODIFIED:20251015T002130Z
UID:10017163-1780421400-1780425000@gympiersl.com.au
SUMMARY:Choir
DESCRIPTION:Calling all Crooners! \nIf you love to sing\, then come along to Gympie Veteran Centre (39 Monkland St.) every Tuesday from 5:30pm and be part of our Choir. \nWe hold regular performances throughout the year. \nOpen to all members of the Gympie Community with any voice type and singing experience. \nFor more information\, please call 5483 7707 or email reception@gympiersla.com.au.
URL:https://gympiersl.com.au/event/choir-2/2026-06-02/
LOCATION:Veteran Services Centre\, 39 Monkland Street\, Gympie\, QLD\, 4570\, Australia
CATEGORIES:Welfare,Welfare Weekly
ATTACH;FMTTYPE=image/jpeg:https://gympiersl.com.au/wp-content/uploads/2024/05/Gympie-RSL-Web-Event-Featured_Choir.jpg
END:VEVENT
BEGIN:VEVENT
DTSTART;TZID=Australia/Brisbane:20260609T173000
DTEND;TZID=Australia/Brisbane:20260609T183000
DTSTAMP:20260421T020159
CREATED:20251015T001104Z
LAST-MODIFIED:20251015T002130Z
UID:10017164-1781026200-1781029800@gympiersl.com.au
SUMMARY:Choir
DESCRIPTION:Calling all Crooners! \nIf you love to sing\, then come along to Gympie Veteran Centre (39 Monkland St.) every Tuesday from 5:30pm and be part of our Choir. \nWe hold regular performances throughout the year. \nOpen to all members of the Gympie Community with any voice type and singing experience. \nFor more information\, please call 5483 7707 or email reception@gympiersla.com.au.
URL:https://gympiersl.com.au/event/choir-2/2026-06-09/
LOCATION:Veteran Services Centre\, 39 Monkland Street\, Gympie\, QLD\, 4570\, Australia
CATEGORIES:Welfare,Welfare Weekly
ATTACH;FMTTYPE=image/jpeg:https://gympiersl.com.au/wp-content/uploads/2024/05/Gympie-RSL-Web-Event-Featured_Choir.jpg
END:VEVENT
BEGIN:VEVENT
DTSTART;TZID=Australia/Brisbane:20260616T173000
DTEND;TZID=Australia/Brisbane:20260616T183000
DTSTAMP:20260421T020159
CREATED:20251015T001104Z
LAST-MODIFIED:20251015T002130Z
UID:10017165-1781631000-1781634600@gympiersl.com.au
SUMMARY:Choir
DESCRIPTION:Calling all Crooners! \nIf you love to sing\, then come along to Gympie Veteran Centre (39 Monkland St.) every Tuesday from 5:30pm and be part of our Choir. \nWe hold regular performances throughout the year. \nOpen to all members of the Gympie Community with any voice type and singing experience. \nFor more information\, please call 5483 7707 or email reception@gympiersla.com.au.
URL:https://gympiersl.com.au/event/choir-2/2026-06-16/
LOCATION:Veteran Services Centre\, 39 Monkland Street\, Gympie\, QLD\, 4570\, Australia
CATEGORIES:Welfare,Welfare Weekly
ATTACH;FMTTYPE=image/jpeg:https://gympiersl.com.au/wp-content/uploads/2024/05/Gympie-RSL-Web-Event-Featured_Choir.jpg
END:VEVENT
BEGIN:VEVENT
DTSTART;TZID=Australia/Brisbane:20260623T173000
DTEND;TZID=Australia/Brisbane:20260623T183000
DTSTAMP:20260421T020159
CREATED:20251015T001104Z
LAST-MODIFIED:20251015T002130Z
UID:10017166-1782235800-1782239400@gympiersl.com.au
SUMMARY:Choir
DESCRIPTION:Calling all Crooners! \nIf you love to sing\, then come along to Gympie Veteran Centre (39 Monkland St.) every Tuesday from 5:30pm and be part of our Choir. \nWe hold regular performances throughout the year. \nOpen to all members of the Gympie Community with any voice type and singing experience. \nFor more information\, please call 5483 7707 or email reception@gympiersla.com.au.
URL:https://gympiersl.com.au/event/choir-2/2026-06-23/
LOCATION:Veteran Services Centre\, 39 Monkland Street\, Gympie\, QLD\, 4570\, Australia
CATEGORIES:Welfare,Welfare Weekly
ATTACH;FMTTYPE=image/jpeg:https://gympiersl.com.au/wp-content/uploads/2024/05/Gympie-RSL-Web-Event-Featured_Choir.jpg
END:VEVENT
BEGIN:VEVENT
DTSTART;TZID=Australia/Brisbane:20260630T173000
DTEND;TZID=Australia/Brisbane:20260630T183000
DTSTAMP:20260421T020159
CREATED:20251015T001104Z
LAST-MODIFIED:20251015T002130Z
UID:10017167-1782840600-1782844200@gympiersl.com.au
SUMMARY:Choir
DESCRIPTION:Calling all Crooners! \nIf you love to sing\, then come along to Gympie Veteran Centre (39 Monkland St.) every Tuesday from 5:30pm and be part of our Choir. \nWe hold regular performances throughout the year. \nOpen to all members of the Gympie Community with any voice type and singing experience. \nFor more information\, please call 5483 7707 or email reception@gympiersla.com.au.
URL:https://gympiersl.com.au/event/choir-2/2026-06-30/
LOCATION:Veteran Services Centre\, 39 Monkland Street\, Gympie\, QLD\, 4570\, Australia
CATEGORIES:Welfare,Welfare Weekly
ATTACH;FMTTYPE=image/jpeg:https://gympiersl.com.au/wp-content/uploads/2024/05/Gympie-RSL-Web-Event-Featured_Choir.jpg
END:VEVENT
BEGIN:VEVENT
DTSTART;TZID=Australia/Brisbane:20260707T173000
DTEND;TZID=Australia/Brisbane:20260707T183000
DTSTAMP:20260421T020159
CREATED:20251015T001104Z
LAST-MODIFIED:20251015T002130Z
UID:10017168-1783445400-1783449000@gympiersl.com.au
SUMMARY:Choir
DESCRIPTION:Calling all Crooners! \nIf you love to sing\, then come along to Gympie Veteran Centre (39 Monkland St.) every Tuesday from 5:30pm and be part of our Choir. \nWe hold regular performances throughout the year. \nOpen to all members of the Gympie Community with any voice type and singing experience. \nFor more information\, please call 5483 7707 or email reception@gympiersla.com.au.
URL:https://gympiersl.com.au/event/choir-2/2026-07-07/
LOCATION:Veteran Services Centre\, 39 Monkland Street\, Gympie\, QLD\, 4570\, Australia
CATEGORIES:Welfare,Welfare Weekly
ATTACH;FMTTYPE=image/jpeg:https://gympiersl.com.au/wp-content/uploads/2024/05/Gympie-RSL-Web-Event-Featured_Choir.jpg
END:VEVENT
BEGIN:VEVENT
DTSTART;TZID=Australia/Brisbane:20260714T173000
DTEND;TZID=Australia/Brisbane:20260714T183000
DTSTAMP:20260421T020159
CREATED:20251015T001104Z
LAST-MODIFIED:20251015T002130Z
UID:10017169-1784050200-1784053800@gympiersl.com.au
SUMMARY:Choir
DESCRIPTION:Calling all Crooners! \nIf you love to sing\, then come along to Gympie Veteran Centre (39 Monkland St.) every Tuesday from 5:30pm and be part of our Choir. \nWe hold regular performances throughout the year. \nOpen to all members of the Gympie Community with any voice type and singing experience. \nFor more information\, please call 5483 7707 or email reception@gympiersla.com.au.
URL:https://gympiersl.com.au/event/choir-2/2026-07-14/
LOCATION:Veteran Services Centre\, 39 Monkland Street\, Gympie\, QLD\, 4570\, Australia
CATEGORIES:Welfare,Welfare Weekly
ATTACH;FMTTYPE=image/jpeg:https://gympiersl.com.au/wp-content/uploads/2024/05/Gympie-RSL-Web-Event-Featured_Choir.jpg
END:VEVENT
BEGIN:VEVENT
DTSTART;TZID=Australia/Brisbane:20260721T173000
DTEND;TZID=Australia/Brisbane:20260721T183000
DTSTAMP:20260421T020159
CREATED:20251015T001104Z
LAST-MODIFIED:20251015T002130Z
UID:10017170-1784655000-1784658600@gympiersl.com.au
SUMMARY:Choir
DESCRIPTION:Calling all Crooners! \nIf you love to sing\, then come along to Gympie Veteran Centre (39 Monkland St.) every Tuesday from 5:30pm and be part of our Choir. \nWe hold regular performances throughout the year. \nOpen to all members of the Gympie Community with any voice type and singing experience. \nFor more information\, please call 5483 7707 or email reception@gympiersla.com.au.
URL:https://gympiersl.com.au/event/choir-2/2026-07-21/
LOCATION:Veteran Services Centre\, 39 Monkland Street\, Gympie\, QLD\, 4570\, Australia
CATEGORIES:Welfare,Welfare Weekly
ATTACH;FMTTYPE=image/jpeg:https://gympiersl.com.au/wp-content/uploads/2024/05/Gympie-RSL-Web-Event-Featured_Choir.jpg
END:VEVENT
BEGIN:VEVENT
DTSTART;TZID=Australia/Brisbane:20260728T173000
DTEND;TZID=Australia/Brisbane:20260728T183000
DTSTAMP:20260421T020159
CREATED:20251015T001104Z
LAST-MODIFIED:20251015T002130Z
UID:10017171-1785259800-1785263400@gympiersl.com.au
SUMMARY:Choir
DESCRIPTION:Calling all Crooners! \nIf you love to sing\, then come along to Gympie Veteran Centre (39 Monkland St.) every Tuesday from 5:30pm and be part of our Choir. \nWe hold regular performances throughout the year. \nOpen to all members of the Gympie Community with any voice type and singing experience. \nFor more information\, please call 5483 7707 or email reception@gympiersla.com.au.
URL:https://gympiersl.com.au/event/choir-2/2026-07-28/
LOCATION:Veteran Services Centre\, 39 Monkland Street\, Gympie\, QLD\, 4570\, Australia
CATEGORIES:Welfare,Welfare Weekly
ATTACH;FMTTYPE=image/jpeg:https://gympiersl.com.au/wp-content/uploads/2024/05/Gympie-RSL-Web-Event-Featured_Choir.jpg
END:VEVENT
BEGIN:VEVENT
DTSTART;TZID=Australia/Brisbane:20260804T173000
DTEND;TZID=Australia/Brisbane:20260804T183000
DTSTAMP:20260421T020159
CREATED:20251015T001104Z
LAST-MODIFIED:20251015T002130Z
UID:10017172-1785864600-1785868200@gympiersl.com.au
SUMMARY:Choir
DESCRIPTION:Calling all Crooners! \nIf you love to sing\, then come along to Gympie Veteran Centre (39 Monkland St.) every Tuesday from 5:30pm and be part of our Choir. \nWe hold regular performances throughout the year. \nOpen to all members of the Gympie Community with any voice type and singing experience. \nFor more information\, please call 5483 7707 or email reception@gympiersla.com.au.
URL:https://gympiersl.com.au/event/choir-2/2026-08-04/
LOCATION:Veteran Services Centre\, 39 Monkland Street\, Gympie\, QLD\, 4570\, Australia
CATEGORIES:Welfare,Welfare Weekly
ATTACH;FMTTYPE=image/jpeg:https://gympiersl.com.au/wp-content/uploads/2024/05/Gympie-RSL-Web-Event-Featured_Choir.jpg
END:VEVENT
BEGIN:VEVENT
DTSTART;TZID=Australia/Brisbane:20260811T173000
DTEND;TZID=Australia/Brisbane:20260811T183000
DTSTAMP:20260421T020159
CREATED:20251015T001104Z
LAST-MODIFIED:20251015T002130Z
UID:10017173-1786469400-1786473000@gympiersl.com.au
SUMMARY:Choir
DESCRIPTION:Calling all Crooners! \nIf you love to sing\, then come along to Gympie Veteran Centre (39 Monkland St.) every Tuesday from 5:30pm and be part of our Choir. \nWe hold regular performances throughout the year. \nOpen to all members of the Gympie Community with any voice type and singing experience. \nFor more information\, please call 5483 7707 or email reception@gympiersla.com.au.
URL:https://gympiersl.com.au/event/choir-2/2026-08-11/
LOCATION:Veteran Services Centre\, 39 Monkland Street\, Gympie\, QLD\, 4570\, Australia
CATEGORIES:Welfare,Welfare Weekly
ATTACH;FMTTYPE=image/jpeg:https://gympiersl.com.au/wp-content/uploads/2024/05/Gympie-RSL-Web-Event-Featured_Choir.jpg
END:VEVENT
BEGIN:VEVENT
DTSTART;TZID=Australia/Brisbane:20260818T173000
DTEND;TZID=Australia/Brisbane:20260818T183000
DTSTAMP:20260421T020159
CREATED:20251015T001104Z
LAST-MODIFIED:20251015T002130Z
UID:10017174-1787074200-1787077800@gympiersl.com.au
SUMMARY:Choir
DESCRIPTION:Calling all Crooners! \nIf you love to sing\, then come along to Gympie Veteran Centre (39 Monkland St.) every Tuesday from 5:30pm and be part of our Choir. \nWe hold regular performances throughout the year. \nOpen to all members of the Gympie Community with any voice type and singing experience. \nFor more information\, please call 5483 7707 or email reception@gympiersla.com.au.
URL:https://gympiersl.com.au/event/choir-2/2026-08-18/
LOCATION:Veteran Services Centre\, 39 Monkland Street\, Gympie\, QLD\, 4570\, Australia
CATEGORIES:Welfare,Welfare Weekly
ATTACH;FMTTYPE=image/jpeg:https://gympiersl.com.au/wp-content/uploads/2024/05/Gympie-RSL-Web-Event-Featured_Choir.jpg
END:VEVENT
BEGIN:VEVENT
DTSTART;TZID=Australia/Brisbane:20260825T173000
DTEND;TZID=Australia/Brisbane:20260825T183000
DTSTAMP:20260421T020159
CREATED:20251015T001104Z
LAST-MODIFIED:20251015T002130Z
UID:10017175-1787679000-1787682600@gympiersl.com.au
SUMMARY:Choir
DESCRIPTION:Calling all Crooners! \nIf you love to sing\, then come along to Gympie Veteran Centre (39 Monkland St.) every Tuesday from 5:30pm and be part of our Choir. \nWe hold regular performances throughout the year. \nOpen to all members of the Gympie Community with any voice type and singing experience. \nFor more information\, please call 5483 7707 or email reception@gympiersla.com.au.
URL:https://gympiersl.com.au/event/choir-2/2026-08-25/
LOCATION:Veteran Services Centre\, 39 Monkland Street\, Gympie\, QLD\, 4570\, Australia
CATEGORIES:Welfare,Welfare Weekly
ATTACH;FMTTYPE=image/jpeg:https://gympiersl.com.au/wp-content/uploads/2024/05/Gympie-RSL-Web-Event-Featured_Choir.jpg
END:VEVENT
BEGIN:VEVENT
DTSTART;TZID=Australia/Brisbane:20260901T173000
DTEND;TZID=Australia/Brisbane:20260901T183000
DTSTAMP:20260421T020159
CREATED:20251015T001104Z
LAST-MODIFIED:20251015T002130Z
UID:10017176-1788283800-1788287400@gympiersl.com.au
SUMMARY:Choir
DESCRIPTION:Calling all Crooners! \nIf you love to sing\, then come along to Gympie Veteran Centre (39 Monkland St.) every Tuesday from 5:30pm and be part of our Choir. \nWe hold regular performances throughout the year. \nOpen to all members of the Gympie Community with any voice type and singing experience. \nFor more information\, please call 5483 7707 or email reception@gympiersla.com.au.
URL:https://gympiersl.com.au/event/choir-2/2026-09-01/
LOCATION:Veteran Services Centre\, 39 Monkland Street\, Gympie\, QLD\, 4570\, Australia
CATEGORIES:Welfare,Welfare Weekly
ATTACH;FMTTYPE=image/jpeg:https://gympiersl.com.au/wp-content/uploads/2024/05/Gympie-RSL-Web-Event-Featured_Choir.jpg
END:VEVENT
BEGIN:VEVENT
DTSTART;TZID=Australia/Brisbane:20260908T173000
DTEND;TZID=Australia/Brisbane:20260908T183000
DTSTAMP:20260421T020159
CREATED:20251015T001104Z
LAST-MODIFIED:20251015T002130Z
UID:10017177-1788888600-1788892200@gympiersl.com.au
SUMMARY:Choir
DESCRIPTION:Calling all Crooners! \nIf you love to sing\, then come along to Gympie Veteran Centre (39 Monkland St.) every Tuesday from 5:30pm and be part of our Choir. \nWe hold regular performances throughout the year. \nOpen to all members of the Gympie Community with any voice type and singing experience. \nFor more information\, please call 5483 7707 or email reception@gympiersla.com.au.
URL:https://gympiersl.com.au/event/choir-2/2026-09-08/
LOCATION:Veteran Services Centre\, 39 Monkland Street\, Gympie\, QLD\, 4570\, Australia
CATEGORIES:Welfare,Welfare Weekly
ATTACH;FMTTYPE=image/jpeg:https://gympiersl.com.au/wp-content/uploads/2024/05/Gympie-RSL-Web-Event-Featured_Choir.jpg
END:VEVENT
BEGIN:VEVENT
DTSTART;TZID=Australia/Brisbane:20260915T173000
DTEND;TZID=Australia/Brisbane:20260915T183000
DTSTAMP:20260421T020159
CREATED:20251015T001104Z
LAST-MODIFIED:20251015T002130Z
UID:10017178-1789493400-1789497000@gympiersl.com.au
SUMMARY:Choir
DESCRIPTION:Calling all Crooners! \nIf you love to sing\, then come along to Gympie Veteran Centre (39 Monkland St.) every Tuesday from 5:30pm and be part of our Choir. \nWe hold regular performances throughout the year. \nOpen to all members of the Gympie Community with any voice type and singing experience. \nFor more information\, please call 5483 7707 or email reception@gympiersla.com.au.
URL:https://gympiersl.com.au/event/choir-2/2026-09-15/
LOCATION:Veteran Services Centre\, 39 Monkland Street\, Gympie\, QLD\, 4570\, Australia
CATEGORIES:Welfare,Welfare Weekly
ATTACH;FMTTYPE=image/jpeg:https://gympiersl.com.au/wp-content/uploads/2024/05/Gympie-RSL-Web-Event-Featured_Choir.jpg
END:VEVENT
BEGIN:VEVENT
DTSTART;TZID=Australia/Brisbane:20260922T173000
DTEND;TZID=Australia/Brisbane:20260922T183000
DTSTAMP:20260421T020159
CREATED:20251015T001104Z
LAST-MODIFIED:20251015T002130Z
UID:10017179-1790098200-1790101800@gympiersl.com.au
SUMMARY:Choir
DESCRIPTION:Calling all Crooners! \nIf you love to sing\, then come along to Gympie Veteran Centre (39 Monkland St.) every Tuesday from 5:30pm and be part of our Choir. \nWe hold regular performances throughout the year. \nOpen to all members of the Gympie Community with any voice type and singing experience. \nFor more information\, please call 5483 7707 or email reception@gympiersla.com.au.
URL:https://gympiersl.com.au/event/choir-2/2026-09-22/
LOCATION:Veteran Services Centre\, 39 Monkland Street\, Gympie\, QLD\, 4570\, Australia
CATEGORIES:Welfare,Welfare Weekly
ATTACH;FMTTYPE=image/jpeg:https://gympiersl.com.au/wp-content/uploads/2024/05/Gympie-RSL-Web-Event-Featured_Choir.jpg
END:VEVENT
BEGIN:VEVENT
DTSTART;TZID=Australia/Brisbane:20260929T173000
DTEND;TZID=Australia/Brisbane:20260929T183000
DTSTAMP:20260421T020159
CREATED:20251015T001104Z
LAST-MODIFIED:20251015T002130Z
UID:10017180-1790703000-1790706600@gympiersl.com.au
SUMMARY:Choir
DESCRIPTION:Calling all Crooners! \nIf you love to sing\, then come along to Gympie Veteran Centre (39 Monkland St.) every Tuesday from 5:30pm and be part of our Choir. \nWe hold regular performances throughout the year. \nOpen to all members of the Gympie Community with any voice type and singing experience. \nFor more information\, please call 5483 7707 or email reception@gympiersla.com.au.
URL:https://gympiersl.com.au/event/choir-2/2026-09-29/
LOCATION:Veteran Services Centre\, 39 Monkland Street\, Gympie\, QLD\, 4570\, Australia
CATEGORIES:Welfare,Welfare Weekly
ATTACH;FMTTYPE=image/jpeg:https://gympiersl.com.au/wp-content/uploads/2024/05/Gympie-RSL-Web-Event-Featured_Choir.jpg
END:VEVENT
BEGIN:VEVENT
DTSTART;TZID=Australia/Brisbane:20261006T173000
DTEND;TZID=Australia/Brisbane:20261006T183000
DTSTAMP:20260421T020159
CREATED:20251015T001104Z
LAST-MODIFIED:20251015T002130Z
UID:10017181-1791307800-1791311400@gympiersl.com.au
SUMMARY:Choir
DESCRIPTION:Calling all Crooners! \nIf you love to sing\, then come along to Gympie Veteran Centre (39 Monkland St.) every Tuesday from 5:30pm and be part of our Choir. \nWe hold regular performances throughout the year. \nOpen to all members of the Gympie Community with any voice type and singing experience. \nFor more information\, please call 5483 7707 or email reception@gympiersla.com.au.
URL:https://gympiersl.com.au/event/choir-2/2026-10-06/
LOCATION:Veteran Services Centre\, 39 Monkland Street\, Gympie\, QLD\, 4570\, Australia
CATEGORIES:Welfare,Welfare Weekly
ATTACH;FMTTYPE=image/jpeg:https://gympiersl.com.au/wp-content/uploads/2024/05/Gympie-RSL-Web-Event-Featured_Choir.jpg
END:VEVENT
BEGIN:VEVENT
DTSTART;TZID=Australia/Brisbane:20261013T173000
DTEND;TZID=Australia/Brisbane:20261013T183000
DTSTAMP:20260421T020159
CREATED:20251015T001104Z
LAST-MODIFIED:20251015T002130Z
UID:10017182-1791912600-1791916200@gympiersl.com.au
SUMMARY:Choir
DESCRIPTION:Calling all Crooners! \nIf you love to sing\, then come along to Gympie Veteran Centre (39 Monkland St.) every Tuesday from 5:30pm and be part of our Choir. \nWe hold regular performances throughout the year. \nOpen to all members of the Gympie Community with any voice type and singing experience. \nFor more information\, please call 5483 7707 or email reception@gympiersla.com.au.
URL:https://gympiersl.com.au/event/choir-2/2026-10-13/
LOCATION:Veteran Services Centre\, 39 Monkland Street\, Gympie\, QLD\, 4570\, Australia
CATEGORIES:Welfare,Welfare Weekly
ATTACH;FMTTYPE=image/jpeg:https://gympiersl.com.au/wp-content/uploads/2024/05/Gympie-RSL-Web-Event-Featured_Choir.jpg
END:VEVENT
BEGIN:VEVENT
DTSTART;TZID=Australia/Brisbane:20261020T173000
DTEND;TZID=Australia/Brisbane:20261020T183000
DTSTAMP:20260421T020159
CREATED:20251015T001104Z
LAST-MODIFIED:20251015T002130Z
UID:10017183-1792517400-1792521000@gympiersl.com.au
SUMMARY:Choir
DESCRIPTION:Calling all Crooners! \nIf you love to sing\, then come along to Gympie Veteran Centre (39 Monkland St.) every Tuesday from 5:30pm and be part of our Choir. \nWe hold regular performances throughout the year. \nOpen to all members of the Gympie Community with any voice type and singing experience. \nFor more information\, please call 5483 7707 or email reception@gympiersla.com.au.
URL:https://gympiersl.com.au/event/choir-2/2026-10-20/
LOCATION:Veteran Services Centre\, 39 Monkland Street\, Gympie\, QLD\, 4570\, Australia
CATEGORIES:Welfare,Welfare Weekly
ATTACH;FMTTYPE=image/jpeg:https://gympiersl.com.au/wp-content/uploads/2024/05/Gympie-RSL-Web-Event-Featured_Choir.jpg
END:VEVENT
BEGIN:VEVENT
DTSTART;TZID=Australia/Brisbane:20261027T173000
DTEND;TZID=Australia/Brisbane:20261027T183000
DTSTAMP:20260421T020159
CREATED:20251015T001104Z
LAST-MODIFIED:20251015T002130Z
UID:10017184-1793122200-1793125800@gympiersl.com.au
SUMMARY:Choir
DESCRIPTION:Calling all Crooners! \nIf you love to sing\, then come along to Gympie Veteran Centre (39 Monkland St.) every Tuesday from 5:30pm and be part of our Choir. \nWe hold regular performances throughout the year. \nOpen to all members of the Gympie Community with any voice type and singing experience. \nFor more information\, please call 5483 7707 or email reception@gympiersla.com.au.
URL:https://gympiersl.com.au/event/choir-2/2026-10-27/
LOCATION:Veteran Services Centre\, 39 Monkland Street\, Gympie\, QLD\, 4570\, Australia
CATEGORIES:Welfare,Welfare Weekly
ATTACH;FMTTYPE=image/jpeg:https://gympiersl.com.au/wp-content/uploads/2024/05/Gympie-RSL-Web-Event-Featured_Choir.jpg
END:VEVENT
BEGIN:VEVENT
DTSTART;TZID=Australia/Brisbane:20261103T173000
DTEND;TZID=Australia/Brisbane:20261103T183000
DTSTAMP:20260421T020159
CREATED:20251015T001104Z
LAST-MODIFIED:20251015T002130Z
UID:10017185-1793727000-1793730600@gympiersl.com.au
SUMMARY:Choir
DESCRIPTION:Calling all Crooners! \nIf you love to sing\, then come along to Gympie Veteran Centre (39 Monkland St.) every Tuesday from 5:30pm and be part of our Choir. \nWe hold regular performances throughout the year. \nOpen to all members of the Gympie Community with any voice type and singing experience. \nFor more information\, please call 5483 7707 or email reception@gympiersla.com.au.
URL:https://gympiersl.com.au/event/choir-2/2026-11-03/
LOCATION:Veteran Services Centre\, 39 Monkland Street\, Gympie\, QLD\, 4570\, Australia
CATEGORIES:Welfare,Welfare Weekly
ATTACH;FMTTYPE=image/jpeg:https://gympiersl.com.au/wp-content/uploads/2024/05/Gympie-RSL-Web-Event-Featured_Choir.jpg
END:VEVENT
BEGIN:VEVENT
DTSTART;TZID=Australia/Brisbane:20261110T173000
DTEND;TZID=Australia/Brisbane:20261110T183000
DTSTAMP:20260421T020159
CREATED:20251015T001104Z
LAST-MODIFIED:20251015T002130Z
UID:10017186-1794331800-1794335400@gympiersl.com.au
SUMMARY:Choir
DESCRIPTION:Calling all Crooners! \nIf you love to sing\, then come along to Gympie Veteran Centre (39 Monkland St.) every Tuesday from 5:30pm and be part of our Choir. \nWe hold regular performances throughout the year. \nOpen to all members of the Gympie Community with any voice type and singing experience. \nFor more information\, please call 5483 7707 or email reception@gympiersla.com.au.
URL:https://gympiersl.com.au/event/choir-2/2026-11-10/
LOCATION:Veteran Services Centre\, 39 Monkland Street\, Gympie\, QLD\, 4570\, Australia
CATEGORIES:Welfare,Welfare Weekly
ATTACH;FMTTYPE=image/jpeg:https://gympiersl.com.au/wp-content/uploads/2024/05/Gympie-RSL-Web-Event-Featured_Choir.jpg
END:VEVENT
END:VCALENDAR