BEGIN:VCALENDAR
VERSION:2.0
PRODID:-//Gympie RSL - ECPv6.15.20//NONSGML v1.0//EN
CALSCALE:GREGORIAN
METHOD:PUBLISH
X-WR-CALNAME:Gympie RSL
X-ORIGINAL-URL:https://gympiersl.com.au
X-WR-CALDESC:Events for Gympie RSL
REFRESH-INTERVAL;VALUE=DURATION:PT1H
X-Robots-Tag:noindex
X-PUBLISHED-TTL:PT1H
BEGIN:VTIMEZONE
TZID:Australia/Brisbane
BEGIN:STANDARD
TZOFFSETFROM:+1000
TZOFFSETTO:+1000
TZNAME:AEST
DTSTART:20250101T000000
END:STANDARD
END:VTIMEZONE
BEGIN:VEVENT
DTSTART;TZID=Australia/Brisbane:20260424T130000
DTEND;TZID=Australia/Brisbane:20260424T140000
DTSTAMP:20260420T220059
CREATED:20240509T222403Z
LAST-MODIFIED:20251215T020538Z
UID:10016374-1777035600-1777039200@gympiersl.com.au
SUMMARY:Splash Aerobics
DESCRIPTION:Join in the fun at our low-impact pool workout sessions! \nEvery Friday from 1pm at Gympie Aquatic Centre. \nOpen to Veterans and their partners/carers. \nFor more information\, call 5483 7707 or email events@gympiersla.com.au. \n  \nBOOK HERE
URL:https://gympiersl.com.au/event/splash-aerobics/2026-04-24/
LOCATION:Gympie Aquatic Centre\, Tozer Park Road\, Gympie\, QLD\, 4570\, Australia
CATEGORIES:Welfare,Welfare Weekly
ATTACH;FMTTYPE=image/jpeg:https://gympiersl.com.au/wp-content/uploads/2024/05/Gympie-RSL-Web-Event-Featured_Splash-Aerobics.jpg
END:VEVENT
BEGIN:VEVENT
DTSTART;TZID=Australia/Brisbane:20260501T130000
DTEND;TZID=Australia/Brisbane:20260501T140000
DTSTAMP:20260420T220059
CREATED:20240509T222403Z
LAST-MODIFIED:20251215T020538Z
UID:10016375-1777640400-1777644000@gympiersl.com.au
SUMMARY:Splash Aerobics
DESCRIPTION:Join in the fun at our low-impact pool workout sessions! \nEvery Friday from 1pm at Gympie Aquatic Centre. \nOpen to Veterans and their partners/carers. \nFor more information\, call 5483 7707 or email events@gympiersla.com.au. \n  \nBOOK HERE
URL:https://gympiersl.com.au/event/splash-aerobics/2026-05-01/
LOCATION:Gympie Aquatic Centre\, Tozer Park Road\, Gympie\, QLD\, 4570\, Australia
CATEGORIES:Welfare,Welfare Weekly
ATTACH;FMTTYPE=image/jpeg:https://gympiersl.com.au/wp-content/uploads/2024/05/Gympie-RSL-Web-Event-Featured_Splash-Aerobics.jpg
END:VEVENT
BEGIN:VEVENT
DTSTART;TZID=Australia/Brisbane:20260508T130000
DTEND;TZID=Australia/Brisbane:20260508T140000
DTSTAMP:20260420T220059
CREATED:20240509T222403Z
LAST-MODIFIED:20251215T020538Z
UID:10016376-1778245200-1778248800@gympiersl.com.au
SUMMARY:Splash Aerobics
DESCRIPTION:Join in the fun at our low-impact pool workout sessions! \nEvery Friday from 1pm at Gympie Aquatic Centre. \nOpen to Veterans and their partners/carers. \nFor more information\, call 5483 7707 or email events@gympiersla.com.au. \n  \nBOOK HERE
URL:https://gympiersl.com.au/event/splash-aerobics/2026-05-08/
LOCATION:Gympie Aquatic Centre\, Tozer Park Road\, Gympie\, QLD\, 4570\, Australia
CATEGORIES:Welfare,Welfare Weekly
ATTACH;FMTTYPE=image/jpeg:https://gympiersl.com.au/wp-content/uploads/2024/05/Gympie-RSL-Web-Event-Featured_Splash-Aerobics.jpg
END:VEVENT
BEGIN:VEVENT
DTSTART;TZID=Australia/Brisbane:20260515T130000
DTEND;TZID=Australia/Brisbane:20260515T140000
DTSTAMP:20260420T220059
CREATED:20240509T222403Z
LAST-MODIFIED:20251215T020538Z
UID:10016377-1778850000-1778853600@gympiersl.com.au
SUMMARY:Splash Aerobics
DESCRIPTION:Join in the fun at our low-impact pool workout sessions! \nEvery Friday from 1pm at Gympie Aquatic Centre. \nOpen to Veterans and their partners/carers. \nFor more information\, call 5483 7707 or email events@gympiersla.com.au. \n  \nBOOK HERE
URL:https://gympiersl.com.au/event/splash-aerobics/2026-05-15/
LOCATION:Gympie Aquatic Centre\, Tozer Park Road\, Gympie\, QLD\, 4570\, Australia
CATEGORIES:Welfare,Welfare Weekly
ATTACH;FMTTYPE=image/jpeg:https://gympiersl.com.au/wp-content/uploads/2024/05/Gympie-RSL-Web-Event-Featured_Splash-Aerobics.jpg
END:VEVENT
BEGIN:VEVENT
DTSTART;TZID=Australia/Brisbane:20260522T130000
DTEND;TZID=Australia/Brisbane:20260522T140000
DTSTAMP:20260420T220059
CREATED:20240509T222403Z
LAST-MODIFIED:20251215T020538Z
UID:10016378-1779454800-1779458400@gympiersl.com.au
SUMMARY:Splash Aerobics
DESCRIPTION:Join in the fun at our low-impact pool workout sessions! \nEvery Friday from 1pm at Gympie Aquatic Centre. \nOpen to Veterans and their partners/carers. \nFor more information\, call 5483 7707 or email events@gympiersla.com.au. \n  \nBOOK HERE
URL:https://gympiersl.com.au/event/splash-aerobics/2026-05-22/
LOCATION:Gympie Aquatic Centre\, Tozer Park Road\, Gympie\, QLD\, 4570\, Australia
CATEGORIES:Welfare,Welfare Weekly
ATTACH;FMTTYPE=image/jpeg:https://gympiersl.com.au/wp-content/uploads/2024/05/Gympie-RSL-Web-Event-Featured_Splash-Aerobics.jpg
END:VEVENT
BEGIN:VEVENT
DTSTART;TZID=Australia/Brisbane:20260529T130000
DTEND;TZID=Australia/Brisbane:20260529T140000
DTSTAMP:20260420T220059
CREATED:20240509T222403Z
LAST-MODIFIED:20251215T020538Z
UID:10016379-1780059600-1780063200@gympiersl.com.au
SUMMARY:Splash Aerobics
DESCRIPTION:Join in the fun at our low-impact pool workout sessions! \nEvery Friday from 1pm at Gympie Aquatic Centre. \nOpen to Veterans and their partners/carers. \nFor more information\, call 5483 7707 or email events@gympiersla.com.au. \n  \nBOOK HERE
URL:https://gympiersl.com.au/event/splash-aerobics/2026-05-29/
LOCATION:Gympie Aquatic Centre\, Tozer Park Road\, Gympie\, QLD\, 4570\, Australia
CATEGORIES:Welfare,Welfare Weekly
ATTACH;FMTTYPE=image/jpeg:https://gympiersl.com.au/wp-content/uploads/2024/05/Gympie-RSL-Web-Event-Featured_Splash-Aerobics.jpg
END:VEVENT
BEGIN:VEVENT
DTSTART;TZID=Australia/Brisbane:20260605T130000
DTEND;TZID=Australia/Brisbane:20260605T140000
DTSTAMP:20260420T220059
CREATED:20240509T222403Z
LAST-MODIFIED:20251215T020538Z
UID:10016380-1780664400-1780668000@gympiersl.com.au
SUMMARY:Splash Aerobics
DESCRIPTION:Join in the fun at our low-impact pool workout sessions! \nEvery Friday from 1pm at Gympie Aquatic Centre. \nOpen to Veterans and their partners/carers. \nFor more information\, call 5483 7707 or email events@gympiersla.com.au. \n  \nBOOK HERE
URL:https://gympiersl.com.au/event/splash-aerobics/2026-06-05/
LOCATION:Gympie Aquatic Centre\, Tozer Park Road\, Gympie\, QLD\, 4570\, Australia
CATEGORIES:Welfare,Welfare Weekly
ATTACH;FMTTYPE=image/jpeg:https://gympiersl.com.au/wp-content/uploads/2024/05/Gympie-RSL-Web-Event-Featured_Splash-Aerobics.jpg
END:VEVENT
BEGIN:VEVENT
DTSTART;TZID=Australia/Brisbane:20260612T130000
DTEND;TZID=Australia/Brisbane:20260612T140000
DTSTAMP:20260420T220059
CREATED:20240509T222403Z
LAST-MODIFIED:20251215T020538Z
UID:10016381-1781269200-1781272800@gympiersl.com.au
SUMMARY:Splash Aerobics
DESCRIPTION:Join in the fun at our low-impact pool workout sessions! \nEvery Friday from 1pm at Gympie Aquatic Centre. \nOpen to Veterans and their partners/carers. \nFor more information\, call 5483 7707 or email events@gympiersla.com.au. \n  \nBOOK HERE
URL:https://gympiersl.com.au/event/splash-aerobics/2026-06-12/
LOCATION:Gympie Aquatic Centre\, Tozer Park Road\, Gympie\, QLD\, 4570\, Australia
CATEGORIES:Welfare,Welfare Weekly
ATTACH;FMTTYPE=image/jpeg:https://gympiersl.com.au/wp-content/uploads/2024/05/Gympie-RSL-Web-Event-Featured_Splash-Aerobics.jpg
END:VEVENT
BEGIN:VEVENT
DTSTART;TZID=Australia/Brisbane:20260619T130000
DTEND;TZID=Australia/Brisbane:20260619T140000
DTSTAMP:20260420T220059
CREATED:20240509T222403Z
LAST-MODIFIED:20251215T020538Z
UID:10016382-1781874000-1781877600@gympiersl.com.au
SUMMARY:Splash Aerobics
DESCRIPTION:Join in the fun at our low-impact pool workout sessions! \nEvery Friday from 1pm at Gympie Aquatic Centre. \nOpen to Veterans and their partners/carers. \nFor more information\, call 5483 7707 or email events@gympiersla.com.au. \n  \nBOOK HERE
URL:https://gympiersl.com.au/event/splash-aerobics/2026-06-19/
LOCATION:Gympie Aquatic Centre\, Tozer Park Road\, Gympie\, QLD\, 4570\, Australia
CATEGORIES:Welfare,Welfare Weekly
ATTACH;FMTTYPE=image/jpeg:https://gympiersl.com.au/wp-content/uploads/2024/05/Gympie-RSL-Web-Event-Featured_Splash-Aerobics.jpg
END:VEVENT
BEGIN:VEVENT
DTSTART;TZID=Australia/Brisbane:20260626T130000
DTEND;TZID=Australia/Brisbane:20260626T140000
DTSTAMP:20260420T220059
CREATED:20240509T222403Z
LAST-MODIFIED:20251215T020538Z
UID:10016383-1782478800-1782482400@gympiersl.com.au
SUMMARY:Splash Aerobics
DESCRIPTION:Join in the fun at our low-impact pool workout sessions! \nEvery Friday from 1pm at Gympie Aquatic Centre. \nOpen to Veterans and their partners/carers. \nFor more information\, call 5483 7707 or email events@gympiersla.com.au. \n  \nBOOK HERE
URL:https://gympiersl.com.au/event/splash-aerobics/2026-06-26/
LOCATION:Gympie Aquatic Centre\, Tozer Park Road\, Gympie\, QLD\, 4570\, Australia
CATEGORIES:Welfare,Welfare Weekly
ATTACH;FMTTYPE=image/jpeg:https://gympiersl.com.au/wp-content/uploads/2024/05/Gympie-RSL-Web-Event-Featured_Splash-Aerobics.jpg
END:VEVENT
BEGIN:VEVENT
DTSTART;TZID=Australia/Brisbane:20260703T130000
DTEND;TZID=Australia/Brisbane:20260703T140000
DTSTAMP:20260420T220059
CREATED:20240509T222403Z
LAST-MODIFIED:20251215T020538Z
UID:10016384-1783083600-1783087200@gympiersl.com.au
SUMMARY:Splash Aerobics
DESCRIPTION:Join in the fun at our low-impact pool workout sessions! \nEvery Friday from 1pm at Gympie Aquatic Centre. \nOpen to Veterans and their partners/carers. \nFor more information\, call 5483 7707 or email events@gympiersla.com.au. \n  \nBOOK HERE
URL:https://gympiersl.com.au/event/splash-aerobics/2026-07-03/
LOCATION:Gympie Aquatic Centre\, Tozer Park Road\, Gympie\, QLD\, 4570\, Australia
CATEGORIES:Welfare,Welfare Weekly
ATTACH;FMTTYPE=image/jpeg:https://gympiersl.com.au/wp-content/uploads/2024/05/Gympie-RSL-Web-Event-Featured_Splash-Aerobics.jpg
END:VEVENT
BEGIN:VEVENT
DTSTART;TZID=Australia/Brisbane:20260710T130000
DTEND;TZID=Australia/Brisbane:20260710T140000
DTSTAMP:20260420T220059
CREATED:20240509T222403Z
LAST-MODIFIED:20251215T020538Z
UID:10016385-1783688400-1783692000@gympiersl.com.au
SUMMARY:Splash Aerobics
DESCRIPTION:Join in the fun at our low-impact pool workout sessions! \nEvery Friday from 1pm at Gympie Aquatic Centre. \nOpen to Veterans and their partners/carers. \nFor more information\, call 5483 7707 or email events@gympiersla.com.au. \n  \nBOOK HERE
URL:https://gympiersl.com.au/event/splash-aerobics/2026-07-10/
LOCATION:Gympie Aquatic Centre\, Tozer Park Road\, Gympie\, QLD\, 4570\, Australia
CATEGORIES:Welfare,Welfare Weekly
ATTACH;FMTTYPE=image/jpeg:https://gympiersl.com.au/wp-content/uploads/2024/05/Gympie-RSL-Web-Event-Featured_Splash-Aerobics.jpg
END:VEVENT
BEGIN:VEVENT
DTSTART;TZID=Australia/Brisbane:20260717T130000
DTEND;TZID=Australia/Brisbane:20260717T140000
DTSTAMP:20260420T220059
CREATED:20240509T222403Z
LAST-MODIFIED:20251215T020538Z
UID:10016386-1784293200-1784296800@gympiersl.com.au
SUMMARY:Splash Aerobics
DESCRIPTION:Join in the fun at our low-impact pool workout sessions! \nEvery Friday from 1pm at Gympie Aquatic Centre. \nOpen to Veterans and their partners/carers. \nFor more information\, call 5483 7707 or email events@gympiersla.com.au. \n  \nBOOK HERE
URL:https://gympiersl.com.au/event/splash-aerobics/2026-07-17/
LOCATION:Gympie Aquatic Centre\, Tozer Park Road\, Gympie\, QLD\, 4570\, Australia
CATEGORIES:Welfare,Welfare Weekly
ATTACH;FMTTYPE=image/jpeg:https://gympiersl.com.au/wp-content/uploads/2024/05/Gympie-RSL-Web-Event-Featured_Splash-Aerobics.jpg
END:VEVENT
BEGIN:VEVENT
DTSTART;TZID=Australia/Brisbane:20260724T130000
DTEND;TZID=Australia/Brisbane:20260724T140000
DTSTAMP:20260420T220059
CREATED:20240509T222403Z
LAST-MODIFIED:20251215T020538Z
UID:10016387-1784898000-1784901600@gympiersl.com.au
SUMMARY:Splash Aerobics
DESCRIPTION:Join in the fun at our low-impact pool workout sessions! \nEvery Friday from 1pm at Gympie Aquatic Centre. \nOpen to Veterans and their partners/carers. \nFor more information\, call 5483 7707 or email events@gympiersla.com.au. \n  \nBOOK HERE
URL:https://gympiersl.com.au/event/splash-aerobics/2026-07-24/
LOCATION:Gympie Aquatic Centre\, Tozer Park Road\, Gympie\, QLD\, 4570\, Australia
CATEGORIES:Welfare,Welfare Weekly
ATTACH;FMTTYPE=image/jpeg:https://gympiersl.com.au/wp-content/uploads/2024/05/Gympie-RSL-Web-Event-Featured_Splash-Aerobics.jpg
END:VEVENT
BEGIN:VEVENT
DTSTART;TZID=Australia/Brisbane:20260731T130000
DTEND;TZID=Australia/Brisbane:20260731T140000
DTSTAMP:20260420T220059
CREATED:20240509T222403Z
LAST-MODIFIED:20251215T020538Z
UID:10016388-1785502800-1785506400@gympiersl.com.au
SUMMARY:Splash Aerobics
DESCRIPTION:Join in the fun at our low-impact pool workout sessions! \nEvery Friday from 1pm at Gympie Aquatic Centre. \nOpen to Veterans and their partners/carers. \nFor more information\, call 5483 7707 or email events@gympiersla.com.au. \n  \nBOOK HERE
URL:https://gympiersl.com.au/event/splash-aerobics/2026-07-31/
LOCATION:Gympie Aquatic Centre\, Tozer Park Road\, Gympie\, QLD\, 4570\, Australia
CATEGORIES:Welfare,Welfare Weekly
ATTACH;FMTTYPE=image/jpeg:https://gympiersl.com.au/wp-content/uploads/2024/05/Gympie-RSL-Web-Event-Featured_Splash-Aerobics.jpg
END:VEVENT
BEGIN:VEVENT
DTSTART;TZID=Australia/Brisbane:20260807T130000
DTEND;TZID=Australia/Brisbane:20260807T140000
DTSTAMP:20260420T220059
CREATED:20240509T222403Z
LAST-MODIFIED:20251215T020538Z
UID:10016389-1786107600-1786111200@gympiersl.com.au
SUMMARY:Splash Aerobics
DESCRIPTION:Join in the fun at our low-impact pool workout sessions! \nEvery Friday from 1pm at Gympie Aquatic Centre. \nOpen to Veterans and their partners/carers. \nFor more information\, call 5483 7707 or email events@gympiersla.com.au. \n  \nBOOK HERE
URL:https://gympiersl.com.au/event/splash-aerobics/2026-08-07/
LOCATION:Gympie Aquatic Centre\, Tozer Park Road\, Gympie\, QLD\, 4570\, Australia
CATEGORIES:Welfare,Welfare Weekly
ATTACH;FMTTYPE=image/jpeg:https://gympiersl.com.au/wp-content/uploads/2024/05/Gympie-RSL-Web-Event-Featured_Splash-Aerobics.jpg
END:VEVENT
BEGIN:VEVENT
DTSTART;TZID=Australia/Brisbane:20260814T130000
DTEND;TZID=Australia/Brisbane:20260814T140000
DTSTAMP:20260420T220059
CREATED:20240509T222403Z
LAST-MODIFIED:20251215T020538Z
UID:10016390-1786712400-1786716000@gympiersl.com.au
SUMMARY:Splash Aerobics
DESCRIPTION:Join in the fun at our low-impact pool workout sessions! \nEvery Friday from 1pm at Gympie Aquatic Centre. \nOpen to Veterans and their partners/carers. \nFor more information\, call 5483 7707 or email events@gympiersla.com.au. \n  \nBOOK HERE
URL:https://gympiersl.com.au/event/splash-aerobics/2026-08-14/
LOCATION:Gympie Aquatic Centre\, Tozer Park Road\, Gympie\, QLD\, 4570\, Australia
CATEGORIES:Welfare,Welfare Weekly
ATTACH;FMTTYPE=image/jpeg:https://gympiersl.com.au/wp-content/uploads/2024/05/Gympie-RSL-Web-Event-Featured_Splash-Aerobics.jpg
END:VEVENT
BEGIN:VEVENT
DTSTART;TZID=Australia/Brisbane:20260821T130000
DTEND;TZID=Australia/Brisbane:20260821T140000
DTSTAMP:20260420T220059
CREATED:20240509T222403Z
LAST-MODIFIED:20251215T020538Z
UID:10016391-1787317200-1787320800@gympiersl.com.au
SUMMARY:Splash Aerobics
DESCRIPTION:Join in the fun at our low-impact pool workout sessions! \nEvery Friday from 1pm at Gympie Aquatic Centre. \nOpen to Veterans and their partners/carers. \nFor more information\, call 5483 7707 or email events@gympiersla.com.au. \n  \nBOOK HERE
URL:https://gympiersl.com.au/event/splash-aerobics/2026-08-21/
LOCATION:Gympie Aquatic Centre\, Tozer Park Road\, Gympie\, QLD\, 4570\, Australia
CATEGORIES:Welfare,Welfare Weekly
ATTACH;FMTTYPE=image/jpeg:https://gympiersl.com.au/wp-content/uploads/2024/05/Gympie-RSL-Web-Event-Featured_Splash-Aerobics.jpg
END:VEVENT
BEGIN:VEVENT
DTSTART;TZID=Australia/Brisbane:20260828T130000
DTEND;TZID=Australia/Brisbane:20260828T140000
DTSTAMP:20260420T220059
CREATED:20240509T222403Z
LAST-MODIFIED:20251215T020538Z
UID:10016392-1787922000-1787925600@gympiersl.com.au
SUMMARY:Splash Aerobics
DESCRIPTION:Join in the fun at our low-impact pool workout sessions! \nEvery Friday from 1pm at Gympie Aquatic Centre. \nOpen to Veterans and their partners/carers. \nFor more information\, call 5483 7707 or email events@gympiersla.com.au. \n  \nBOOK HERE
URL:https://gympiersl.com.au/event/splash-aerobics/2026-08-28/
LOCATION:Gympie Aquatic Centre\, Tozer Park Road\, Gympie\, QLD\, 4570\, Australia
CATEGORIES:Welfare,Welfare Weekly
ATTACH;FMTTYPE=image/jpeg:https://gympiersl.com.au/wp-content/uploads/2024/05/Gympie-RSL-Web-Event-Featured_Splash-Aerobics.jpg
END:VEVENT
BEGIN:VEVENT
DTSTART;TZID=Australia/Brisbane:20260904T130000
DTEND;TZID=Australia/Brisbane:20260904T140000
DTSTAMP:20260420T220059
CREATED:20240509T222403Z
LAST-MODIFIED:20251215T020538Z
UID:10016393-1788526800-1788530400@gympiersl.com.au
SUMMARY:Splash Aerobics
DESCRIPTION:Join in the fun at our low-impact pool workout sessions! \nEvery Friday from 1pm at Gympie Aquatic Centre. \nOpen to Veterans and their partners/carers. \nFor more information\, call 5483 7707 or email events@gympiersla.com.au. \n  \nBOOK HERE
URL:https://gympiersl.com.au/event/splash-aerobics/2026-09-04/
LOCATION:Gympie Aquatic Centre\, Tozer Park Road\, Gympie\, QLD\, 4570\, Australia
CATEGORIES:Welfare,Welfare Weekly
ATTACH;FMTTYPE=image/jpeg:https://gympiersl.com.au/wp-content/uploads/2024/05/Gympie-RSL-Web-Event-Featured_Splash-Aerobics.jpg
END:VEVENT
BEGIN:VEVENT
DTSTART;TZID=Australia/Brisbane:20260911T130000
DTEND;TZID=Australia/Brisbane:20260911T140000
DTSTAMP:20260420T220059
CREATED:20240509T222403Z
LAST-MODIFIED:20251215T020538Z
UID:10016394-1789131600-1789135200@gympiersl.com.au
SUMMARY:Splash Aerobics
DESCRIPTION:Join in the fun at our low-impact pool workout sessions! \nEvery Friday from 1pm at Gympie Aquatic Centre. \nOpen to Veterans and their partners/carers. \nFor more information\, call 5483 7707 or email events@gympiersla.com.au. \n  \nBOOK HERE
URL:https://gympiersl.com.au/event/splash-aerobics/2026-09-11/
LOCATION:Gympie Aquatic Centre\, Tozer Park Road\, Gympie\, QLD\, 4570\, Australia
CATEGORIES:Welfare,Welfare Weekly
ATTACH;FMTTYPE=image/jpeg:https://gympiersl.com.au/wp-content/uploads/2024/05/Gympie-RSL-Web-Event-Featured_Splash-Aerobics.jpg
END:VEVENT
BEGIN:VEVENT
DTSTART;TZID=Australia/Brisbane:20260918T130000
DTEND;TZID=Australia/Brisbane:20260918T140000
DTSTAMP:20260420T220059
CREATED:20240509T222403Z
LAST-MODIFIED:20251215T020538Z
UID:10016395-1789736400-1789740000@gympiersl.com.au
SUMMARY:Splash Aerobics
DESCRIPTION:Join in the fun at our low-impact pool workout sessions! \nEvery Friday from 1pm at Gympie Aquatic Centre. \nOpen to Veterans and their partners/carers. \nFor more information\, call 5483 7707 or email events@gympiersla.com.au. \n  \nBOOK HERE
URL:https://gympiersl.com.au/event/splash-aerobics/2026-09-18/
LOCATION:Gympie Aquatic Centre\, Tozer Park Road\, Gympie\, QLD\, 4570\, Australia
CATEGORIES:Welfare,Welfare Weekly
ATTACH;FMTTYPE=image/jpeg:https://gympiersl.com.au/wp-content/uploads/2024/05/Gympie-RSL-Web-Event-Featured_Splash-Aerobics.jpg
END:VEVENT
BEGIN:VEVENT
DTSTART;TZID=Australia/Brisbane:20260925T130000
DTEND;TZID=Australia/Brisbane:20260925T140000
DTSTAMP:20260420T220059
CREATED:20240509T222403Z
LAST-MODIFIED:20251215T020538Z
UID:10016396-1790341200-1790344800@gympiersl.com.au
SUMMARY:Splash Aerobics
DESCRIPTION:Join in the fun at our low-impact pool workout sessions! \nEvery Friday from 1pm at Gympie Aquatic Centre. \nOpen to Veterans and their partners/carers. \nFor more information\, call 5483 7707 or email events@gympiersla.com.au. \n  \nBOOK HERE
URL:https://gympiersl.com.au/event/splash-aerobics/2026-09-25/
LOCATION:Gympie Aquatic Centre\, Tozer Park Road\, Gympie\, QLD\, 4570\, Australia
CATEGORIES:Welfare,Welfare Weekly
ATTACH;FMTTYPE=image/jpeg:https://gympiersl.com.au/wp-content/uploads/2024/05/Gympie-RSL-Web-Event-Featured_Splash-Aerobics.jpg
END:VEVENT
BEGIN:VEVENT
DTSTART;TZID=Australia/Brisbane:20261002T130000
DTEND;TZID=Australia/Brisbane:20261002T140000
DTSTAMP:20260420T220059
CREATED:20240509T222403Z
LAST-MODIFIED:20251215T020538Z
UID:10016397-1790946000-1790949600@gympiersl.com.au
SUMMARY:Splash Aerobics
DESCRIPTION:Join in the fun at our low-impact pool workout sessions! \nEvery Friday from 1pm at Gympie Aquatic Centre. \nOpen to Veterans and their partners/carers. \nFor more information\, call 5483 7707 or email events@gympiersla.com.au. \n  \nBOOK HERE
URL:https://gympiersl.com.au/event/splash-aerobics/2026-10-02/
LOCATION:Gympie Aquatic Centre\, Tozer Park Road\, Gympie\, QLD\, 4570\, Australia
CATEGORIES:Welfare,Welfare Weekly
ATTACH;FMTTYPE=image/jpeg:https://gympiersl.com.au/wp-content/uploads/2024/05/Gympie-RSL-Web-Event-Featured_Splash-Aerobics.jpg
END:VEVENT
BEGIN:VEVENT
DTSTART;TZID=Australia/Brisbane:20261009T130000
DTEND;TZID=Australia/Brisbane:20261009T140000
DTSTAMP:20260420T220059
CREATED:20240509T222403Z
LAST-MODIFIED:20251215T020538Z
UID:10016398-1791550800-1791554400@gympiersl.com.au
SUMMARY:Splash Aerobics
DESCRIPTION:Join in the fun at our low-impact pool workout sessions! \nEvery Friday from 1pm at Gympie Aquatic Centre. \nOpen to Veterans and their partners/carers. \nFor more information\, call 5483 7707 or email events@gympiersla.com.au. \n  \nBOOK HERE
URL:https://gympiersl.com.au/event/splash-aerobics/2026-10-09/
LOCATION:Gympie Aquatic Centre\, Tozer Park Road\, Gympie\, QLD\, 4570\, Australia
CATEGORIES:Welfare,Welfare Weekly
ATTACH;FMTTYPE=image/jpeg:https://gympiersl.com.au/wp-content/uploads/2024/05/Gympie-RSL-Web-Event-Featured_Splash-Aerobics.jpg
END:VEVENT
BEGIN:VEVENT
DTSTART;TZID=Australia/Brisbane:20261016T130000
DTEND;TZID=Australia/Brisbane:20261016T140000
DTSTAMP:20260420T220059
CREATED:20240509T222403Z
LAST-MODIFIED:20251215T020538Z
UID:10016399-1792155600-1792159200@gympiersl.com.au
SUMMARY:Splash Aerobics
DESCRIPTION:Join in the fun at our low-impact pool workout sessions! \nEvery Friday from 1pm at Gympie Aquatic Centre. \nOpen to Veterans and their partners/carers. \nFor more information\, call 5483 7707 or email events@gympiersla.com.au. \n  \nBOOK HERE
URL:https://gympiersl.com.au/event/splash-aerobics/2026-10-16/
LOCATION:Gympie Aquatic Centre\, Tozer Park Road\, Gympie\, QLD\, 4570\, Australia
CATEGORIES:Welfare,Welfare Weekly
ATTACH;FMTTYPE=image/jpeg:https://gympiersl.com.au/wp-content/uploads/2024/05/Gympie-RSL-Web-Event-Featured_Splash-Aerobics.jpg
END:VEVENT
BEGIN:VEVENT
DTSTART;TZID=Australia/Brisbane:20261023T130000
DTEND;TZID=Australia/Brisbane:20261023T140000
DTSTAMP:20260420T220059
CREATED:20240509T222403Z
LAST-MODIFIED:20251215T020538Z
UID:10016400-1792760400-1792764000@gympiersl.com.au
SUMMARY:Splash Aerobics
DESCRIPTION:Join in the fun at our low-impact pool workout sessions! \nEvery Friday from 1pm at Gympie Aquatic Centre. \nOpen to Veterans and their partners/carers. \nFor more information\, call 5483 7707 or email events@gympiersla.com.au. \n  \nBOOK HERE
URL:https://gympiersl.com.au/event/splash-aerobics/2026-10-23/
LOCATION:Gympie Aquatic Centre\, Tozer Park Road\, Gympie\, QLD\, 4570\, Australia
CATEGORIES:Welfare,Welfare Weekly
ATTACH;FMTTYPE=image/jpeg:https://gympiersl.com.au/wp-content/uploads/2024/05/Gympie-RSL-Web-Event-Featured_Splash-Aerobics.jpg
END:VEVENT
BEGIN:VEVENT
DTSTART;TZID=Australia/Brisbane:20261030T130000
DTEND;TZID=Australia/Brisbane:20261030T140000
DTSTAMP:20260420T220059
CREATED:20240509T222403Z
LAST-MODIFIED:20251215T020538Z
UID:10016401-1793365200-1793368800@gympiersl.com.au
SUMMARY:Splash Aerobics
DESCRIPTION:Join in the fun at our low-impact pool workout sessions! \nEvery Friday from 1pm at Gympie Aquatic Centre. \nOpen to Veterans and their partners/carers. \nFor more information\, call 5483 7707 or email events@gympiersla.com.au. \n  \nBOOK HERE
URL:https://gympiersl.com.au/event/splash-aerobics/2026-10-30/
LOCATION:Gympie Aquatic Centre\, Tozer Park Road\, Gympie\, QLD\, 4570\, Australia
CATEGORIES:Welfare,Welfare Weekly
ATTACH;FMTTYPE=image/jpeg:https://gympiersl.com.au/wp-content/uploads/2024/05/Gympie-RSL-Web-Event-Featured_Splash-Aerobics.jpg
END:VEVENT
BEGIN:VEVENT
DTSTART;TZID=Australia/Brisbane:20261106T130000
DTEND;TZID=Australia/Brisbane:20261106T140000
DTSTAMP:20260420T220059
CREATED:20240509T222403Z
LAST-MODIFIED:20251215T020538Z
UID:10016402-1793970000-1793973600@gympiersl.com.au
SUMMARY:Splash Aerobics
DESCRIPTION:Join in the fun at our low-impact pool workout sessions! \nEvery Friday from 1pm at Gympie Aquatic Centre. \nOpen to Veterans and their partners/carers. \nFor more information\, call 5483 7707 or email events@gympiersla.com.au. \n  \nBOOK HERE
URL:https://gympiersl.com.au/event/splash-aerobics/2026-11-06/
LOCATION:Gympie Aquatic Centre\, Tozer Park Road\, Gympie\, QLD\, 4570\, Australia
CATEGORIES:Welfare,Welfare Weekly
ATTACH;FMTTYPE=image/jpeg:https://gympiersl.com.au/wp-content/uploads/2024/05/Gympie-RSL-Web-Event-Featured_Splash-Aerobics.jpg
END:VEVENT
BEGIN:VEVENT
DTSTART;TZID=Australia/Brisbane:20261113T130000
DTEND;TZID=Australia/Brisbane:20261113T140000
DTSTAMP:20260420T220059
CREATED:20240509T222403Z
LAST-MODIFIED:20251215T020538Z
UID:10016403-1794574800-1794578400@gympiersl.com.au
SUMMARY:Splash Aerobics
DESCRIPTION:Join in the fun at our low-impact pool workout sessions! \nEvery Friday from 1pm at Gympie Aquatic Centre. \nOpen to Veterans and their partners/carers. \nFor more information\, call 5483 7707 or email events@gympiersla.com.au. \n  \nBOOK HERE
URL:https://gympiersl.com.au/event/splash-aerobics/2026-11-13/
LOCATION:Gympie Aquatic Centre\, Tozer Park Road\, Gympie\, QLD\, 4570\, Australia
CATEGORIES:Welfare,Welfare Weekly
ATTACH;FMTTYPE=image/jpeg:https://gympiersl.com.au/wp-content/uploads/2024/05/Gympie-RSL-Web-Event-Featured_Splash-Aerobics.jpg
END:VEVENT
END:VCALENDAR