BEGIN:VCALENDAR
VERSION:2.0
PRODID:-//Gympie RSL - ECPv6.15.20//NONSGML v1.0//EN
CALSCALE:GREGORIAN
METHOD:PUBLISH
X-WR-CALNAME:Gympie RSL
X-ORIGINAL-URL:https://gympiersl.com.au
X-WR-CALDESC:Events for Gympie RSL
REFRESH-INTERVAL;VALUE=DURATION:PT1H
X-Robots-Tag:noindex
X-PUBLISHED-TTL:PT1H
BEGIN:VTIMEZONE
TZID:Australia/Brisbane
BEGIN:STANDARD
TZOFFSETFROM:+1000
TZOFFSETTO:+1000
TZNAME:AEST
DTSTART:20250101T000000
END:STANDARD
END:VTIMEZONE
BEGIN:VEVENT
DTSTART;TZID=Australia/Brisbane:20260422T184500
DTEND;TZID=Australia/Brisbane:20260422T200000
DTSTAMP:20260421T002007
CREATED:20240425T233223Z
LAST-MODIFIED:20240429T050639Z
UID:10011267-1776883500-1776888000@gympiersl.com.au
SUMMARY:Members Cash Draw
DESCRIPTION:Join us every Wednesday for our Members Cash Draws! \nEvery Wednesday night we’re drawing one lucky members for our major jackpot starting at $500 and increasing by $100 each week\, if not won! \nDraws start at 6:45pm with 2 consolation draws each week for a $50 gift card. \nThe perfect midweek celebration at Gympie RSL! \nSwipe at kiosks for free entry. \nT&C’s apply.
URL:https://gympiersl.com.au/event/members-cash-draw/2026-04-22/
LOCATION:Gympie RSL
CATEGORIES:All,Members Draws,Promotions,Weekly Promotions
ATTACH;FMTTYPE=image/jpeg:https://gympiersl.com.au/wp-content/uploads/2024/04/Gympie-RSL_Web-Featured_Members-Cash-Draw.jpg
END:VEVENT
BEGIN:VEVENT
DTSTART;TZID=Australia/Brisbane:20260429T184500
DTEND;TZID=Australia/Brisbane:20260429T200000
DTSTAMP:20260421T002007
CREATED:20240425T233223Z
LAST-MODIFIED:20240429T050639Z
UID:10011268-1777488300-1777492800@gympiersl.com.au
SUMMARY:Members Cash Draw
DESCRIPTION:Join us every Wednesday for our Members Cash Draws! \nEvery Wednesday night we’re drawing one lucky members for our major jackpot starting at $500 and increasing by $100 each week\, if not won! \nDraws start at 6:45pm with 2 consolation draws each week for a $50 gift card. \nThe perfect midweek celebration at Gympie RSL! \nSwipe at kiosks for free entry. \nT&C’s apply.
URL:https://gympiersl.com.au/event/members-cash-draw/2026-04-29/
LOCATION:Gympie RSL
CATEGORIES:All,Members Draws,Promotions,Weekly Promotions
ATTACH;FMTTYPE=image/jpeg:https://gympiersl.com.au/wp-content/uploads/2024/04/Gympie-RSL_Web-Featured_Members-Cash-Draw.jpg
END:VEVENT
BEGIN:VEVENT
DTSTART;TZID=Australia/Brisbane:20260506T184500
DTEND;TZID=Australia/Brisbane:20260506T200000
DTSTAMP:20260421T002007
CREATED:20240425T233223Z
LAST-MODIFIED:20240429T050639Z
UID:10011269-1778093100-1778097600@gympiersl.com.au
SUMMARY:Members Cash Draw
DESCRIPTION:Join us every Wednesday for our Members Cash Draws! \nEvery Wednesday night we’re drawing one lucky members for our major jackpot starting at $500 and increasing by $100 each week\, if not won! \nDraws start at 6:45pm with 2 consolation draws each week for a $50 gift card. \nThe perfect midweek celebration at Gympie RSL! \nSwipe at kiosks for free entry. \nT&C’s apply.
URL:https://gympiersl.com.au/event/members-cash-draw/2026-05-06/
LOCATION:Gympie RSL
CATEGORIES:All,Members Draws,Promotions,Weekly Promotions
ATTACH;FMTTYPE=image/jpeg:https://gympiersl.com.au/wp-content/uploads/2024/04/Gympie-RSL_Web-Featured_Members-Cash-Draw.jpg
END:VEVENT
BEGIN:VEVENT
DTSTART;TZID=Australia/Brisbane:20260513T184500
DTEND;TZID=Australia/Brisbane:20260513T200000
DTSTAMP:20260421T002007
CREATED:20240425T233223Z
LAST-MODIFIED:20240429T050639Z
UID:10011270-1778697900-1778702400@gympiersl.com.au
SUMMARY:Members Cash Draw
DESCRIPTION:Join us every Wednesday for our Members Cash Draws! \nEvery Wednesday night we’re drawing one lucky members for our major jackpot starting at $500 and increasing by $100 each week\, if not won! \nDraws start at 6:45pm with 2 consolation draws each week for a $50 gift card. \nThe perfect midweek celebration at Gympie RSL! \nSwipe at kiosks for free entry. \nT&C’s apply.
URL:https://gympiersl.com.au/event/members-cash-draw/2026-05-13/
LOCATION:Gympie RSL
CATEGORIES:All,Members Draws,Promotions,Weekly Promotions
ATTACH;FMTTYPE=image/jpeg:https://gympiersl.com.au/wp-content/uploads/2024/04/Gympie-RSL_Web-Featured_Members-Cash-Draw.jpg
END:VEVENT
BEGIN:VEVENT
DTSTART;TZID=Australia/Brisbane:20260520T184500
DTEND;TZID=Australia/Brisbane:20260520T200000
DTSTAMP:20260421T002007
CREATED:20240425T233223Z
LAST-MODIFIED:20240429T050639Z
UID:10011271-1779302700-1779307200@gympiersl.com.au
SUMMARY:Members Cash Draw
DESCRIPTION:Join us every Wednesday for our Members Cash Draws! \nEvery Wednesday night we’re drawing one lucky members for our major jackpot starting at $500 and increasing by $100 each week\, if not won! \nDraws start at 6:45pm with 2 consolation draws each week for a $50 gift card. \nThe perfect midweek celebration at Gympie RSL! \nSwipe at kiosks for free entry. \nT&C’s apply.
URL:https://gympiersl.com.au/event/members-cash-draw/2026-05-20/
LOCATION:Gympie RSL
CATEGORIES:All,Members Draws,Promotions,Weekly Promotions
ATTACH;FMTTYPE=image/jpeg:https://gympiersl.com.au/wp-content/uploads/2024/04/Gympie-RSL_Web-Featured_Members-Cash-Draw.jpg
END:VEVENT
BEGIN:VEVENT
DTSTART;TZID=Australia/Brisbane:20260527T184500
DTEND;TZID=Australia/Brisbane:20260527T200000
DTSTAMP:20260421T002007
CREATED:20240425T233223Z
LAST-MODIFIED:20240429T050639Z
UID:10011272-1779907500-1779912000@gympiersl.com.au
SUMMARY:Members Cash Draw
DESCRIPTION:Join us every Wednesday for our Members Cash Draws! \nEvery Wednesday night we’re drawing one lucky members for our major jackpot starting at $500 and increasing by $100 each week\, if not won! \nDraws start at 6:45pm with 2 consolation draws each week for a $50 gift card. \nThe perfect midweek celebration at Gympie RSL! \nSwipe at kiosks for free entry. \nT&C’s apply.
URL:https://gympiersl.com.au/event/members-cash-draw/2026-05-27/
LOCATION:Gympie RSL
CATEGORIES:All,Members Draws,Promotions,Weekly Promotions
ATTACH;FMTTYPE=image/jpeg:https://gympiersl.com.au/wp-content/uploads/2024/04/Gympie-RSL_Web-Featured_Members-Cash-Draw.jpg
END:VEVENT
BEGIN:VEVENT
DTSTART;TZID=Australia/Brisbane:20260603T184500
DTEND;TZID=Australia/Brisbane:20260603T200000
DTSTAMP:20260421T002007
CREATED:20240425T233223Z
LAST-MODIFIED:20240429T050639Z
UID:10011273-1780512300-1780516800@gympiersl.com.au
SUMMARY:Members Cash Draw
DESCRIPTION:Join us every Wednesday for our Members Cash Draws! \nEvery Wednesday night we’re drawing one lucky members for our major jackpot starting at $500 and increasing by $100 each week\, if not won! \nDraws start at 6:45pm with 2 consolation draws each week for a $50 gift card. \nThe perfect midweek celebration at Gympie RSL! \nSwipe at kiosks for free entry. \nT&C’s apply.
URL:https://gympiersl.com.au/event/members-cash-draw/2026-06-03/
LOCATION:Gympie RSL
CATEGORIES:All,Members Draws,Promotions,Weekly Promotions
ATTACH;FMTTYPE=image/jpeg:https://gympiersl.com.au/wp-content/uploads/2024/04/Gympie-RSL_Web-Featured_Members-Cash-Draw.jpg
END:VEVENT
BEGIN:VEVENT
DTSTART;TZID=Australia/Brisbane:20260610T184500
DTEND;TZID=Australia/Brisbane:20260610T200000
DTSTAMP:20260421T002007
CREATED:20240425T233223Z
LAST-MODIFIED:20240429T050639Z
UID:10011274-1781117100-1781121600@gympiersl.com.au
SUMMARY:Members Cash Draw
DESCRIPTION:Join us every Wednesday for our Members Cash Draws! \nEvery Wednesday night we’re drawing one lucky members for our major jackpot starting at $500 and increasing by $100 each week\, if not won! \nDraws start at 6:45pm with 2 consolation draws each week for a $50 gift card. \nThe perfect midweek celebration at Gympie RSL! \nSwipe at kiosks for free entry. \nT&C’s apply.
URL:https://gympiersl.com.au/event/members-cash-draw/2026-06-10/
LOCATION:Gympie RSL
CATEGORIES:All,Members Draws,Promotions,Weekly Promotions
ATTACH;FMTTYPE=image/jpeg:https://gympiersl.com.au/wp-content/uploads/2024/04/Gympie-RSL_Web-Featured_Members-Cash-Draw.jpg
END:VEVENT
BEGIN:VEVENT
DTSTART;TZID=Australia/Brisbane:20260617T184500
DTEND;TZID=Australia/Brisbane:20260617T200000
DTSTAMP:20260421T002007
CREATED:20240425T233223Z
LAST-MODIFIED:20240429T050639Z
UID:10011275-1781721900-1781726400@gympiersl.com.au
SUMMARY:Members Cash Draw
DESCRIPTION:Join us every Wednesday for our Members Cash Draws! \nEvery Wednesday night we’re drawing one lucky members for our major jackpot starting at $500 and increasing by $100 each week\, if not won! \nDraws start at 6:45pm with 2 consolation draws each week for a $50 gift card. \nThe perfect midweek celebration at Gympie RSL! \nSwipe at kiosks for free entry. \nT&C’s apply.
URL:https://gympiersl.com.au/event/members-cash-draw/2026-06-17/
LOCATION:Gympie RSL
CATEGORIES:All,Members Draws,Promotions,Weekly Promotions
ATTACH;FMTTYPE=image/jpeg:https://gympiersl.com.au/wp-content/uploads/2024/04/Gympie-RSL_Web-Featured_Members-Cash-Draw.jpg
END:VEVENT
BEGIN:VEVENT
DTSTART;TZID=Australia/Brisbane:20260624T184500
DTEND;TZID=Australia/Brisbane:20260624T200000
DTSTAMP:20260421T002007
CREATED:20240425T233223Z
LAST-MODIFIED:20240429T050639Z
UID:10011276-1782326700-1782331200@gympiersl.com.au
SUMMARY:Members Cash Draw
DESCRIPTION:Join us every Wednesday for our Members Cash Draws! \nEvery Wednesday night we’re drawing one lucky members for our major jackpot starting at $500 and increasing by $100 each week\, if not won! \nDraws start at 6:45pm with 2 consolation draws each week for a $50 gift card. \nThe perfect midweek celebration at Gympie RSL! \nSwipe at kiosks for free entry. \nT&C’s apply.
URL:https://gympiersl.com.au/event/members-cash-draw/2026-06-24/
LOCATION:Gympie RSL
CATEGORIES:All,Members Draws,Promotions,Weekly Promotions
ATTACH;FMTTYPE=image/jpeg:https://gympiersl.com.au/wp-content/uploads/2024/04/Gympie-RSL_Web-Featured_Members-Cash-Draw.jpg
END:VEVENT
BEGIN:VEVENT
DTSTART;TZID=Australia/Brisbane:20260701T184500
DTEND;TZID=Australia/Brisbane:20260701T200000
DTSTAMP:20260421T002007
CREATED:20240425T233223Z
LAST-MODIFIED:20240429T050639Z
UID:10011277-1782931500-1782936000@gympiersl.com.au
SUMMARY:Members Cash Draw
DESCRIPTION:Join us every Wednesday for our Members Cash Draws! \nEvery Wednesday night we’re drawing one lucky members for our major jackpot starting at $500 and increasing by $100 each week\, if not won! \nDraws start at 6:45pm with 2 consolation draws each week for a $50 gift card. \nThe perfect midweek celebration at Gympie RSL! \nSwipe at kiosks for free entry. \nT&C’s apply.
URL:https://gympiersl.com.au/event/members-cash-draw/2026-07-01/
LOCATION:Gympie RSL
CATEGORIES:All,Members Draws,Promotions,Weekly Promotions
ATTACH;FMTTYPE=image/jpeg:https://gympiersl.com.au/wp-content/uploads/2024/04/Gympie-RSL_Web-Featured_Members-Cash-Draw.jpg
END:VEVENT
BEGIN:VEVENT
DTSTART;TZID=Australia/Brisbane:20260708T184500
DTEND;TZID=Australia/Brisbane:20260708T200000
DTSTAMP:20260421T002007
CREATED:20240425T233223Z
LAST-MODIFIED:20240429T050639Z
UID:10011278-1783536300-1783540800@gympiersl.com.au
SUMMARY:Members Cash Draw
DESCRIPTION:Join us every Wednesday for our Members Cash Draws! \nEvery Wednesday night we’re drawing one lucky members for our major jackpot starting at $500 and increasing by $100 each week\, if not won! \nDraws start at 6:45pm with 2 consolation draws each week for a $50 gift card. \nThe perfect midweek celebration at Gympie RSL! \nSwipe at kiosks for free entry. \nT&C’s apply.
URL:https://gympiersl.com.au/event/members-cash-draw/2026-07-08/
LOCATION:Gympie RSL
CATEGORIES:All,Members Draws,Promotions,Weekly Promotions
ATTACH;FMTTYPE=image/jpeg:https://gympiersl.com.au/wp-content/uploads/2024/04/Gympie-RSL_Web-Featured_Members-Cash-Draw.jpg
END:VEVENT
BEGIN:VEVENT
DTSTART;TZID=Australia/Brisbane:20260715T184500
DTEND;TZID=Australia/Brisbane:20260715T200000
DTSTAMP:20260421T002007
CREATED:20240425T233223Z
LAST-MODIFIED:20240429T050639Z
UID:10011279-1784141100-1784145600@gympiersl.com.au
SUMMARY:Members Cash Draw
DESCRIPTION:Join us every Wednesday for our Members Cash Draws! \nEvery Wednesday night we’re drawing one lucky members for our major jackpot starting at $500 and increasing by $100 each week\, if not won! \nDraws start at 6:45pm with 2 consolation draws each week for a $50 gift card. \nThe perfect midweek celebration at Gympie RSL! \nSwipe at kiosks for free entry. \nT&C’s apply.
URL:https://gympiersl.com.au/event/members-cash-draw/2026-07-15/
LOCATION:Gympie RSL
CATEGORIES:All,Members Draws,Promotions,Weekly Promotions
ATTACH;FMTTYPE=image/jpeg:https://gympiersl.com.au/wp-content/uploads/2024/04/Gympie-RSL_Web-Featured_Members-Cash-Draw.jpg
END:VEVENT
BEGIN:VEVENT
DTSTART;TZID=Australia/Brisbane:20260722T184500
DTEND;TZID=Australia/Brisbane:20260722T200000
DTSTAMP:20260421T002007
CREATED:20240425T233223Z
LAST-MODIFIED:20240429T050639Z
UID:10011280-1784745900-1784750400@gympiersl.com.au
SUMMARY:Members Cash Draw
DESCRIPTION:Join us every Wednesday for our Members Cash Draws! \nEvery Wednesday night we’re drawing one lucky members for our major jackpot starting at $500 and increasing by $100 each week\, if not won! \nDraws start at 6:45pm with 2 consolation draws each week for a $50 gift card. \nThe perfect midweek celebration at Gympie RSL! \nSwipe at kiosks for free entry. \nT&C’s apply.
URL:https://gympiersl.com.au/event/members-cash-draw/2026-07-22/
LOCATION:Gympie RSL
CATEGORIES:All,Members Draws,Promotions,Weekly Promotions
ATTACH;FMTTYPE=image/jpeg:https://gympiersl.com.au/wp-content/uploads/2024/04/Gympie-RSL_Web-Featured_Members-Cash-Draw.jpg
END:VEVENT
BEGIN:VEVENT
DTSTART;TZID=Australia/Brisbane:20260729T184500
DTEND;TZID=Australia/Brisbane:20260729T200000
DTSTAMP:20260421T002007
CREATED:20240425T233223Z
LAST-MODIFIED:20240429T050639Z
UID:10011281-1785350700-1785355200@gympiersl.com.au
SUMMARY:Members Cash Draw
DESCRIPTION:Join us every Wednesday for our Members Cash Draws! \nEvery Wednesday night we’re drawing one lucky members for our major jackpot starting at $500 and increasing by $100 each week\, if not won! \nDraws start at 6:45pm with 2 consolation draws each week for a $50 gift card. \nThe perfect midweek celebration at Gympie RSL! \nSwipe at kiosks for free entry. \nT&C’s apply.
URL:https://gympiersl.com.au/event/members-cash-draw/2026-07-29/
LOCATION:Gympie RSL
CATEGORIES:All,Members Draws,Promotions,Weekly Promotions
ATTACH;FMTTYPE=image/jpeg:https://gympiersl.com.au/wp-content/uploads/2024/04/Gympie-RSL_Web-Featured_Members-Cash-Draw.jpg
END:VEVENT
BEGIN:VEVENT
DTSTART;TZID=Australia/Brisbane:20260805T184500
DTEND;TZID=Australia/Brisbane:20260805T200000
DTSTAMP:20260421T002007
CREATED:20240425T233223Z
LAST-MODIFIED:20240429T050639Z
UID:10011282-1785955500-1785960000@gympiersl.com.au
SUMMARY:Members Cash Draw
DESCRIPTION:Join us every Wednesday for our Members Cash Draws! \nEvery Wednesday night we’re drawing one lucky members for our major jackpot starting at $500 and increasing by $100 each week\, if not won! \nDraws start at 6:45pm with 2 consolation draws each week for a $50 gift card. \nThe perfect midweek celebration at Gympie RSL! \nSwipe at kiosks for free entry. \nT&C’s apply.
URL:https://gympiersl.com.au/event/members-cash-draw/2026-08-05/
LOCATION:Gympie RSL
CATEGORIES:All,Members Draws,Promotions,Weekly Promotions
ATTACH;FMTTYPE=image/jpeg:https://gympiersl.com.au/wp-content/uploads/2024/04/Gympie-RSL_Web-Featured_Members-Cash-Draw.jpg
END:VEVENT
BEGIN:VEVENT
DTSTART;TZID=Australia/Brisbane:20260812T184500
DTEND;TZID=Australia/Brisbane:20260812T200000
DTSTAMP:20260421T002007
CREATED:20240425T233223Z
LAST-MODIFIED:20240429T050639Z
UID:10011283-1786560300-1786564800@gympiersl.com.au
SUMMARY:Members Cash Draw
DESCRIPTION:Join us every Wednesday for our Members Cash Draws! \nEvery Wednesday night we’re drawing one lucky members for our major jackpot starting at $500 and increasing by $100 each week\, if not won! \nDraws start at 6:45pm with 2 consolation draws each week for a $50 gift card. \nThe perfect midweek celebration at Gympie RSL! \nSwipe at kiosks for free entry. \nT&C’s apply.
URL:https://gympiersl.com.au/event/members-cash-draw/2026-08-12/
LOCATION:Gympie RSL
CATEGORIES:All,Members Draws,Promotions,Weekly Promotions
ATTACH;FMTTYPE=image/jpeg:https://gympiersl.com.au/wp-content/uploads/2024/04/Gympie-RSL_Web-Featured_Members-Cash-Draw.jpg
END:VEVENT
BEGIN:VEVENT
DTSTART;TZID=Australia/Brisbane:20260819T184500
DTEND;TZID=Australia/Brisbane:20260819T200000
DTSTAMP:20260421T002007
CREATED:20240425T233223Z
LAST-MODIFIED:20240429T050639Z
UID:10011284-1787165100-1787169600@gympiersl.com.au
SUMMARY:Members Cash Draw
DESCRIPTION:Join us every Wednesday for our Members Cash Draws! \nEvery Wednesday night we’re drawing one lucky members for our major jackpot starting at $500 and increasing by $100 each week\, if not won! \nDraws start at 6:45pm with 2 consolation draws each week for a $50 gift card. \nThe perfect midweek celebration at Gympie RSL! \nSwipe at kiosks for free entry. \nT&C’s apply.
URL:https://gympiersl.com.au/event/members-cash-draw/2026-08-19/
LOCATION:Gympie RSL
CATEGORIES:All,Members Draws,Promotions,Weekly Promotions
ATTACH;FMTTYPE=image/jpeg:https://gympiersl.com.au/wp-content/uploads/2024/04/Gympie-RSL_Web-Featured_Members-Cash-Draw.jpg
END:VEVENT
BEGIN:VEVENT
DTSTART;TZID=Australia/Brisbane:20260826T184500
DTEND;TZID=Australia/Brisbane:20260826T200000
DTSTAMP:20260421T002007
CREATED:20240425T233223Z
LAST-MODIFIED:20240429T050639Z
UID:10011285-1787769900-1787774400@gympiersl.com.au
SUMMARY:Members Cash Draw
DESCRIPTION:Join us every Wednesday for our Members Cash Draws! \nEvery Wednesday night we’re drawing one lucky members for our major jackpot starting at $500 and increasing by $100 each week\, if not won! \nDraws start at 6:45pm with 2 consolation draws each week for a $50 gift card. \nThe perfect midweek celebration at Gympie RSL! \nSwipe at kiosks for free entry. \nT&C’s apply.
URL:https://gympiersl.com.au/event/members-cash-draw/2026-08-26/
LOCATION:Gympie RSL
CATEGORIES:All,Members Draws,Promotions,Weekly Promotions
ATTACH;FMTTYPE=image/jpeg:https://gympiersl.com.au/wp-content/uploads/2024/04/Gympie-RSL_Web-Featured_Members-Cash-Draw.jpg
END:VEVENT
BEGIN:VEVENT
DTSTART;TZID=Australia/Brisbane:20260902T184500
DTEND;TZID=Australia/Brisbane:20260902T200000
DTSTAMP:20260421T002007
CREATED:20240425T233223Z
LAST-MODIFIED:20240429T050639Z
UID:10011286-1788374700-1788379200@gympiersl.com.au
SUMMARY:Members Cash Draw
DESCRIPTION:Join us every Wednesday for our Members Cash Draws! \nEvery Wednesday night we’re drawing one lucky members for our major jackpot starting at $500 and increasing by $100 each week\, if not won! \nDraws start at 6:45pm with 2 consolation draws each week for a $50 gift card. \nThe perfect midweek celebration at Gympie RSL! \nSwipe at kiosks for free entry. \nT&C’s apply.
URL:https://gympiersl.com.au/event/members-cash-draw/2026-09-02/
LOCATION:Gympie RSL
CATEGORIES:All,Members Draws,Promotions,Weekly Promotions
ATTACH;FMTTYPE=image/jpeg:https://gympiersl.com.au/wp-content/uploads/2024/04/Gympie-RSL_Web-Featured_Members-Cash-Draw.jpg
END:VEVENT
BEGIN:VEVENT
DTSTART;TZID=Australia/Brisbane:20260909T184500
DTEND;TZID=Australia/Brisbane:20260909T200000
DTSTAMP:20260421T002007
CREATED:20240425T233223Z
LAST-MODIFIED:20240429T050639Z
UID:10011287-1788979500-1788984000@gympiersl.com.au
SUMMARY:Members Cash Draw
DESCRIPTION:Join us every Wednesday for our Members Cash Draws! \nEvery Wednesday night we’re drawing one lucky members for our major jackpot starting at $500 and increasing by $100 each week\, if not won! \nDraws start at 6:45pm with 2 consolation draws each week for a $50 gift card. \nThe perfect midweek celebration at Gympie RSL! \nSwipe at kiosks for free entry. \nT&C’s apply.
URL:https://gympiersl.com.au/event/members-cash-draw/2026-09-09/
LOCATION:Gympie RSL
CATEGORIES:All,Members Draws,Promotions,Weekly Promotions
ATTACH;FMTTYPE=image/jpeg:https://gympiersl.com.au/wp-content/uploads/2024/04/Gympie-RSL_Web-Featured_Members-Cash-Draw.jpg
END:VEVENT
BEGIN:VEVENT
DTSTART;TZID=Australia/Brisbane:20260916T184500
DTEND;TZID=Australia/Brisbane:20260916T200000
DTSTAMP:20260421T002007
CREATED:20240425T233223Z
LAST-MODIFIED:20240429T050639Z
UID:10011288-1789584300-1789588800@gympiersl.com.au
SUMMARY:Members Cash Draw
DESCRIPTION:Join us every Wednesday for our Members Cash Draws! \nEvery Wednesday night we’re drawing one lucky members for our major jackpot starting at $500 and increasing by $100 each week\, if not won! \nDraws start at 6:45pm with 2 consolation draws each week for a $50 gift card. \nThe perfect midweek celebration at Gympie RSL! \nSwipe at kiosks for free entry. \nT&C’s apply.
URL:https://gympiersl.com.au/event/members-cash-draw/2026-09-16/
LOCATION:Gympie RSL
CATEGORIES:All,Members Draws,Promotions,Weekly Promotions
ATTACH;FMTTYPE=image/jpeg:https://gympiersl.com.au/wp-content/uploads/2024/04/Gympie-RSL_Web-Featured_Members-Cash-Draw.jpg
END:VEVENT
BEGIN:VEVENT
DTSTART;TZID=Australia/Brisbane:20260923T184500
DTEND;TZID=Australia/Brisbane:20260923T200000
DTSTAMP:20260421T002007
CREATED:20240425T233223Z
LAST-MODIFIED:20240429T050639Z
UID:10011289-1790189100-1790193600@gympiersl.com.au
SUMMARY:Members Cash Draw
DESCRIPTION:Join us every Wednesday for our Members Cash Draws! \nEvery Wednesday night we’re drawing one lucky members for our major jackpot starting at $500 and increasing by $100 each week\, if not won! \nDraws start at 6:45pm with 2 consolation draws each week for a $50 gift card. \nThe perfect midweek celebration at Gympie RSL! \nSwipe at kiosks for free entry. \nT&C’s apply.
URL:https://gympiersl.com.au/event/members-cash-draw/2026-09-23/
LOCATION:Gympie RSL
CATEGORIES:All,Members Draws,Promotions,Weekly Promotions
ATTACH;FMTTYPE=image/jpeg:https://gympiersl.com.au/wp-content/uploads/2024/04/Gympie-RSL_Web-Featured_Members-Cash-Draw.jpg
END:VEVENT
BEGIN:VEVENT
DTSTART;TZID=Australia/Brisbane:20260930T184500
DTEND;TZID=Australia/Brisbane:20260930T200000
DTSTAMP:20260421T002007
CREATED:20240425T233223Z
LAST-MODIFIED:20240429T050639Z
UID:10011290-1790793900-1790798400@gympiersl.com.au
SUMMARY:Members Cash Draw
DESCRIPTION:Join us every Wednesday for our Members Cash Draws! \nEvery Wednesday night we’re drawing one lucky members for our major jackpot starting at $500 and increasing by $100 each week\, if not won! \nDraws start at 6:45pm with 2 consolation draws each week for a $50 gift card. \nThe perfect midweek celebration at Gympie RSL! \nSwipe at kiosks for free entry. \nT&C’s apply.
URL:https://gympiersl.com.au/event/members-cash-draw/2026-09-30/
LOCATION:Gympie RSL
CATEGORIES:All,Members Draws,Promotions,Weekly Promotions
ATTACH;FMTTYPE=image/jpeg:https://gympiersl.com.au/wp-content/uploads/2024/04/Gympie-RSL_Web-Featured_Members-Cash-Draw.jpg
END:VEVENT
BEGIN:VEVENT
DTSTART;TZID=Australia/Brisbane:20261007T184500
DTEND;TZID=Australia/Brisbane:20261007T200000
DTSTAMP:20260421T002007
CREATED:20240425T233223Z
LAST-MODIFIED:20240429T050639Z
UID:10011291-1791398700-1791403200@gympiersl.com.au
SUMMARY:Members Cash Draw
DESCRIPTION:Join us every Wednesday for our Members Cash Draws! \nEvery Wednesday night we’re drawing one lucky members for our major jackpot starting at $500 and increasing by $100 each week\, if not won! \nDraws start at 6:45pm with 2 consolation draws each week for a $50 gift card. \nThe perfect midweek celebration at Gympie RSL! \nSwipe at kiosks for free entry. \nT&C’s apply.
URL:https://gympiersl.com.au/event/members-cash-draw/2026-10-07/
LOCATION:Gympie RSL
CATEGORIES:All,Members Draws,Promotions,Weekly Promotions
ATTACH;FMTTYPE=image/jpeg:https://gympiersl.com.au/wp-content/uploads/2024/04/Gympie-RSL_Web-Featured_Members-Cash-Draw.jpg
END:VEVENT
BEGIN:VEVENT
DTSTART;TZID=Australia/Brisbane:20261014T184500
DTEND;TZID=Australia/Brisbane:20261014T200000
DTSTAMP:20260421T002007
CREATED:20240425T233223Z
LAST-MODIFIED:20240429T050639Z
UID:10011292-1792003500-1792008000@gympiersl.com.au
SUMMARY:Members Cash Draw
DESCRIPTION:Join us every Wednesday for our Members Cash Draws! \nEvery Wednesday night we’re drawing one lucky members for our major jackpot starting at $500 and increasing by $100 each week\, if not won! \nDraws start at 6:45pm with 2 consolation draws each week for a $50 gift card. \nThe perfect midweek celebration at Gympie RSL! \nSwipe at kiosks for free entry. \nT&C’s apply.
URL:https://gympiersl.com.au/event/members-cash-draw/2026-10-14/
LOCATION:Gympie RSL
CATEGORIES:All,Members Draws,Promotions,Weekly Promotions
ATTACH;FMTTYPE=image/jpeg:https://gympiersl.com.au/wp-content/uploads/2024/04/Gympie-RSL_Web-Featured_Members-Cash-Draw.jpg
END:VEVENT
BEGIN:VEVENT
DTSTART;TZID=Australia/Brisbane:20261021T184500
DTEND;TZID=Australia/Brisbane:20261021T200000
DTSTAMP:20260421T002007
CREATED:20240425T233223Z
LAST-MODIFIED:20240429T050639Z
UID:10011293-1792608300-1792612800@gympiersl.com.au
SUMMARY:Members Cash Draw
DESCRIPTION:Join us every Wednesday for our Members Cash Draws! \nEvery Wednesday night we’re drawing one lucky members for our major jackpot starting at $500 and increasing by $100 each week\, if not won! \nDraws start at 6:45pm with 2 consolation draws each week for a $50 gift card. \nThe perfect midweek celebration at Gympie RSL! \nSwipe at kiosks for free entry. \nT&C’s apply.
URL:https://gympiersl.com.au/event/members-cash-draw/2026-10-21/
LOCATION:Gympie RSL
CATEGORIES:All,Members Draws,Promotions,Weekly Promotions
ATTACH;FMTTYPE=image/jpeg:https://gympiersl.com.au/wp-content/uploads/2024/04/Gympie-RSL_Web-Featured_Members-Cash-Draw.jpg
END:VEVENT
BEGIN:VEVENT
DTSTART;TZID=Australia/Brisbane:20261028T184500
DTEND;TZID=Australia/Brisbane:20261028T200000
DTSTAMP:20260421T002007
CREATED:20240425T233223Z
LAST-MODIFIED:20240429T050639Z
UID:10011294-1793213100-1793217600@gympiersl.com.au
SUMMARY:Members Cash Draw
DESCRIPTION:Join us every Wednesday for our Members Cash Draws! \nEvery Wednesday night we’re drawing one lucky members for our major jackpot starting at $500 and increasing by $100 each week\, if not won! \nDraws start at 6:45pm with 2 consolation draws each week for a $50 gift card. \nThe perfect midweek celebration at Gympie RSL! \nSwipe at kiosks for free entry. \nT&C’s apply.
URL:https://gympiersl.com.au/event/members-cash-draw/2026-10-28/
LOCATION:Gympie RSL
CATEGORIES:All,Members Draws,Promotions,Weekly Promotions
ATTACH;FMTTYPE=image/jpeg:https://gympiersl.com.au/wp-content/uploads/2024/04/Gympie-RSL_Web-Featured_Members-Cash-Draw.jpg
END:VEVENT
BEGIN:VEVENT
DTSTART;TZID=Australia/Brisbane:20261104T184500
DTEND;TZID=Australia/Brisbane:20261104T200000
DTSTAMP:20260421T002007
CREATED:20240425T233223Z
LAST-MODIFIED:20240429T050639Z
UID:10011295-1793817900-1793822400@gympiersl.com.au
SUMMARY:Members Cash Draw
DESCRIPTION:Join us every Wednesday for our Members Cash Draws! \nEvery Wednesday night we’re drawing one lucky members for our major jackpot starting at $500 and increasing by $100 each week\, if not won! \nDraws start at 6:45pm with 2 consolation draws each week for a $50 gift card. \nThe perfect midweek celebration at Gympie RSL! \nSwipe at kiosks for free entry. \nT&C’s apply.
URL:https://gympiersl.com.au/event/members-cash-draw/2026-11-04/
LOCATION:Gympie RSL
CATEGORIES:All,Members Draws,Promotions,Weekly Promotions
ATTACH;FMTTYPE=image/jpeg:https://gympiersl.com.au/wp-content/uploads/2024/04/Gympie-RSL_Web-Featured_Members-Cash-Draw.jpg
END:VEVENT
BEGIN:VEVENT
DTSTART;TZID=Australia/Brisbane:20261111T184500
DTEND;TZID=Australia/Brisbane:20261111T200000
DTSTAMP:20260421T002007
CREATED:20240425T233223Z
LAST-MODIFIED:20240429T050639Z
UID:10011296-1794422700-1794427200@gympiersl.com.au
SUMMARY:Members Cash Draw
DESCRIPTION:Join us every Wednesday for our Members Cash Draws! \nEvery Wednesday night we’re drawing one lucky members for our major jackpot starting at $500 and increasing by $100 each week\, if not won! \nDraws start at 6:45pm with 2 consolation draws each week for a $50 gift card. \nThe perfect midweek celebration at Gympie RSL! \nSwipe at kiosks for free entry. \nT&C’s apply.
URL:https://gympiersl.com.au/event/members-cash-draw/2026-11-11/
LOCATION:Gympie RSL
CATEGORIES:All,Members Draws,Promotions,Weekly Promotions
ATTACH;FMTTYPE=image/jpeg:https://gympiersl.com.au/wp-content/uploads/2024/04/Gympie-RSL_Web-Featured_Members-Cash-Draw.jpg
END:VEVENT
END:VCALENDAR