BEGIN:VCALENDAR
VERSION:2.0
PRODID:-//Gympie RSL - ECPv6.15.20//NONSGML v1.0//EN
CALSCALE:GREGORIAN
METHOD:PUBLISH
X-WR-CALNAME:Gympie RSL
X-ORIGINAL-URL:https://gympiersl.com.au
X-WR-CALDESC:Events for Gympie RSL
REFRESH-INTERVAL;VALUE=DURATION:PT1H
X-Robots-Tag:noindex
X-PUBLISHED-TTL:PT1H
BEGIN:VTIMEZONE
TZID:Australia/Brisbane
BEGIN:STANDARD
TZOFFSETFROM:+1000
TZOFFSETTO:+1000
TZNAME:AEST
DTSTART:20250101T000000
END:STANDARD
END:VTIMEZONE
BEGIN:VEVENT
DTSTART;VALUE=DATE:20260527
DTEND;VALUE=DATE:20260528
DTSTAMP:20260421T161635
CREATED:20260420T214728Z
LAST-MODIFIED:20260420T214729Z
UID:10029366-1779840000-1779926399@gympiersl.com.au
SUMMARY:State of Origin - Win Tickets to Game 3!🔥
DESCRIPTION:May 27 | June 17 | July 8 \nCatch all the State of Origin action at Gympie RSL and go in the draw to WIN 2 tickets to Game 3! \n🍺 How to Enter \nSimply purchase any XXXX product from 10am Wednesday 6th May – Wednesday 17th June to receive an entry into the draw. \n⭐ Bonus Entries \nEarn TRIPLE entries with every XXXX purchase in the Rhythm Bar during Game 1 & Game 2! \nDon’t miss the ultimate footy atmosphere\, ice-cold drinks\, and your chance to experience Origin live! The winner will be announced on Thursday 18th June.
URL:https://gympiersl.com.au/event/state-of-origin-win-tickets-to-game-3%f0%9f%94%a5/2026-05-27/
LOCATION:Gympie RSL
CATEGORIES:All,Entertainment,Promotions,Special Events,Sports Bar
ATTACH;FMTTYPE=image/jpeg:https://gympiersl.com.au/wp-content/uploads/2026/04/20042026053041-GympieRSL-StateofOrigin_WebsiteEventfeaturedimage.jpg
END:VEVENT
BEGIN:VEVENT
DTSTART;VALUE=DATE:20260617
DTEND;VALUE=DATE:20260618
DTSTAMP:20260421T161635
CREATED:20260420T214728Z
LAST-MODIFIED:20260420T214729Z
UID:10029367-1781690400-1781733600@gympiersl.com.au
SUMMARY:State of Origin - Win Tickets to Game 3!🔥
DESCRIPTION:May 27 | June 17 | July 8 \nCatch all the State of Origin action at Gympie RSL and go in the draw to WIN 2 tickets to Game 3! \n🍺 How to Enter \nSimply purchase any XXXX product from 10am Wednesday 6th May – Wednesday 17th June to receive an entry into the draw. \n⭐ Bonus Entries \nEarn TRIPLE entries with every XXXX purchase in the Rhythm Bar during Game 1 & Game 2! \nDon’t miss the ultimate footy atmosphere\, ice-cold drinks\, and your chance to experience Origin live! The winner will be announced on Thursday 18th June.
URL:https://gympiersl.com.au/event/state-of-origin-win-tickets-to-game-3%f0%9f%94%a5/2026-06-17/
LOCATION:Gympie RSL
CATEGORIES:All,Entertainment,Promotions,Special Events,Sports Bar
ATTACH;FMTTYPE=image/jpeg:https://gympiersl.com.au/wp-content/uploads/2026/04/20042026053041-GympieRSL-StateofOrigin_WebsiteEventfeaturedimage.jpg
END:VEVENT
BEGIN:VEVENT
DTSTART;VALUE=DATE:20260708
DTEND;VALUE=DATE:20260709
DTSTAMP:20260421T161635
CREATED:20260420T214728Z
LAST-MODIFIED:20260420T214729Z
UID:10029368-1783504800-1783548000@gympiersl.com.au
SUMMARY:State of Origin - Win Tickets to Game 3!🔥
DESCRIPTION:May 27 | June 17 | July 8 \nCatch all the State of Origin action at Gympie RSL and go in the draw to WIN 2 tickets to Game 3! \n🍺 How to Enter \nSimply purchase any XXXX product from 10am Wednesday 6th May – Wednesday 17th June to receive an entry into the draw. \n⭐ Bonus Entries \nEarn TRIPLE entries with every XXXX purchase in the Rhythm Bar during Game 1 & Game 2! \nDon’t miss the ultimate footy atmosphere\, ice-cold drinks\, and your chance to experience Origin live! The winner will be announced on Thursday 18th June.
URL:https://gympiersl.com.au/event/state-of-origin-win-tickets-to-game-3%f0%9f%94%a5/2026-07-08/
LOCATION:Gympie RSL
CATEGORIES:All,Entertainment,Promotions,Special Events,Sports Bar
ATTACH;FMTTYPE=image/jpeg:https://gympiersl.com.au/wp-content/uploads/2026/04/20042026053041-GympieRSL-StateofOrigin_WebsiteEventfeaturedimage.jpg
END:VEVENT
END:VCALENDAR