BEGIN:VCALENDAR
VERSION:2.0
PRODID:-//Gympie RSL - ECPv6.15.20//NONSGML v1.0//EN
CALSCALE:GREGORIAN
METHOD:PUBLISH
X-WR-CALNAME:Gympie RSL
X-ORIGINAL-URL:https://gympiersl.com.au
X-WR-CALDESC:Events for Gympie RSL
REFRESH-INTERVAL;VALUE=DURATION:PT1H
X-Robots-Tag:noindex
X-PUBLISHED-TTL:PT1H
BEGIN:VTIMEZONE
TZID:Australia/Brisbane
BEGIN:STANDARD
TZOFFSETFROM:+1000
TZOFFSETTO:+1000
TZNAME:AEST
DTSTART:20250101T000000
END:STANDARD
END:VTIMEZONE
BEGIN:VEVENT
DTSTART;TZID=Australia/Brisbane:20260422T170000
DTEND;TZID=Australia/Brisbane:20260422T200000
DTSTAMP:20260421T001959
CREATED:20260302T030426Z
LAST-MODIFIED:20260408T032651Z
UID:10029296-1776877200-1776888000@gympiersl.com.au
SUMMARY:Asian Cuisine Night
DESCRIPTION:Spice up your midweek with Asian Cuisine Night every Wednesday from 5:00pm – 8:00pm. \nIndulge in a delicious selection of Asian-inspired favourites\, packed with bold flavours\, fragrant spices\, and comforting classics. It’s the perfect way to break up the week and enjoy something a little different with family and friends. \nJoin us Wednesday nights and savour the flavours of Asia right here at the Club.
URL:https://gympiersl.com.au/event/asian-cuisine-night/2026-04-22/
LOCATION:Atrium Bistro\, Gympie RSL\, 217 Mary Street\, Gympie\, QLD\, 4570\, Australia
CATEGORIES:All,Meal Specials
ATTACH;FMTTYPE=image/jpeg:https://gympiersl.com.au/wp-content/uploads/2026/03/08042026005202-GympieRSL-AsianCuisine_WebEventFeature.jpg
END:VEVENT
BEGIN:VEVENT
DTSTART;TZID=Australia/Brisbane:20260429T170000
DTEND;TZID=Australia/Brisbane:20260429T200000
DTSTAMP:20260421T001959
CREATED:20260302T030426Z
LAST-MODIFIED:20260408T032651Z
UID:10029297-1777482000-1777492800@gympiersl.com.au
SUMMARY:Asian Cuisine Night
DESCRIPTION:Spice up your midweek with Asian Cuisine Night every Wednesday from 5:00pm – 8:00pm. \nIndulge in a delicious selection of Asian-inspired favourites\, packed with bold flavours\, fragrant spices\, and comforting classics. It’s the perfect way to break up the week and enjoy something a little different with family and friends. \nJoin us Wednesday nights and savour the flavours of Asia right here at the Club.
URL:https://gympiersl.com.au/event/asian-cuisine-night/2026-04-29/
LOCATION:Atrium Bistro\, Gympie RSL\, 217 Mary Street\, Gympie\, QLD\, 4570\, Australia
CATEGORIES:All,Meal Specials
ATTACH;FMTTYPE=image/jpeg:https://gympiersl.com.au/wp-content/uploads/2026/03/08042026005202-GympieRSL-AsianCuisine_WebEventFeature.jpg
END:VEVENT
BEGIN:VEVENT
DTSTART;TZID=Australia/Brisbane:20260506T170000
DTEND;TZID=Australia/Brisbane:20260506T200000
DTSTAMP:20260421T001959
CREATED:20260302T030426Z
LAST-MODIFIED:20260408T032651Z
UID:10029298-1778086800-1778097600@gympiersl.com.au
SUMMARY:Asian Cuisine Night
DESCRIPTION:Spice up your midweek with Asian Cuisine Night every Wednesday from 5:00pm – 8:00pm. \nIndulge in a delicious selection of Asian-inspired favourites\, packed with bold flavours\, fragrant spices\, and comforting classics. It’s the perfect way to break up the week and enjoy something a little different with family and friends. \nJoin us Wednesday nights and savour the flavours of Asia right here at the Club.
URL:https://gympiersl.com.au/event/asian-cuisine-night/2026-05-06/
LOCATION:Atrium Bistro\, Gympie RSL\, 217 Mary Street\, Gympie\, QLD\, 4570\, Australia
CATEGORIES:All,Meal Specials
ATTACH;FMTTYPE=image/jpeg:https://gympiersl.com.au/wp-content/uploads/2026/03/08042026005202-GympieRSL-AsianCuisine_WebEventFeature.jpg
END:VEVENT
BEGIN:VEVENT
DTSTART;TZID=Australia/Brisbane:20260513T170000
DTEND;TZID=Australia/Brisbane:20260513T200000
DTSTAMP:20260421T001959
CREATED:20260302T030426Z
LAST-MODIFIED:20260408T032651Z
UID:10029299-1778691600-1778702400@gympiersl.com.au
SUMMARY:Asian Cuisine Night
DESCRIPTION:Spice up your midweek with Asian Cuisine Night every Wednesday from 5:00pm – 8:00pm. \nIndulge in a delicious selection of Asian-inspired favourites\, packed with bold flavours\, fragrant spices\, and comforting classics. It’s the perfect way to break up the week and enjoy something a little different with family and friends. \nJoin us Wednesday nights and savour the flavours of Asia right here at the Club.
URL:https://gympiersl.com.au/event/asian-cuisine-night/2026-05-13/
LOCATION:Atrium Bistro\, Gympie RSL\, 217 Mary Street\, Gympie\, QLD\, 4570\, Australia
CATEGORIES:All,Meal Specials
ATTACH;FMTTYPE=image/jpeg:https://gympiersl.com.au/wp-content/uploads/2026/03/08042026005202-GympieRSL-AsianCuisine_WebEventFeature.jpg
END:VEVENT
BEGIN:VEVENT
DTSTART;TZID=Australia/Brisbane:20260520T170000
DTEND;TZID=Australia/Brisbane:20260520T200000
DTSTAMP:20260421T001959
CREATED:20260302T030426Z
LAST-MODIFIED:20260408T032651Z
UID:10029300-1779296400-1779307200@gympiersl.com.au
SUMMARY:Asian Cuisine Night
DESCRIPTION:Spice up your midweek with Asian Cuisine Night every Wednesday from 5:00pm – 8:00pm. \nIndulge in a delicious selection of Asian-inspired favourites\, packed with bold flavours\, fragrant spices\, and comforting classics. It’s the perfect way to break up the week and enjoy something a little different with family and friends. \nJoin us Wednesday nights and savour the flavours of Asia right here at the Club.
URL:https://gympiersl.com.au/event/asian-cuisine-night/2026-05-20/
LOCATION:Atrium Bistro\, Gympie RSL\, 217 Mary Street\, Gympie\, QLD\, 4570\, Australia
CATEGORIES:All,Meal Specials
ATTACH;FMTTYPE=image/jpeg:https://gympiersl.com.au/wp-content/uploads/2026/03/08042026005202-GympieRSL-AsianCuisine_WebEventFeature.jpg
END:VEVENT
BEGIN:VEVENT
DTSTART;TZID=Australia/Brisbane:20260527T170000
DTEND;TZID=Australia/Brisbane:20260527T200000
DTSTAMP:20260421T001959
CREATED:20260302T030426Z
LAST-MODIFIED:20260408T032651Z
UID:10029301-1779901200-1779912000@gympiersl.com.au
SUMMARY:Asian Cuisine Night
DESCRIPTION:Spice up your midweek with Asian Cuisine Night every Wednesday from 5:00pm – 8:00pm. \nIndulge in a delicious selection of Asian-inspired favourites\, packed with bold flavours\, fragrant spices\, and comforting classics. It’s the perfect way to break up the week and enjoy something a little different with family and friends. \nJoin us Wednesday nights and savour the flavours of Asia right here at the Club.
URL:https://gympiersl.com.au/event/asian-cuisine-night/2026-05-27/
LOCATION:Atrium Bistro\, Gympie RSL\, 217 Mary Street\, Gympie\, QLD\, 4570\, Australia
CATEGORIES:All,Meal Specials
ATTACH;FMTTYPE=image/jpeg:https://gympiersl.com.au/wp-content/uploads/2026/03/08042026005202-GympieRSL-AsianCuisine_WebEventFeature.jpg
END:VEVENT
END:VCALENDAR