BEGIN:VCALENDAR
VERSION:2.0
PRODID:-//Gympie RSL - ECPv6.15.20//NONSGML v1.0//EN
CALSCALE:GREGORIAN
METHOD:PUBLISH
X-WR-CALNAME:Gympie RSL
X-ORIGINAL-URL:https://gympiersl.com.au
X-WR-CALDESC:Events for Gympie RSL
REFRESH-INTERVAL;VALUE=DURATION:PT1H
X-Robots-Tag:noindex
X-PUBLISHED-TTL:PT1H
BEGIN:VTIMEZONE
TZID:Australia/Brisbane
BEGIN:STANDARD
TZOFFSETFROM:+1000
TZOFFSETTO:+1000
TZNAME:AEST
DTSTART:20250101T000000
END:STANDARD
END:VTIMEZONE
BEGIN:VEVENT
DTSTART;TZID=Australia/Brisbane:20260527T130000
DTEND;TZID=Australia/Brisbane:20260527T140000
DTSTAMP:20260423T080426
CREATED:20240828T005800Z
LAST-MODIFIED:20251215T014724Z
UID:10016115-1779886800-1779890400@gympiersl.com.au
SUMMARY:Fit Together
DESCRIPTION:Exercise is better with friends! \nJoin us every Wednesday from 1pm at the Gympie Aquatic Recreation Centre. \nThis group fitness class will keep you energised and interested with new skills every week! \nOpen to Veterans\, their partners/carers and friends. \nMust show DVA card or RSL membership card for entry. \nFor more information\, call 5483 7707 or email reception@gympiersla.com.au \n  \nBOOK HERE
URL:https://gympiersl.com.au/event/fit-together-wed/2026-05-27/
LOCATION:Gympie Aquatic Centre\, Tozer Park Road\, Gympie\, QLD\, 4570\, Australia
CATEGORIES:Welfare,Welfare Weekly
ATTACH;FMTTYPE=image/jpeg:https://gympiersl.com.au/wp-content/uploads/2024/05/Gympie-RSL-Web-Event-Featured_Fit-Together.jpg
END:VEVENT
BEGIN:VEVENT
DTSTART;TZID=Australia/Brisbane:20260528T130000
DTEND;TZID=Australia/Brisbane:20260528T140000
DTSTAMP:20260423T080426
CREATED:20240509T222733Z
LAST-MODIFIED:20251215T015412Z
UID:10017437-1779973200-1779976800@gympiersl.com.au
SUMMARY:Chair Exercise
DESCRIPTION:Sit\, Stretch\, Breathe with Chair Exercise \nJoin us at Gympie Aquatic Recreation Centre\, every Thursday from 1pm for our Chair Exercise classes. \nEnjoy some low-impact fitness that improves strength\, mobility\, posture\, balance and helps reduce stress. \nAll ages and abilities welcome! \n  \nBOOK HERE
URL:https://gympiersl.com.au/event/chair-exercise/2026-05-28/
LOCATION:Gympie Aquatic Centre\, Tozer Park Road\, Gympie\, QLD\, 4570\, Australia
CATEGORIES:Welfare,Welfare Weekly
ATTACH;FMTTYPE=image/jpeg:https://gympiersl.com.au/wp-content/uploads/2024/05/Gympie-RSL-Web-Event-Featured_Chair-Yoga.jpg
END:VEVENT
BEGIN:VEVENT
DTSTART;VALUE=DATE:20260529
DTEND;VALUE=DATE:20260530
DTSTAMP:20260423T080426
CREATED:20240509T223509Z
LAST-MODIFIED:20240509T224355Z
UID:10015547-1780012800-1780099199@gympiersl.com.au
SUMMARY:Swimming
DESCRIPTION:Spend your day poolside with Free Pool Entry! \nAll day entry every Wednesday\, Friday and Saturday for Veterans\, Partners/Carers* \nGympie Aquatic Recreation Centre. \nFor mor information call 5483 7707 or email reception@gympiersla.com.au \n*Children of Veterans welcome upon application at the Veteran centre; must show DVA\, RSL Membership &/or Veteran Centre Family card upon entry.
URL:https://gympiersl.com.au/event/swimming/2026-05-29/
LOCATION:Gympie Aquatic Centre\, Tozer Park Road\, Gympie\, QLD\, 4570\, Australia
CATEGORIES:Welfare,Welfare Weekly
ATTACH;FMTTYPE=image/jpeg:https://gympiersl.com.au/wp-content/uploads/2024/05/Gympie-RSL-Web-Event-Featured_Swimming.jpg
END:VEVENT
BEGIN:VEVENT
DTSTART;TZID=Australia/Brisbane:20260529T130000
DTEND;TZID=Australia/Brisbane:20260529T140000
DTSTAMP:20260423T080426
CREATED:20240509T222403Z
LAST-MODIFIED:20251215T020538Z
UID:10016379-1780059600-1780063200@gympiersl.com.au
SUMMARY:Splash Aerobics
DESCRIPTION:Join in the fun at our low-impact pool workout sessions! \nEvery Friday from 1pm at Gympie Aquatic Centre. \nOpen to Veterans and their partners/carers. \nFor more information\, call 5483 7707 or email events@gympiersla.com.au. \n  \nBOOK HERE
URL:https://gympiersl.com.au/event/splash-aerobics/2026-05-29/
LOCATION:Gympie Aquatic Centre\, Tozer Park Road\, Gympie\, QLD\, 4570\, Australia
CATEGORIES:Welfare,Welfare Weekly
ATTACH;FMTTYPE=image/jpeg:https://gympiersl.com.au/wp-content/uploads/2024/05/Gympie-RSL-Web-Event-Featured_Splash-Aerobics.jpg
END:VEVENT
BEGIN:VEVENT
DTSTART;VALUE=DATE:20260530
DTEND;VALUE=DATE:20260531
DTSTAMP:20260423T080426
CREATED:20240509T223509Z
LAST-MODIFIED:20240509T224355Z
UID:10015548-1780099200-1780185599@gympiersl.com.au
SUMMARY:Swimming
DESCRIPTION:Spend your day poolside with Free Pool Entry! \nAll day entry every Wednesday\, Friday and Saturday for Veterans\, Partners/Carers* \nGympie Aquatic Recreation Centre. \nFor mor information call 5483 7707 or email reception@gympiersla.com.au \n*Children of Veterans welcome upon application at the Veteran centre; must show DVA\, RSL Membership &/or Veteran Centre Family card upon entry.
URL:https://gympiersl.com.au/event/swimming/2026-05-30/
LOCATION:Gympie Aquatic Centre\, Tozer Park Road\, Gympie\, QLD\, 4570\, Australia
CATEGORIES:Welfare,Welfare Weekly
ATTACH;FMTTYPE=image/jpeg:https://gympiersl.com.au/wp-content/uploads/2024/05/Gympie-RSL-Web-Event-Featured_Swimming.jpg
END:VEVENT
BEGIN:VEVENT
DTSTART;TZID=Australia/Brisbane:20260602T100000
DTEND;TZID=Australia/Brisbane:20260602T120000
DTSTAMP:20260423T080426
CREATED:20240509T221424Z
LAST-MODIFIED:20240509T224325Z
UID:10016902-1780394400-1780401600@gympiersl.com.au
SUMMARY:Coffee & Chat
DESCRIPTION:Join us at the Rendezvous Café every Tuesday for Coffee & Chat! \nAll veterans are welcome to join\, share stories\, and lend a listening ear.
URL:https://gympiersl.com.au/event/coffee-chat/2026-06-02/
LOCATION:Rendezvous Café & Bar\, Gympie RSL\, 217 Mary Street\, Gympie\, QLD\, 4570\, Australia
CATEGORIES:Welfare,Welfare Weekly
ATTACH;FMTTYPE=image/jpeg:https://gympiersl.com.au/wp-content/uploads/2024/05/Gympie-RSL-Web-Event-Featured_Coffee-Chat.jpg
END:VEVENT
BEGIN:VEVENT
DTSTART;TZID=Australia/Brisbane:20260602T173000
DTEND;TZID=Australia/Brisbane:20260602T183000
DTSTAMP:20260423T080426
CREATED:20251015T001104Z
LAST-MODIFIED:20251015T002130Z
UID:10017163-1780421400-1780425000@gympiersl.com.au
SUMMARY:Choir
DESCRIPTION:Calling all Crooners! \nIf you love to sing\, then come along to Gympie Veteran Centre (39 Monkland St.) every Tuesday from 5:30pm and be part of our Choir. \nWe hold regular performances throughout the year. \nOpen to all members of the Gympie Community with any voice type and singing experience. \nFor more information\, please call 5483 7707 or email reception@gympiersla.com.au.
URL:https://gympiersl.com.au/event/choir-2/2026-06-02/
LOCATION:Veteran Services Centre\, 39 Monkland Street\, Gympie\, QLD\, 4570\, Australia
CATEGORIES:Welfare,Welfare Weekly
ATTACH;FMTTYPE=image/jpeg:https://gympiersl.com.au/wp-content/uploads/2024/05/Gympie-RSL-Web-Event-Featured_Choir.jpg
END:VEVENT
BEGIN:VEVENT
DTSTART;VALUE=DATE:20260603
DTEND;VALUE=DATE:20260604
DTSTAMP:20260423T080426
CREATED:20240509T223509Z
LAST-MODIFIED:20240509T224355Z
UID:10015549-1780444800-1780531199@gympiersl.com.au
SUMMARY:Swimming
DESCRIPTION:Spend your day poolside with Free Pool Entry! \nAll day entry every Wednesday\, Friday and Saturday for Veterans\, Partners/Carers* \nGympie Aquatic Recreation Centre. \nFor mor information call 5483 7707 or email reception@gympiersla.com.au \n*Children of Veterans welcome upon application at the Veteran centre; must show DVA\, RSL Membership &/or Veteran Centre Family card upon entry.
URL:https://gympiersl.com.au/event/swimming/2026-06-03/
LOCATION:Gympie Aquatic Centre\, Tozer Park Road\, Gympie\, QLD\, 4570\, Australia
CATEGORIES:Welfare,Welfare Weekly
ATTACH;FMTTYPE=image/jpeg:https://gympiersl.com.au/wp-content/uploads/2024/05/Gympie-RSL-Web-Event-Featured_Swimming.jpg
END:VEVENT
BEGIN:VEVENT
DTSTART;TZID=Australia/Brisbane:20260603T130000
DTEND;TZID=Australia/Brisbane:20260603T140000
DTSTAMP:20260423T080426
CREATED:20240828T005800Z
LAST-MODIFIED:20251215T014724Z
UID:10016116-1780491600-1780495200@gympiersl.com.au
SUMMARY:Fit Together
DESCRIPTION:Exercise is better with friends! \nJoin us every Wednesday from 1pm at the Gympie Aquatic Recreation Centre. \nThis group fitness class will keep you energised and interested with new skills every week! \nOpen to Veterans\, their partners/carers and friends. \nMust show DVA card or RSL membership card for entry. \nFor more information\, call 5483 7707 or email reception@gympiersla.com.au \n  \nBOOK HERE
URL:https://gympiersl.com.au/event/fit-together-wed/2026-06-03/
LOCATION:Gympie Aquatic Centre\, Tozer Park Road\, Gympie\, QLD\, 4570\, Australia
CATEGORIES:Welfare,Welfare Weekly
ATTACH;FMTTYPE=image/jpeg:https://gympiersl.com.au/wp-content/uploads/2024/05/Gympie-RSL-Web-Event-Featured_Fit-Together.jpg
END:VEVENT
BEGIN:VEVENT
DTSTART;TZID=Australia/Brisbane:20260604T130000
DTEND;TZID=Australia/Brisbane:20260604T140000
DTSTAMP:20260423T080426
CREATED:20240509T222733Z
LAST-MODIFIED:20251215T015412Z
UID:10017438-1780578000-1780581600@gympiersl.com.au
SUMMARY:Chair Exercise
DESCRIPTION:Sit\, Stretch\, Breathe with Chair Exercise \nJoin us at Gympie Aquatic Recreation Centre\, every Thursday from 1pm for our Chair Exercise classes. \nEnjoy some low-impact fitness that improves strength\, mobility\, posture\, balance and helps reduce stress. \nAll ages and abilities welcome! \n  \nBOOK HERE
URL:https://gympiersl.com.au/event/chair-exercise/2026-06-04/
LOCATION:Gympie Aquatic Centre\, Tozer Park Road\, Gympie\, QLD\, 4570\, Australia
CATEGORIES:Welfare,Welfare Weekly
ATTACH;FMTTYPE=image/jpeg:https://gympiersl.com.au/wp-content/uploads/2024/05/Gympie-RSL-Web-Event-Featured_Chair-Yoga.jpg
END:VEVENT
BEGIN:VEVENT
DTSTART;VALUE=DATE:20260605
DTEND;VALUE=DATE:20260606
DTSTAMP:20260423T080426
CREATED:20240509T223509Z
LAST-MODIFIED:20240509T224355Z
UID:10015550-1780617600-1780703999@gympiersl.com.au
SUMMARY:Swimming
DESCRIPTION:Spend your day poolside with Free Pool Entry! \nAll day entry every Wednesday\, Friday and Saturday for Veterans\, Partners/Carers* \nGympie Aquatic Recreation Centre. \nFor mor information call 5483 7707 or email reception@gympiersla.com.au \n*Children of Veterans welcome upon application at the Veteran centre; must show DVA\, RSL Membership &/or Veteran Centre Family card upon entry.
URL:https://gympiersl.com.au/event/swimming/2026-06-05/
LOCATION:Gympie Aquatic Centre\, Tozer Park Road\, Gympie\, QLD\, 4570\, Australia
CATEGORIES:Welfare,Welfare Weekly
ATTACH;FMTTYPE=image/jpeg:https://gympiersl.com.au/wp-content/uploads/2024/05/Gympie-RSL-Web-Event-Featured_Swimming.jpg
END:VEVENT
BEGIN:VEVENT
DTSTART;TZID=Australia/Brisbane:20260605T130000
DTEND;TZID=Australia/Brisbane:20260605T140000
DTSTAMP:20260423T080426
CREATED:20240509T222403Z
LAST-MODIFIED:20251215T020538Z
UID:10016380-1780664400-1780668000@gympiersl.com.au
SUMMARY:Splash Aerobics
DESCRIPTION:Join in the fun at our low-impact pool workout sessions! \nEvery Friday from 1pm at Gympie Aquatic Centre. \nOpen to Veterans and their partners/carers. \nFor more information\, call 5483 7707 or email events@gympiersla.com.au. \n  \nBOOK HERE
URL:https://gympiersl.com.au/event/splash-aerobics/2026-06-05/
LOCATION:Gympie Aquatic Centre\, Tozer Park Road\, Gympie\, QLD\, 4570\, Australia
CATEGORIES:Welfare,Welfare Weekly
ATTACH;FMTTYPE=image/jpeg:https://gympiersl.com.au/wp-content/uploads/2024/05/Gympie-RSL-Web-Event-Featured_Splash-Aerobics.jpg
END:VEVENT
BEGIN:VEVENT
DTSTART;VALUE=DATE:20260606
DTEND;VALUE=DATE:20260607
DTSTAMP:20260423T080426
CREATED:20240509T223509Z
LAST-MODIFIED:20240509T224355Z
UID:10015551-1780704000-1780790399@gympiersl.com.au
SUMMARY:Swimming
DESCRIPTION:Spend your day poolside with Free Pool Entry! \nAll day entry every Wednesday\, Friday and Saturday for Veterans\, Partners/Carers* \nGympie Aquatic Recreation Centre. \nFor mor information call 5483 7707 or email reception@gympiersla.com.au \n*Children of Veterans welcome upon application at the Veteran centre; must show DVA\, RSL Membership &/or Veteran Centre Family card upon entry.
URL:https://gympiersl.com.au/event/swimming/2026-06-06/
LOCATION:Gympie Aquatic Centre\, Tozer Park Road\, Gympie\, QLD\, 4570\, Australia
CATEGORIES:Welfare,Welfare Weekly
ATTACH;FMTTYPE=image/jpeg:https://gympiersl.com.au/wp-content/uploads/2024/05/Gympie-RSL-Web-Event-Featured_Swimming.jpg
END:VEVENT
BEGIN:VEVENT
DTSTART;TZID=Australia/Brisbane:20260609T100000
DTEND;TZID=Australia/Brisbane:20260609T120000
DTSTAMP:20260423T080426
CREATED:20240509T221424Z
LAST-MODIFIED:20240509T224325Z
UID:10016903-1780999200-1781006400@gympiersl.com.au
SUMMARY:Coffee & Chat
DESCRIPTION:Join us at the Rendezvous Café every Tuesday for Coffee & Chat! \nAll veterans are welcome to join\, share stories\, and lend a listening ear.
URL:https://gympiersl.com.au/event/coffee-chat/2026-06-09/
LOCATION:Rendezvous Café & Bar\, Gympie RSL\, 217 Mary Street\, Gympie\, QLD\, 4570\, Australia
CATEGORIES:Welfare,Welfare Weekly
ATTACH;FMTTYPE=image/jpeg:https://gympiersl.com.au/wp-content/uploads/2024/05/Gympie-RSL-Web-Event-Featured_Coffee-Chat.jpg
END:VEVENT
BEGIN:VEVENT
DTSTART;TZID=Australia/Brisbane:20260609T173000
DTEND;TZID=Australia/Brisbane:20260609T183000
DTSTAMP:20260423T080426
CREATED:20251015T001104Z
LAST-MODIFIED:20251015T002130Z
UID:10017164-1781026200-1781029800@gympiersl.com.au
SUMMARY:Choir
DESCRIPTION:Calling all Crooners! \nIf you love to sing\, then come along to Gympie Veteran Centre (39 Monkland St.) every Tuesday from 5:30pm and be part of our Choir. \nWe hold regular performances throughout the year. \nOpen to all members of the Gympie Community with any voice type and singing experience. \nFor more information\, please call 5483 7707 or email reception@gympiersla.com.au.
URL:https://gympiersl.com.au/event/choir-2/2026-06-09/
LOCATION:Veteran Services Centre\, 39 Monkland Street\, Gympie\, QLD\, 4570\, Australia
CATEGORIES:Welfare,Welfare Weekly
ATTACH;FMTTYPE=image/jpeg:https://gympiersl.com.au/wp-content/uploads/2024/05/Gympie-RSL-Web-Event-Featured_Choir.jpg
END:VEVENT
BEGIN:VEVENT
DTSTART;VALUE=DATE:20260610
DTEND;VALUE=DATE:20260611
DTSTAMP:20260423T080426
CREATED:20240509T223509Z
LAST-MODIFIED:20240509T224355Z
UID:10015552-1781049600-1781135999@gympiersl.com.au
SUMMARY:Swimming
DESCRIPTION:Spend your day poolside with Free Pool Entry! \nAll day entry every Wednesday\, Friday and Saturday for Veterans\, Partners/Carers* \nGympie Aquatic Recreation Centre. \nFor mor information call 5483 7707 or email reception@gympiersla.com.au \n*Children of Veterans welcome upon application at the Veteran centre; must show DVA\, RSL Membership &/or Veteran Centre Family card upon entry.
URL:https://gympiersl.com.au/event/swimming/2026-06-10/
LOCATION:Gympie Aquatic Centre\, Tozer Park Road\, Gympie\, QLD\, 4570\, Australia
CATEGORIES:Welfare,Welfare Weekly
ATTACH;FMTTYPE=image/jpeg:https://gympiersl.com.au/wp-content/uploads/2024/05/Gympie-RSL-Web-Event-Featured_Swimming.jpg
END:VEVENT
BEGIN:VEVENT
DTSTART;TZID=Australia/Brisbane:20260610T130000
DTEND;TZID=Australia/Brisbane:20260610T140000
DTSTAMP:20260423T080426
CREATED:20240828T005800Z
LAST-MODIFIED:20251215T014724Z
UID:10016117-1781096400-1781100000@gympiersl.com.au
SUMMARY:Fit Together
DESCRIPTION:Exercise is better with friends! \nJoin us every Wednesday from 1pm at the Gympie Aquatic Recreation Centre. \nThis group fitness class will keep you energised and interested with new skills every week! \nOpen to Veterans\, their partners/carers and friends. \nMust show DVA card or RSL membership card for entry. \nFor more information\, call 5483 7707 or email reception@gympiersla.com.au \n  \nBOOK HERE
URL:https://gympiersl.com.au/event/fit-together-wed/2026-06-10/
LOCATION:Gympie Aquatic Centre\, Tozer Park Road\, Gympie\, QLD\, 4570\, Australia
CATEGORIES:Welfare,Welfare Weekly
ATTACH;FMTTYPE=image/jpeg:https://gympiersl.com.au/wp-content/uploads/2024/05/Gympie-RSL-Web-Event-Featured_Fit-Together.jpg
END:VEVENT
BEGIN:VEVENT
DTSTART;TZID=Australia/Brisbane:20260611T130000
DTEND;TZID=Australia/Brisbane:20260611T140000
DTSTAMP:20260423T080426
CREATED:20240509T222733Z
LAST-MODIFIED:20251215T015412Z
UID:10017439-1781182800-1781186400@gympiersl.com.au
SUMMARY:Chair Exercise
DESCRIPTION:Sit\, Stretch\, Breathe with Chair Exercise \nJoin us at Gympie Aquatic Recreation Centre\, every Thursday from 1pm for our Chair Exercise classes. \nEnjoy some low-impact fitness that improves strength\, mobility\, posture\, balance and helps reduce stress. \nAll ages and abilities welcome! \n  \nBOOK HERE
URL:https://gympiersl.com.au/event/chair-exercise/2026-06-11/
LOCATION:Gympie Aquatic Centre\, Tozer Park Road\, Gympie\, QLD\, 4570\, Australia
CATEGORIES:Welfare,Welfare Weekly
ATTACH;FMTTYPE=image/jpeg:https://gympiersl.com.au/wp-content/uploads/2024/05/Gympie-RSL-Web-Event-Featured_Chair-Yoga.jpg
END:VEVENT
BEGIN:VEVENT
DTSTART;VALUE=DATE:20260612
DTEND;VALUE=DATE:20260613
DTSTAMP:20260423T080426
CREATED:20240509T223509Z
LAST-MODIFIED:20240509T224355Z
UID:10015553-1781222400-1781308799@gympiersl.com.au
SUMMARY:Swimming
DESCRIPTION:Spend your day poolside with Free Pool Entry! \nAll day entry every Wednesday\, Friday and Saturday for Veterans\, Partners/Carers* \nGympie Aquatic Recreation Centre. \nFor mor information call 5483 7707 or email reception@gympiersla.com.au \n*Children of Veterans welcome upon application at the Veteran centre; must show DVA\, RSL Membership &/or Veteran Centre Family card upon entry.
URL:https://gympiersl.com.au/event/swimming/2026-06-12/
LOCATION:Gympie Aquatic Centre\, Tozer Park Road\, Gympie\, QLD\, 4570\, Australia
CATEGORIES:Welfare,Welfare Weekly
ATTACH;FMTTYPE=image/jpeg:https://gympiersl.com.au/wp-content/uploads/2024/05/Gympie-RSL-Web-Event-Featured_Swimming.jpg
END:VEVENT
BEGIN:VEVENT
DTSTART;TZID=Australia/Brisbane:20260612T130000
DTEND;TZID=Australia/Brisbane:20260612T140000
DTSTAMP:20260423T080426
CREATED:20240509T222403Z
LAST-MODIFIED:20251215T020538Z
UID:10016381-1781269200-1781272800@gympiersl.com.au
SUMMARY:Splash Aerobics
DESCRIPTION:Join in the fun at our low-impact pool workout sessions! \nEvery Friday from 1pm at Gympie Aquatic Centre. \nOpen to Veterans and their partners/carers. \nFor more information\, call 5483 7707 or email events@gympiersla.com.au. \n  \nBOOK HERE
URL:https://gympiersl.com.au/event/splash-aerobics/2026-06-12/
LOCATION:Gympie Aquatic Centre\, Tozer Park Road\, Gympie\, QLD\, 4570\, Australia
CATEGORIES:Welfare,Welfare Weekly
ATTACH;FMTTYPE=image/jpeg:https://gympiersl.com.au/wp-content/uploads/2024/05/Gympie-RSL-Web-Event-Featured_Splash-Aerobics.jpg
END:VEVENT
BEGIN:VEVENT
DTSTART;VALUE=DATE:20260613
DTEND;VALUE=DATE:20260614
DTSTAMP:20260423T080426
CREATED:20240509T223509Z
LAST-MODIFIED:20240509T224355Z
UID:10015554-1781308800-1781395199@gympiersl.com.au
SUMMARY:Swimming
DESCRIPTION:Spend your day poolside with Free Pool Entry! \nAll day entry every Wednesday\, Friday and Saturday for Veterans\, Partners/Carers* \nGympie Aquatic Recreation Centre. \nFor mor information call 5483 7707 or email reception@gympiersla.com.au \n*Children of Veterans welcome upon application at the Veteran centre; must show DVA\, RSL Membership &/or Veteran Centre Family card upon entry.
URL:https://gympiersl.com.au/event/swimming/2026-06-13/
LOCATION:Gympie Aquatic Centre\, Tozer Park Road\, Gympie\, QLD\, 4570\, Australia
CATEGORIES:Welfare,Welfare Weekly
ATTACH;FMTTYPE=image/jpeg:https://gympiersl.com.au/wp-content/uploads/2024/05/Gympie-RSL-Web-Event-Featured_Swimming.jpg
END:VEVENT
BEGIN:VEVENT
DTSTART;TZID=Australia/Brisbane:20260616T100000
DTEND;TZID=Australia/Brisbane:20260616T120000
DTSTAMP:20260423T080426
CREATED:20240509T221424Z
LAST-MODIFIED:20240509T224325Z
UID:10016904-1781604000-1781611200@gympiersl.com.au
SUMMARY:Coffee & Chat
DESCRIPTION:Join us at the Rendezvous Café every Tuesday for Coffee & Chat! \nAll veterans are welcome to join\, share stories\, and lend a listening ear.
URL:https://gympiersl.com.au/event/coffee-chat/2026-06-16/
LOCATION:Rendezvous Café & Bar\, Gympie RSL\, 217 Mary Street\, Gympie\, QLD\, 4570\, Australia
CATEGORIES:Welfare,Welfare Weekly
ATTACH;FMTTYPE=image/jpeg:https://gympiersl.com.au/wp-content/uploads/2024/05/Gympie-RSL-Web-Event-Featured_Coffee-Chat.jpg
END:VEVENT
BEGIN:VEVENT
DTSTART;TZID=Australia/Brisbane:20260616T173000
DTEND;TZID=Australia/Brisbane:20260616T183000
DTSTAMP:20260423T080426
CREATED:20251015T001104Z
LAST-MODIFIED:20251015T002130Z
UID:10017165-1781631000-1781634600@gympiersl.com.au
SUMMARY:Choir
DESCRIPTION:Calling all Crooners! \nIf you love to sing\, then come along to Gympie Veteran Centre (39 Monkland St.) every Tuesday from 5:30pm and be part of our Choir. \nWe hold regular performances throughout the year. \nOpen to all members of the Gympie Community with any voice type and singing experience. \nFor more information\, please call 5483 7707 or email reception@gympiersla.com.au.
URL:https://gympiersl.com.au/event/choir-2/2026-06-16/
LOCATION:Veteran Services Centre\, 39 Monkland Street\, Gympie\, QLD\, 4570\, Australia
CATEGORIES:Welfare,Welfare Weekly
ATTACH;FMTTYPE=image/jpeg:https://gympiersl.com.au/wp-content/uploads/2024/05/Gympie-RSL-Web-Event-Featured_Choir.jpg
END:VEVENT
BEGIN:VEVENT
DTSTART;VALUE=DATE:20260617
DTEND;VALUE=DATE:20260618
DTSTAMP:20260423T080426
CREATED:20240509T223509Z
LAST-MODIFIED:20240509T224355Z
UID:10015555-1781654400-1781740799@gympiersl.com.au
SUMMARY:Swimming
DESCRIPTION:Spend your day poolside with Free Pool Entry! \nAll day entry every Wednesday\, Friday and Saturday for Veterans\, Partners/Carers* \nGympie Aquatic Recreation Centre. \nFor mor information call 5483 7707 or email reception@gympiersla.com.au \n*Children of Veterans welcome upon application at the Veteran centre; must show DVA\, RSL Membership &/or Veteran Centre Family card upon entry.
URL:https://gympiersl.com.au/event/swimming/2026-06-17/
LOCATION:Gympie Aquatic Centre\, Tozer Park Road\, Gympie\, QLD\, 4570\, Australia
CATEGORIES:Welfare,Welfare Weekly
ATTACH;FMTTYPE=image/jpeg:https://gympiersl.com.au/wp-content/uploads/2024/05/Gympie-RSL-Web-Event-Featured_Swimming.jpg
END:VEVENT
BEGIN:VEVENT
DTSTART;TZID=Australia/Brisbane:20260617T130000
DTEND;TZID=Australia/Brisbane:20260617T140000
DTSTAMP:20260423T080426
CREATED:20240828T005800Z
LAST-MODIFIED:20251215T014724Z
UID:10016118-1781701200-1781704800@gympiersl.com.au
SUMMARY:Fit Together
DESCRIPTION:Exercise is better with friends! \nJoin us every Wednesday from 1pm at the Gympie Aquatic Recreation Centre. \nThis group fitness class will keep you energised and interested with new skills every week! \nOpen to Veterans\, their partners/carers and friends. \nMust show DVA card or RSL membership card for entry. \nFor more information\, call 5483 7707 or email reception@gympiersla.com.au \n  \nBOOK HERE
URL:https://gympiersl.com.au/event/fit-together-wed/2026-06-17/
LOCATION:Gympie Aquatic Centre\, Tozer Park Road\, Gympie\, QLD\, 4570\, Australia
CATEGORIES:Welfare,Welfare Weekly
ATTACH;FMTTYPE=image/jpeg:https://gympiersl.com.au/wp-content/uploads/2024/05/Gympie-RSL-Web-Event-Featured_Fit-Together.jpg
END:VEVENT
BEGIN:VEVENT
DTSTART;TZID=Australia/Brisbane:20260618T130000
DTEND;TZID=Australia/Brisbane:20260618T140000
DTSTAMP:20260423T080426
CREATED:20240509T222733Z
LAST-MODIFIED:20251215T015412Z
UID:10017440-1781787600-1781791200@gympiersl.com.au
SUMMARY:Chair Exercise
DESCRIPTION:Sit\, Stretch\, Breathe with Chair Exercise \nJoin us at Gympie Aquatic Recreation Centre\, every Thursday from 1pm for our Chair Exercise classes. \nEnjoy some low-impact fitness that improves strength\, mobility\, posture\, balance and helps reduce stress. \nAll ages and abilities welcome! \n  \nBOOK HERE
URL:https://gympiersl.com.au/event/chair-exercise/2026-06-18/
LOCATION:Gympie Aquatic Centre\, Tozer Park Road\, Gympie\, QLD\, 4570\, Australia
CATEGORIES:Welfare,Welfare Weekly
ATTACH;FMTTYPE=image/jpeg:https://gympiersl.com.au/wp-content/uploads/2024/05/Gympie-RSL-Web-Event-Featured_Chair-Yoga.jpg
END:VEVENT
BEGIN:VEVENT
DTSTART;VALUE=DATE:20260619
DTEND;VALUE=DATE:20260620
DTSTAMP:20260423T080426
CREATED:20240509T223509Z
LAST-MODIFIED:20240509T224355Z
UID:10015556-1781827200-1781913599@gympiersl.com.au
SUMMARY:Swimming
DESCRIPTION:Spend your day poolside with Free Pool Entry! \nAll day entry every Wednesday\, Friday and Saturday for Veterans\, Partners/Carers* \nGympie Aquatic Recreation Centre. \nFor mor information call 5483 7707 or email reception@gympiersla.com.au \n*Children of Veterans welcome upon application at the Veteran centre; must show DVA\, RSL Membership &/or Veteran Centre Family card upon entry.
URL:https://gympiersl.com.au/event/swimming/2026-06-19/
LOCATION:Gympie Aquatic Centre\, Tozer Park Road\, Gympie\, QLD\, 4570\, Australia
CATEGORIES:Welfare,Welfare Weekly
ATTACH;FMTTYPE=image/jpeg:https://gympiersl.com.au/wp-content/uploads/2024/05/Gympie-RSL-Web-Event-Featured_Swimming.jpg
END:VEVENT
BEGIN:VEVENT
DTSTART;TZID=Australia/Brisbane:20260619T130000
DTEND;TZID=Australia/Brisbane:20260619T140000
DTSTAMP:20260423T080426
CREATED:20240509T222403Z
LAST-MODIFIED:20251215T020538Z
UID:10016382-1781874000-1781877600@gympiersl.com.au
SUMMARY:Splash Aerobics
DESCRIPTION:Join in the fun at our low-impact pool workout sessions! \nEvery Friday from 1pm at Gympie Aquatic Centre. \nOpen to Veterans and their partners/carers. \nFor more information\, call 5483 7707 or email events@gympiersla.com.au. \n  \nBOOK HERE
URL:https://gympiersl.com.au/event/splash-aerobics/2026-06-19/
LOCATION:Gympie Aquatic Centre\, Tozer Park Road\, Gympie\, QLD\, 4570\, Australia
CATEGORIES:Welfare,Welfare Weekly
ATTACH;FMTTYPE=image/jpeg:https://gympiersl.com.au/wp-content/uploads/2024/05/Gympie-RSL-Web-Event-Featured_Splash-Aerobics.jpg
END:VEVENT
BEGIN:VEVENT
DTSTART;VALUE=DATE:20260620
DTEND;VALUE=DATE:20260621
DTSTAMP:20260423T080426
CREATED:20240509T223509Z
LAST-MODIFIED:20240509T224355Z
UID:10015557-1781913600-1781999999@gympiersl.com.au
SUMMARY:Swimming
DESCRIPTION:Spend your day poolside with Free Pool Entry! \nAll day entry every Wednesday\, Friday and Saturday for Veterans\, Partners/Carers* \nGympie Aquatic Recreation Centre. \nFor mor information call 5483 7707 or email reception@gympiersla.com.au \n*Children of Veterans welcome upon application at the Veteran centre; must show DVA\, RSL Membership &/or Veteran Centre Family card upon entry.
URL:https://gympiersl.com.au/event/swimming/2026-06-20/
LOCATION:Gympie Aquatic Centre\, Tozer Park Road\, Gympie\, QLD\, 4570\, Australia
CATEGORIES:Welfare,Welfare Weekly
ATTACH;FMTTYPE=image/jpeg:https://gympiersl.com.au/wp-content/uploads/2024/05/Gympie-RSL-Web-Event-Featured_Swimming.jpg
END:VEVENT
BEGIN:VEVENT
DTSTART;TZID=Australia/Brisbane:20260623T100000
DTEND;TZID=Australia/Brisbane:20260623T120000
DTSTAMP:20260423T080426
CREATED:20240509T221424Z
LAST-MODIFIED:20240509T224325Z
UID:10016905-1782208800-1782216000@gympiersl.com.au
SUMMARY:Coffee & Chat
DESCRIPTION:Join us at the Rendezvous Café every Tuesday for Coffee & Chat! \nAll veterans are welcome to join\, share stories\, and lend a listening ear.
URL:https://gympiersl.com.au/event/coffee-chat/2026-06-23/
LOCATION:Rendezvous Café & Bar\, Gympie RSL\, 217 Mary Street\, Gympie\, QLD\, 4570\, Australia
CATEGORIES:Welfare,Welfare Weekly
ATTACH;FMTTYPE=image/jpeg:https://gympiersl.com.au/wp-content/uploads/2024/05/Gympie-RSL-Web-Event-Featured_Coffee-Chat.jpg
END:VEVENT
END:VCALENDAR