BEGIN:VCALENDAR
VERSION:2.0
PRODID:-//Gympie RSL - ECPv6.15.20//NONSGML v1.0//EN
CALSCALE:GREGORIAN
METHOD:PUBLISH
X-WR-CALNAME:Gympie RSL
X-ORIGINAL-URL:https://gympiersl.com.au
X-WR-CALDESC:Events for Gympie RSL
REFRESH-INTERVAL;VALUE=DURATION:PT1H
X-Robots-Tag:noindex
X-PUBLISHED-TTL:PT1H
BEGIN:VTIMEZONE
TZID:Australia/Brisbane
BEGIN:STANDARD
TZOFFSETFROM:+1000
TZOFFSETTO:+1000
TZNAME:AEST
DTSTART:20230101T000000
END:STANDARD
END:VTIMEZONE
BEGIN:VEVENT
DTSTART;TZID=Australia/Brisbane:20250616T090000
DTEND;TZID=Australia/Brisbane:20250616T150000
DTSTAMP:20260422T021442
CREATED:20250531T220042Z
LAST-MODIFIED:20250628T050121Z
UID:10024062-1750064400-1750086000@gympiersl.com.au
SUMMARY:Winter Health and Wellbeing Program 2025
DESCRIPTION:Explore a diverse lineup of wellness events designed to support physical\, social\, and emotional wellbeing for veterans\, carers\, and the wider Gympie community. Scroll to discover what’s on this winter! \n🍷 Mystery Winery Tour Bus Trip\nDate: Wednesday\, 16th July 2025Time: 9:00 AM – 3:00 PMCost: $15 per person \nEnjoy a day of stunning scenery\, warm company\, and excellent wine. The destination? A mystery!\nThis bus trip is the perfect winter adventure for those who love surprises and great conversation. \n🎸 Guitar Lessons\nWhen: Mondays\, 5:00 PM – 6:00 PM \nWhether you’re just starting or looking to refresh your skills\, these sessions are open to all experience levels.BYO guitar and join a relaxed\, supportive environment. \n👭 Girls’ Day Out\nWhen: Every 3 weeks (day trips) \nSpecially designed for female veterans and partners of veterans\, this program offers fun day trips that build friendships\, confidence\, and wellbeing. \n🏊 Glenwood Swim & Gym\nGet moving and feel great with discounted memberships for veterans\, their partners\, and carers. Access to both the gym and the pool. \n🥋 Jujitsu with Rex\nWhen: Sunday Sessions \nBuild strength\, confidence\, and technique in these empowering Sunday sessions led by Rex. \n🤸 Liiv Well Pilates\nWhen:• Floor Sessions – Thursdays• Reformer Classes – SaturdaysTime: 11:00 AM – 12:00 PMCost: $5 per person \nImprove flexibility\, posture\, and muscle tone in these low-impact classes. Bookings essential—spaces are limited. \n💪 Fit Together Chair Exercise & Splash Aerobics\nEnjoy group fitness options designed for all abilities\, including chair-based exercise and water aerobics.Held at the Gympie ARC for the wider community. \nFor more information or to register\, contact:📞 5483 7707📧 vcadmin@gympiersla.com.au
URL:https://gympiersl.com.au/event/winter-health-and-wellbeing-program-2025/
LOCATION:Gympie RSL
CATEGORIES:All,Veterans Health Week,Welfare
ATTACH;FMTTYPE=image/png:https://gympiersl.com.au/wp-content/uploads/2025/05/2025-Winter-Health-Wellbeing-Website-Event-featured-image-960-x-400-px.png
END:VEVENT
BEGIN:VEVENT
DTSTART;TZID=Australia/Brisbane:20241026T160000
DTEND;TZID=Australia/Brisbane:20241026T210000
DTSTAMP:20260422T021442
CREATED:20240904T011136Z
LAST-MODIFIED:20240917T230646Z
UID:10020403-1729958400-1729976400@gympiersl.com.au
SUMMARY:Wonka Movie Night
DESCRIPTION:Join us for a magical evening at our Wonka Movie Night on Saturday\, 26th October\, from 4:00pm to 9:00pm. \nThe event will be held at Nelson Reserve\, where veterans and their partners or carers can enjoy free face painting\, popcorn\, and a sweet treat. \nFood trucks will be available on-site\, so you can grab a bite while you enjoy the movie. \nDon’t miss this delightful event! \n  \n\nFOR INFORMATION AND BOOKINGS \nEmail: reception@gympiersla.com.au \nCall: 07 5483 7707 \nDrop in: 44 Nash St\, Gympie
URL:https://gympiersl.com.au/event/wonka-movie-night/
CATEGORIES:Veterans Health Week,Welfare,Welfare Featured
ATTACH;FMTTYPE=image/jpeg:https://gympiersl.com.au/wp-content/uploads/2024/09/Gympie-RSL-Wonka-Movie-Night_Website-Event-featured-image.jpg
END:VEVENT
BEGIN:VEVENT
DTSTART;TZID=Australia/Brisbane:20241024T100000
DTEND;TZID=Australia/Brisbane:20241024T110000
DTSTAMP:20260422T021442
CREATED:20240903T232243Z
LAST-MODIFIED:20240917T230336Z
UID:10020396-1729764000-1729767600@gympiersl.com.au
SUMMARY:Female Veterans Coffee & Catch up
DESCRIPTION:Join us for a special “Coffee & Catch Up” event during Veterans Health Week\, exclusively for female veterans! \nOn Thursday\, 24th October\, from 10:00am to 11:00am at Baupal Park Farm in Chatsworth. \nEnjoy a free morning tea\, coffee\, and a gift hamper in a serene environment. \nIt’s a great opportunity to connect with fellow female veterans and enjoy a relaxing morning together. \n  \nFOR INFORMATION AND BOOKINGS \nEmail: reception@gympiersla.com.au \nCall: 07 5483 7707 \nDrop in: 44 Nash St\, Gympie
URL:https://gympiersl.com.au/event/female-veterans-coffee-catch-up/
CATEGORIES:Veterans Health Week,Welfare,Welfare Featured
ATTACH;FMTTYPE=image/jpeg:https://gympiersl.com.au/wp-content/uploads/2024/09/GYMPRSL-Female-Veterans-Coffee-Catch-Up_Website-Event-featured-image.jpg
END:VEVENT
BEGIN:VEVENT
DTSTART;TZID=Australia/Brisbane:20241023T090000
DTEND;TZID=Australia/Brisbane:20241023T193000
DTSTAMP:20260422T021442
CREATED:20240904T010541Z
LAST-MODIFIED:20240917T230623Z
UID:10020402-1729674000-1729711800@gympiersl.com.au
SUMMARY:Wicked The Musical
DESCRIPTION:Join us for a trip to see Wicked the Musical at QPAC in Brisbane on Wednesday\, 23rd October. \nWe will depart from Gympie RSL at 9:00am and return at 7:30pm. \nThe musical begins at 1:00pm\, and you’ll have the chance to experience the magic of this acclaimed show while connecting with fellow veterans in a supportive and enjoyable environment. \nAdmission and transport are free for veterans and their partners or carers. \nSpots are limited\, so please RSVP by 25th September to secure your place. \n  \nFOR INFORMATION AND BOOKINGS \nEmail: reception@gympiersla.com.au \nCall: 07 5483 7707 \nDrop in: 44 Nash St\, Gympie
URL:https://gympiersl.com.au/event/wicked-the-musical/
CATEGORIES:Veterans Health Week,Welfare,Welfare Featured
ATTACH;FMTTYPE=image/jpeg:https://gympiersl.com.au/wp-content/uploads/2024/09/Gympie-RSL-Wicked-the-Musical_Website-Event-featured-image.jpg
END:VEVENT
BEGIN:VEVENT
DTSTART;TZID=Australia/Brisbane:20241017T153000
DTEND;TZID=Australia/Brisbane:20241017T163000
DTSTAMP:20260422T021442
CREATED:20240904T004432Z
LAST-MODIFIED:20240917T230459Z
UID:10020400-1729179000-1729182600@gympiersl.com.au
SUMMARY:Paws & Connect - Dog Training
DESCRIPTION:Join us for “Paws & Connect\,” a special dog training event designed for pups of all skill levels. \nWhether your dog is a seasoned pro or just starting out\, this session is perfect for everyone. \nA professional dog obedience trainer will be on site to guide you through the training. \nThe event takes place on Thursday\, 17th October\, from 3:30pm to 4:30pm at the Gympie Showgrounds.  \nYou’ll leave with new techniques\, a take-home pack\, and maybe even some new friends\, both human and canine! \n  \n\n\n\n\nFOR INFORMATION AND BOOKINGS \nEmail: reception@gympiersla.com.au \nCall: 07 5483 7707 \nDrop in: 44 Nash St\, Gympie
URL:https://gympiersl.com.au/event/paws-connect-dog-training/
CATEGORIES:Veterans Health Week,Welfare,Welfare Featured
ATTACH;FMTTYPE=image/jpeg:https://gympiersl.com.au/wp-content/uploads/2024/09/Gympie-RSL-Paws-Connect-Dog-Training_Website-Event-featured-image.jpg
END:VEVENT
BEGIN:VEVENT
DTSTART;TZID=Australia/Brisbane:20241016T090000
DTEND;TZID=Australia/Brisbane:20241016T170000
DTSTAMP:20260422T021442
CREATED:20240912T005154Z
LAST-MODIFIED:20240917T230528Z
UID:10020409-1729069200-1729098000@gympiersl.com.au
SUMMARY:Rainbow Beach Bus Trip
DESCRIPTION:Join us for Veterans Health Week at Gympie RSL with a special free bus trip to beautiful Rainbow Beach on Wednesday\, 16th October. \nThis event is open to all veterans\, offering a chance to relax and enjoy a scenic day out. \nLimited seats are available\, so make sure to express your interest by 25th September to secure your spot! \n  \n\nFOR INFORMATION AND BOOKINGS \nEmail: reception@gympiersla.com.au \nCall: 07 5483 7707 \nDrop in: 44 Nash St\, Gympie
URL:https://gympiersl.com.au/event/rainbow-beach-bus-trip/
CATEGORIES:Veterans Health Week,Welfare,Welfare Featured
ATTACH;FMTTYPE=image/png:https://gympiersl.com.au/wp-content/uploads/2024/09/Gympie-RSL-Rainbow-Beach-Trip-Website-Event-Featured-Image.png
END:VEVENT
BEGIN:VEVENT
DTSTART;TZID=Australia/Brisbane:20241015T100000
DTEND;TZID=Australia/Brisbane:20241015T120000
DTSTAMP:20260422T021442
CREATED:20240904T005814Z
LAST-MODIFIED:20240917T230558Z
UID:10020401-1728986400-1728993600@gympiersl.com.au
SUMMARY:Sour Dough Starter Party
DESCRIPTION:Join us for a Sourdough Starter Party on Tuesday\, 15th October\, from 10:00am to 12:00pm at A Greener Pantry\, located at 4/66 Mellor St\, Gympie. \nThis 2-hour hands-on class offers a complete sourdough making lesson\, perfect for veterans and their partners or carers. \nLight refreshments\, drinks\, and a complete starter kit will be provided. Please bring a chair for your comfort. \nLimited spots are available\, so be sure to RSVP by 25th September to secure your place! \n  \nFOR INFORMATION AND BOOKINGS \nEmail: reception@gympiersla.com.au \nCall: 07 5483 7707 \nDrop in: 44 Nash St\, Gympie
URL:https://gympiersl.com.au/event/sour-dough-starter-party/
CATEGORIES:Veterans Health Week,Welfare,Welfare Featured
ATTACH;FMTTYPE=image/jpeg:https://gympiersl.com.au/wp-content/uploads/2024/09/Gympie-RSL-Sour-Dough-Starter-Party_Website-Event-featured-image.jpg
END:VEVENT
BEGIN:VEVENT
DTSTART;TZID=Australia/Brisbane:20241012T060000
DTEND;TZID=Australia/Brisbane:20241012T140000
DTSTAMP:20260422T021442
CREATED:20240904T000036Z
LAST-MODIFIED:20240917T230426Z
UID:10020398-1728712800-1728741600@gympiersl.com.au
SUMMARY:Noosa River Fishing Charter
DESCRIPTION:Join us for a memorable Noosa River fishing charter\, where you can cast a line and reel in connections with fellow veterans on a relaxing day out. \nThe event will take place on Saturday\, 12th October\, departing from Gympie RSL at 6:00am and returning at 2:00pm. \nFree transport\, morning tea\, and lunch are provided. \nThis event is open to veterans and their partners or carers. \nSpots are limited\, so be sure to RSVP by 25th September. \n  \n\nFOR INFORMATION AND BOOKINGS \nEmail: reception@gympiersla.com.au \nCall: 07 5483 7707 \nDrop in: 44 Nash St\, Gympie
URL:https://gympiersl.com.au/event/noosa-river-fishing-charter/
CATEGORIES:Veterans Health Week,Welfare,Welfare Featured
ATTACH;FMTTYPE=image/jpeg:https://gympiersl.com.au/wp-content/uploads/2024/09/Gympie-RSL-Noosa-River-Fishing-Charter_Website-Event-featured-image.jpg
END:VEVENT
BEGIN:VEVENT
DTSTART;TZID=Australia/Brisbane:20241004T170000
DTEND;TZID=Australia/Brisbane:20241026T210000
DTSTAMP:20260422T021442
CREATED:20240904T002217Z
LAST-MODIFIED:20240917T230437Z
UID:10020399-1728061200-1729976400@gympiersl.com.au
SUMMARY:Veteran's Health Week
DESCRIPTION:In keeping with DVA’s theme Keeping connected\, we offer several social and creative activities throughout the week – all FREE open to Veterans and their partners or carers! \n  \nGames Night \nFriday\, 4th October \n5pm – 9pm \nThe Veteran Centre\, 44 Nash St \n  \nNoosa River Fishing Charter \nSaturday\, 12th October \nDepart 6am – Return 2pm \nThe Veteran Centre\, 44 Nash St \nLimited seats available – EOI by 25/09 \n  \nSour Dough Starter Party \nTuesday\, 15th October \n10am – 12pm \nA Greener Pantry – 4/66 Mellor St\, Gympie \nLimited seats available – EOI by 25/09 \n  \nRainbow Beach Bus Trip  \nWednesday\, 16th October \nLimited seats available – EOI by 25/09 \n  \nPaws & Connect – Dog Training \nThursday\, 17th October \n3.30pm – 4.30pm \nGympie Showgrounds \nEOI by 25/09 \n  \nWicked The Musical \nWednesday\, 23rd October \n9am – 6pm \nDepart 9.30am – Return 6pm \nQPAC Brisbane \nLimited seats available – EOI by 25/09 \n  \nFemale Veterans Coffee & Catch up \nThursday\, 24th October \n10am – 11am \nBaupal Park Farm\, Chatsworth \nBookings essential \n  \nWonka Movie Night \nSaturday\, 26th October \n4pm – 9pm \nLelson Reserve Monkland St\, \nJaycee Way\, Gympie \n  \nFOR INFORMATION AND BOOKINGS \nEmail: reception@gympiersla.com.au \nCall: 07 5483 7707 \nDrop in: 44 Nash St\, Gympie \n 
URL:https://gympiersl.com.au/event/veterans-health-week/
CATEGORIES:Veterans Health Week,Welfare,Welfare Featured
ATTACH;FMTTYPE=image/jpeg:https://gympiersl.com.au/wp-content/uploads/2024/09/Gympie-RSL-VHW-Overview-2024_Web-Event-Featured.jpg
END:VEVENT
BEGIN:VEVENT
DTSTART;TZID=Australia/Brisbane:20241004T170000
DTEND;TZID=Australia/Brisbane:20241004T210000
DTSTAMP:20260422T021442
CREATED:20240903T234513Z
LAST-MODIFIED:20240917T230357Z
UID:10020397-1728061200-1728075600@gympiersl.com.au
SUMMARY:Games Night
DESCRIPTION:Get ready for an evening filled with laughter\, friendly competition\, and a delicious dinner! \nJoin us on Friday\, 4th October\, from 5:00pm to 9:00pm at the Veterans Services Centre. \nWe’ll be serving dinner\, soft drinks\, and water\, all you need to bring is your game face! \nDon’t miss out on the fun! \n  \n\n\n\nFOR INFORMATION AND BOOKINGS \nEmail: reception@gympiersla.com.au \nCall: 07 5483 7707 \nDrop in: 44 Nash St\, Gympie \n\n\n 
URL:https://gympiersl.com.au/event/games-night/
CATEGORIES:Veterans Health Week,Welfare,Welfare Featured
ATTACH;FMTTYPE=image/jpeg:https://gympiersl.com.au/wp-content/uploads/2024/09/Gympie-RSL-Games-Night_Website-Event-featured-image.jpg
END:VEVENT
END:VCALENDAR