BEGIN:VCALENDAR
VERSION:2.0
PRODID:-//Gympie RSL - ECPv6.15.20//NONSGML v1.0//EN
CALSCALE:GREGORIAN
METHOD:PUBLISH
X-WR-CALNAME:Gympie RSL
X-ORIGINAL-URL:https://gympiersl.com.au
X-WR-CALDESC:Events for Gympie RSL
REFRESH-INTERVAL;VALUE=DURATION:PT1H
X-Robots-Tag:noindex
X-PUBLISHED-TTL:PT1H
BEGIN:VTIMEZONE
TZID:Australia/Brisbane
BEGIN:STANDARD
TZOFFSETFROM:+1000
TZOFFSETTO:+1000
TZNAME:AEST
DTSTART:20250101T000000
END:STANDARD
END:VTIMEZONE
BEGIN:VEVENT
DTSTART;TZID=Australia/Brisbane:20260218T130000
DTEND;TZID=Australia/Brisbane:20260218T140000
DTSTAMP:20260421T152602
CREATED:20240828T005800Z
LAST-MODIFIED:20251215T014724Z
UID:10016101-1771419600-1771423200@gympiersl.com.au
SUMMARY:Fit Together
DESCRIPTION:Exercise is better with friends! \nJoin us every Wednesday from 1pm at the Gympie Aquatic Recreation Centre. \nThis group fitness class will keep you energised and interested with new skills every week! \nOpen to Veterans\, their partners/carers and friends. \nMust show DVA card or RSL membership card for entry. \nFor more information\, call 5483 7707 or email reception@gympiersla.com.au \n  \nBOOK HERE
URL:https://gympiersl.com.au/event/fit-together-wed/2026-02-18/
LOCATION:Gympie Aquatic Centre\, Tozer Park Road\, Gympie\, QLD\, 4570\, Australia
CATEGORIES:Welfare,Welfare Weekly
ATTACH;FMTTYPE=image/jpeg:https://gympiersl.com.au/wp-content/uploads/2024/05/Gympie-RSL-Web-Event-Featured_Fit-Together.jpg
END:VEVENT
BEGIN:VEVENT
DTSTART;VALUE=DATE:20260218
DTEND;VALUE=DATE:20260219
DTSTAMP:20260421T152602
CREATED:20240509T223509Z
LAST-MODIFIED:20240509T224355Z
UID:10015504-1771372800-1771459199@gympiersl.com.au
SUMMARY:Swimming
DESCRIPTION:Spend your day poolside with Free Pool Entry! \nAll day entry every Wednesday\, Friday and Saturday for Veterans\, Partners/Carers* \nGympie Aquatic Recreation Centre. \nFor mor information call 5483 7707 or email reception@gympiersla.com.au \n*Children of Veterans welcome upon application at the Veteran centre; must show DVA\, RSL Membership &/or Veteran Centre Family card upon entry.
URL:https://gympiersl.com.au/event/swimming/2026-02-18/
LOCATION:Gympie Aquatic Centre\, Tozer Park Road\, Gympie\, QLD\, 4570\, Australia
CATEGORIES:Welfare,Welfare Weekly
ATTACH;FMTTYPE=image/jpeg:https://gympiersl.com.au/wp-content/uploads/2024/05/Gympie-RSL-Web-Event-Featured_Swimming.jpg
END:VEVENT
BEGIN:VEVENT
DTSTART;TZID=Australia/Brisbane:20260217T173000
DTEND;TZID=Australia/Brisbane:20260217T183000
DTSTAMP:20260421T152602
CREATED:20251015T001104Z
LAST-MODIFIED:20251015T002130Z
UID:10017148-1771349400-1771353000@gympiersl.com.au
SUMMARY:Choir
DESCRIPTION:Calling all Crooners! \nIf you love to sing\, then come along to Gympie Veteran Centre (39 Monkland St.) every Tuesday from 5:30pm and be part of our Choir. \nWe hold regular performances throughout the year. \nOpen to all members of the Gympie Community with any voice type and singing experience. \nFor more information\, please call 5483 7707 or email reception@gympiersla.com.au.
URL:https://gympiersl.com.au/event/choir-2/2026-02-17/
LOCATION:Veteran Services Centre\, 39 Monkland Street\, Gympie\, QLD\, 4570\, Australia
CATEGORIES:Welfare,Welfare Weekly
ATTACH;FMTTYPE=image/jpeg:https://gympiersl.com.au/wp-content/uploads/2024/05/Gympie-RSL-Web-Event-Featured_Choir.jpg
END:VEVENT
BEGIN:VEVENT
DTSTART;TZID=Australia/Brisbane:20260217T100000
DTEND;TZID=Australia/Brisbane:20260217T120000
DTSTAMP:20260421T152602
CREATED:20240509T221424Z
LAST-MODIFIED:20240509T224325Z
UID:10016887-1771322400-1771329600@gympiersl.com.au
SUMMARY:Coffee & Chat
DESCRIPTION:Join us at the Rendezvous Café every Tuesday for Coffee & Chat! \nAll veterans are welcome to join\, share stories\, and lend a listening ear.
URL:https://gympiersl.com.au/event/coffee-chat/2026-02-17/
LOCATION:Rendezvous Café & Bar\, Gympie RSL\, 217 Mary Street\, Gympie\, QLD\, 4570\, Australia
CATEGORIES:Welfare,Welfare Weekly
ATTACH;FMTTYPE=image/jpeg:https://gympiersl.com.au/wp-content/uploads/2024/05/Gympie-RSL-Web-Event-Featured_Coffee-Chat.jpg
END:VEVENT
BEGIN:VEVENT
DTSTART;VALUE=DATE:20260214
DTEND;VALUE=DATE:20260215
DTSTAMP:20260421T152602
CREATED:20240509T223509Z
LAST-MODIFIED:20240509T224355Z
UID:10015503-1771027200-1771113599@gympiersl.com.au
SUMMARY:Swimming
DESCRIPTION:Spend your day poolside with Free Pool Entry! \nAll day entry every Wednesday\, Friday and Saturday for Veterans\, Partners/Carers* \nGympie Aquatic Recreation Centre. \nFor mor information call 5483 7707 or email reception@gympiersla.com.au \n*Children of Veterans welcome upon application at the Veteran centre; must show DVA\, RSL Membership &/or Veteran Centre Family card upon entry.
URL:https://gympiersl.com.au/event/swimming/2026-02-14/
LOCATION:Gympie Aquatic Centre\, Tozer Park Road\, Gympie\, QLD\, 4570\, Australia
CATEGORIES:Welfare,Welfare Weekly
ATTACH;FMTTYPE=image/jpeg:https://gympiersl.com.au/wp-content/uploads/2024/05/Gympie-RSL-Web-Event-Featured_Swimming.jpg
END:VEVENT
BEGIN:VEVENT
DTSTART;TZID=Australia/Brisbane:20260213T130000
DTEND;TZID=Australia/Brisbane:20260213T140000
DTSTAMP:20260421T152602
CREATED:20240509T222403Z
LAST-MODIFIED:20251215T020538Z
UID:10016364-1770987600-1770991200@gympiersl.com.au
SUMMARY:Splash Aerobics
DESCRIPTION:Join in the fun at our low-impact pool workout sessions! \nEvery Friday from 1pm at Gympie Aquatic Centre. \nOpen to Veterans and their partners/carers. \nFor more information\, call 5483 7707 or email events@gympiersla.com.au. \n  \nBOOK HERE
URL:https://gympiersl.com.au/event/splash-aerobics/2026-02-13/
LOCATION:Gympie Aquatic Centre\, Tozer Park Road\, Gympie\, QLD\, 4570\, Australia
CATEGORIES:Welfare,Welfare Weekly
ATTACH;FMTTYPE=image/jpeg:https://gympiersl.com.au/wp-content/uploads/2024/05/Gympie-RSL-Web-Event-Featured_Splash-Aerobics.jpg
END:VEVENT
BEGIN:VEVENT
DTSTART;VALUE=DATE:20260213
DTEND;VALUE=DATE:20260214
DTSTAMP:20260421T152602
CREATED:20240509T223509Z
LAST-MODIFIED:20240509T224355Z
UID:10015502-1770940800-1771027199@gympiersl.com.au
SUMMARY:Swimming
DESCRIPTION:Spend your day poolside with Free Pool Entry! \nAll day entry every Wednesday\, Friday and Saturday for Veterans\, Partners/Carers* \nGympie Aquatic Recreation Centre. \nFor mor information call 5483 7707 or email reception@gympiersla.com.au \n*Children of Veterans welcome upon application at the Veteran centre; must show DVA\, RSL Membership &/or Veteran Centre Family card upon entry.
URL:https://gympiersl.com.au/event/swimming/2026-02-13/
LOCATION:Gympie Aquatic Centre\, Tozer Park Road\, Gympie\, QLD\, 4570\, Australia
CATEGORIES:Welfare,Welfare Weekly
ATTACH;FMTTYPE=image/jpeg:https://gympiersl.com.au/wp-content/uploads/2024/05/Gympie-RSL-Web-Event-Featured_Swimming.jpg
END:VEVENT
BEGIN:VEVENT
DTSTART;TZID=Australia/Brisbane:20260212T130000
DTEND;TZID=Australia/Brisbane:20260212T140000
DTSTAMP:20260421T152602
CREATED:20240509T222733Z
LAST-MODIFIED:20251215T015412Z
UID:10017422-1770901200-1770904800@gympiersl.com.au
SUMMARY:Chair Exercise
DESCRIPTION:Sit\, Stretch\, Breathe with Chair Exercise \nJoin us at Gympie Aquatic Recreation Centre\, every Thursday from 1pm for our Chair Exercise classes. \nEnjoy some low-impact fitness that improves strength\, mobility\, posture\, balance and helps reduce stress. \nAll ages and abilities welcome! \n  \nBOOK HERE
URL:https://gympiersl.com.au/event/chair-exercise/2026-02-12/
LOCATION:Gympie Aquatic Centre\, Tozer Park Road\, Gympie\, QLD\, 4570\, Australia
CATEGORIES:Welfare,Welfare Weekly
ATTACH;FMTTYPE=image/jpeg:https://gympiersl.com.au/wp-content/uploads/2024/05/Gympie-RSL-Web-Event-Featured_Chair-Yoga.jpg
END:VEVENT
BEGIN:VEVENT
DTSTART;TZID=Australia/Brisbane:20260211T130000
DTEND;TZID=Australia/Brisbane:20260211T140000
DTSTAMP:20260421T152603
CREATED:20240828T005800Z
LAST-MODIFIED:20251215T014724Z
UID:10016100-1770814800-1770818400@gympiersl.com.au
SUMMARY:Fit Together
DESCRIPTION:Exercise is better with friends! \nJoin us every Wednesday from 1pm at the Gympie Aquatic Recreation Centre. \nThis group fitness class will keep you energised and interested with new skills every week! \nOpen to Veterans\, their partners/carers and friends. \nMust show DVA card or RSL membership card for entry. \nFor more information\, call 5483 7707 or email reception@gympiersla.com.au \n  \nBOOK HERE
URL:https://gympiersl.com.au/event/fit-together-wed/2026-02-11/
LOCATION:Gympie Aquatic Centre\, Tozer Park Road\, Gympie\, QLD\, 4570\, Australia
CATEGORIES:Welfare,Welfare Weekly
ATTACH;FMTTYPE=image/jpeg:https://gympiersl.com.au/wp-content/uploads/2024/05/Gympie-RSL-Web-Event-Featured_Fit-Together.jpg
END:VEVENT
BEGIN:VEVENT
DTSTART;VALUE=DATE:20260211
DTEND;VALUE=DATE:20260212
DTSTAMP:20260421T152603
CREATED:20240509T223509Z
LAST-MODIFIED:20240509T224355Z
UID:10015501-1770768000-1770854399@gympiersl.com.au
SUMMARY:Swimming
DESCRIPTION:Spend your day poolside with Free Pool Entry! \nAll day entry every Wednesday\, Friday and Saturday for Veterans\, Partners/Carers* \nGympie Aquatic Recreation Centre. \nFor mor information call 5483 7707 or email reception@gympiersla.com.au \n*Children of Veterans welcome upon application at the Veteran centre; must show DVA\, RSL Membership &/or Veteran Centre Family card upon entry.
URL:https://gympiersl.com.au/event/swimming/2026-02-11/
LOCATION:Gympie Aquatic Centre\, Tozer Park Road\, Gympie\, QLD\, 4570\, Australia
CATEGORIES:Welfare,Welfare Weekly
ATTACH;FMTTYPE=image/jpeg:https://gympiersl.com.au/wp-content/uploads/2024/05/Gympie-RSL-Web-Event-Featured_Swimming.jpg
END:VEVENT
BEGIN:VEVENT
DTSTART;TZID=Australia/Brisbane:20260210T173000
DTEND;TZID=Australia/Brisbane:20260210T183000
DTSTAMP:20260421T152603
CREATED:20251015T001104Z
LAST-MODIFIED:20251015T002130Z
UID:10017147-1770744600-1770748200@gympiersl.com.au
SUMMARY:Choir
DESCRIPTION:Calling all Crooners! \nIf you love to sing\, then come along to Gympie Veteran Centre (39 Monkland St.) every Tuesday from 5:30pm and be part of our Choir. \nWe hold regular performances throughout the year. \nOpen to all members of the Gympie Community with any voice type and singing experience. \nFor more information\, please call 5483 7707 or email reception@gympiersla.com.au.
URL:https://gympiersl.com.au/event/choir-2/2026-02-10/
LOCATION:Veteran Services Centre\, 39 Monkland Street\, Gympie\, QLD\, 4570\, Australia
CATEGORIES:Welfare,Welfare Weekly
ATTACH;FMTTYPE=image/jpeg:https://gympiersl.com.au/wp-content/uploads/2024/05/Gympie-RSL-Web-Event-Featured_Choir.jpg
END:VEVENT
BEGIN:VEVENT
DTSTART;TZID=Australia/Brisbane:20260210T100000
DTEND;TZID=Australia/Brisbane:20260210T120000
DTSTAMP:20260421T152603
CREATED:20240509T221424Z
LAST-MODIFIED:20240509T224325Z
UID:10016886-1770717600-1770724800@gympiersl.com.au
SUMMARY:Coffee & Chat
DESCRIPTION:Join us at the Rendezvous Café every Tuesday for Coffee & Chat! \nAll veterans are welcome to join\, share stories\, and lend a listening ear.
URL:https://gympiersl.com.au/event/coffee-chat/2026-02-10/
LOCATION:Rendezvous Café & Bar\, Gympie RSL\, 217 Mary Street\, Gympie\, QLD\, 4570\, Australia
CATEGORIES:Welfare,Welfare Weekly
ATTACH;FMTTYPE=image/jpeg:https://gympiersl.com.au/wp-content/uploads/2024/05/Gympie-RSL-Web-Event-Featured_Coffee-Chat.jpg
END:VEVENT
BEGIN:VEVENT
DTSTART;VALUE=DATE:20260207
DTEND;VALUE=DATE:20260208
DTSTAMP:20260421T152603
CREATED:20240509T223509Z
LAST-MODIFIED:20240509T224355Z
UID:10015500-1770422400-1770508799@gympiersl.com.au
SUMMARY:Swimming
DESCRIPTION:Spend your day poolside with Free Pool Entry! \nAll day entry every Wednesday\, Friday and Saturday for Veterans\, Partners/Carers* \nGympie Aquatic Recreation Centre. \nFor mor information call 5483 7707 or email reception@gympiersla.com.au \n*Children of Veterans welcome upon application at the Veteran centre; must show DVA\, RSL Membership &/or Veteran Centre Family card upon entry.
URL:https://gympiersl.com.au/event/swimming/2026-02-07/
LOCATION:Gympie Aquatic Centre\, Tozer Park Road\, Gympie\, QLD\, 4570\, Australia
CATEGORIES:Welfare,Welfare Weekly
ATTACH;FMTTYPE=image/jpeg:https://gympiersl.com.au/wp-content/uploads/2024/05/Gympie-RSL-Web-Event-Featured_Swimming.jpg
END:VEVENT
BEGIN:VEVENT
DTSTART;TZID=Australia/Brisbane:20260206T130000
DTEND;TZID=Australia/Brisbane:20260206T140000
DTSTAMP:20260421T152603
CREATED:20240509T222403Z
LAST-MODIFIED:20251215T020538Z
UID:10016363-1770382800-1770386400@gympiersl.com.au
SUMMARY:Splash Aerobics
DESCRIPTION:Join in the fun at our low-impact pool workout sessions! \nEvery Friday from 1pm at Gympie Aquatic Centre. \nOpen to Veterans and their partners/carers. \nFor more information\, call 5483 7707 or email events@gympiersla.com.au. \n  \nBOOK HERE
URL:https://gympiersl.com.au/event/splash-aerobics/2026-02-06/
LOCATION:Gympie Aquatic Centre\, Tozer Park Road\, Gympie\, QLD\, 4570\, Australia
CATEGORIES:Welfare,Welfare Weekly
ATTACH;FMTTYPE=image/jpeg:https://gympiersl.com.au/wp-content/uploads/2024/05/Gympie-RSL-Web-Event-Featured_Splash-Aerobics.jpg
END:VEVENT
BEGIN:VEVENT
DTSTART;VALUE=DATE:20260206
DTEND;VALUE=DATE:20260207
DTSTAMP:20260421T152603
CREATED:20240509T223509Z
LAST-MODIFIED:20240509T224355Z
UID:10015499-1770336000-1770422399@gympiersl.com.au
SUMMARY:Swimming
DESCRIPTION:Spend your day poolside with Free Pool Entry! \nAll day entry every Wednesday\, Friday and Saturday for Veterans\, Partners/Carers* \nGympie Aquatic Recreation Centre. \nFor mor information call 5483 7707 or email reception@gympiersla.com.au \n*Children of Veterans welcome upon application at the Veteran centre; must show DVA\, RSL Membership &/or Veteran Centre Family card upon entry.
URL:https://gympiersl.com.au/event/swimming/2026-02-06/
LOCATION:Gympie Aquatic Centre\, Tozer Park Road\, Gympie\, QLD\, 4570\, Australia
CATEGORIES:Welfare,Welfare Weekly
ATTACH;FMTTYPE=image/jpeg:https://gympiersl.com.au/wp-content/uploads/2024/05/Gympie-RSL-Web-Event-Featured_Swimming.jpg
END:VEVENT
BEGIN:VEVENT
DTSTART;TZID=Australia/Brisbane:20260205T130000
DTEND;TZID=Australia/Brisbane:20260205T140000
DTSTAMP:20260421T152603
CREATED:20240509T222733Z
LAST-MODIFIED:20251215T015412Z
UID:10017421-1770296400-1770300000@gympiersl.com.au
SUMMARY:Chair Exercise
DESCRIPTION:Sit\, Stretch\, Breathe with Chair Exercise \nJoin us at Gympie Aquatic Recreation Centre\, every Thursday from 1pm for our Chair Exercise classes. \nEnjoy some low-impact fitness that improves strength\, mobility\, posture\, balance and helps reduce stress. \nAll ages and abilities welcome! \n  \nBOOK HERE
URL:https://gympiersl.com.au/event/chair-exercise/2026-02-05/
LOCATION:Gympie Aquatic Centre\, Tozer Park Road\, Gympie\, QLD\, 4570\, Australia
CATEGORIES:Welfare,Welfare Weekly
ATTACH;FMTTYPE=image/jpeg:https://gympiersl.com.au/wp-content/uploads/2024/05/Gympie-RSL-Web-Event-Featured_Chair-Yoga.jpg
END:VEVENT
BEGIN:VEVENT
DTSTART;TZID=Australia/Brisbane:20260204T130000
DTEND;TZID=Australia/Brisbane:20260204T140000
DTSTAMP:20260421T152603
CREATED:20240828T005800Z
LAST-MODIFIED:20251215T014724Z
UID:10016099-1770210000-1770213600@gympiersl.com.au
SUMMARY:Fit Together
DESCRIPTION:Exercise is better with friends! \nJoin us every Wednesday from 1pm at the Gympie Aquatic Recreation Centre. \nThis group fitness class will keep you energised and interested with new skills every week! \nOpen to Veterans\, their partners/carers and friends. \nMust show DVA card or RSL membership card for entry. \nFor more information\, call 5483 7707 or email reception@gympiersla.com.au \n  \nBOOK HERE
URL:https://gympiersl.com.au/event/fit-together-wed/2026-02-04/
LOCATION:Gympie Aquatic Centre\, Tozer Park Road\, Gympie\, QLD\, 4570\, Australia
CATEGORIES:Welfare,Welfare Weekly
ATTACH;FMTTYPE=image/jpeg:https://gympiersl.com.au/wp-content/uploads/2024/05/Gympie-RSL-Web-Event-Featured_Fit-Together.jpg
END:VEVENT
BEGIN:VEVENT
DTSTART;VALUE=DATE:20260204
DTEND;VALUE=DATE:20260205
DTSTAMP:20260421T152603
CREATED:20240509T223509Z
LAST-MODIFIED:20240509T224355Z
UID:10015498-1770163200-1770249599@gympiersl.com.au
SUMMARY:Swimming
DESCRIPTION:Spend your day poolside with Free Pool Entry! \nAll day entry every Wednesday\, Friday and Saturday for Veterans\, Partners/Carers* \nGympie Aquatic Recreation Centre. \nFor mor information call 5483 7707 or email reception@gympiersla.com.au \n*Children of Veterans welcome upon application at the Veteran centre; must show DVA\, RSL Membership &/or Veteran Centre Family card upon entry.
URL:https://gympiersl.com.au/event/swimming/2026-02-04/
LOCATION:Gympie Aquatic Centre\, Tozer Park Road\, Gympie\, QLD\, 4570\, Australia
CATEGORIES:Welfare,Welfare Weekly
ATTACH;FMTTYPE=image/jpeg:https://gympiersl.com.au/wp-content/uploads/2024/05/Gympie-RSL-Web-Event-Featured_Swimming.jpg
END:VEVENT
BEGIN:VEVENT
DTSTART;TZID=Australia/Brisbane:20260203T173000
DTEND;TZID=Australia/Brisbane:20260203T183000
DTSTAMP:20260421T152603
CREATED:20251015T001104Z
LAST-MODIFIED:20251015T002130Z
UID:10017146-1770139800-1770143400@gympiersl.com.au
SUMMARY:Choir
DESCRIPTION:Calling all Crooners! \nIf you love to sing\, then come along to Gympie Veteran Centre (39 Monkland St.) every Tuesday from 5:30pm and be part of our Choir. \nWe hold regular performances throughout the year. \nOpen to all members of the Gympie Community with any voice type and singing experience. \nFor more information\, please call 5483 7707 or email reception@gympiersla.com.au.
URL:https://gympiersl.com.au/event/choir-2/2026-02-03/
LOCATION:Veteran Services Centre\, 39 Monkland Street\, Gympie\, QLD\, 4570\, Australia
CATEGORIES:Welfare,Welfare Weekly
ATTACH;FMTTYPE=image/jpeg:https://gympiersl.com.au/wp-content/uploads/2024/05/Gympie-RSL-Web-Event-Featured_Choir.jpg
END:VEVENT
BEGIN:VEVENT
DTSTART;TZID=Australia/Brisbane:20260203T100000
DTEND;TZID=Australia/Brisbane:20260203T120000
DTSTAMP:20260421T152603
CREATED:20240509T221424Z
LAST-MODIFIED:20240509T224325Z
UID:10016885-1770112800-1770120000@gympiersl.com.au
SUMMARY:Coffee & Chat
DESCRIPTION:Join us at the Rendezvous Café every Tuesday for Coffee & Chat! \nAll veterans are welcome to join\, share stories\, and lend a listening ear.
URL:https://gympiersl.com.au/event/coffee-chat/2026-02-03/
LOCATION:Rendezvous Café & Bar\, Gympie RSL\, 217 Mary Street\, Gympie\, QLD\, 4570\, Australia
CATEGORIES:Welfare,Welfare Weekly
ATTACH;FMTTYPE=image/jpeg:https://gympiersl.com.au/wp-content/uploads/2024/05/Gympie-RSL-Web-Event-Featured_Coffee-Chat.jpg
END:VEVENT
BEGIN:VEVENT
DTSTART;VALUE=DATE:20260131
DTEND;VALUE=DATE:20260201
DTSTAMP:20260421T152603
CREATED:20240509T223509Z
LAST-MODIFIED:20240509T224355Z
UID:10015497-1769817600-1769903999@gympiersl.com.au
SUMMARY:Swimming
DESCRIPTION:Spend your day poolside with Free Pool Entry! \nAll day entry every Wednesday\, Friday and Saturday for Veterans\, Partners/Carers* \nGympie Aquatic Recreation Centre. \nFor mor information call 5483 7707 or email reception@gympiersla.com.au \n*Children of Veterans welcome upon application at the Veteran centre; must show DVA\, RSL Membership &/or Veteran Centre Family card upon entry.
URL:https://gympiersl.com.au/event/swimming/2026-01-31/
LOCATION:Gympie Aquatic Centre\, Tozer Park Road\, Gympie\, QLD\, 4570\, Australia
CATEGORIES:Welfare,Welfare Weekly
ATTACH;FMTTYPE=image/jpeg:https://gympiersl.com.au/wp-content/uploads/2024/05/Gympie-RSL-Web-Event-Featured_Swimming.jpg
END:VEVENT
BEGIN:VEVENT
DTSTART;TZID=Australia/Brisbane:20260130T130000
DTEND;TZID=Australia/Brisbane:20260130T140000
DTSTAMP:20260421T152603
CREATED:20240509T222403Z
LAST-MODIFIED:20251215T020538Z
UID:10016362-1769778000-1769781600@gympiersl.com.au
SUMMARY:Splash Aerobics
DESCRIPTION:Join in the fun at our low-impact pool workout sessions! \nEvery Friday from 1pm at Gympie Aquatic Centre. \nOpen to Veterans and their partners/carers. \nFor more information\, call 5483 7707 or email events@gympiersla.com.au. \n  \nBOOK HERE
URL:https://gympiersl.com.au/event/splash-aerobics/2026-01-30/
LOCATION:Gympie Aquatic Centre\, Tozer Park Road\, Gympie\, QLD\, 4570\, Australia
CATEGORIES:Welfare,Welfare Weekly
ATTACH;FMTTYPE=image/jpeg:https://gympiersl.com.au/wp-content/uploads/2024/05/Gympie-RSL-Web-Event-Featured_Splash-Aerobics.jpg
END:VEVENT
BEGIN:VEVENT
DTSTART;VALUE=DATE:20260130
DTEND;VALUE=DATE:20260131
DTSTAMP:20260421T152603
CREATED:20240509T223509Z
LAST-MODIFIED:20240509T224355Z
UID:10015496-1769731200-1769817599@gympiersl.com.au
SUMMARY:Swimming
DESCRIPTION:Spend your day poolside with Free Pool Entry! \nAll day entry every Wednesday\, Friday and Saturday for Veterans\, Partners/Carers* \nGympie Aquatic Recreation Centre. \nFor mor information call 5483 7707 or email reception@gympiersla.com.au \n*Children of Veterans welcome upon application at the Veteran centre; must show DVA\, RSL Membership &/or Veteran Centre Family card upon entry.
URL:https://gympiersl.com.au/event/swimming/2026-01-30/
LOCATION:Gympie Aquatic Centre\, Tozer Park Road\, Gympie\, QLD\, 4570\, Australia
CATEGORIES:Welfare,Welfare Weekly
ATTACH;FMTTYPE=image/jpeg:https://gympiersl.com.au/wp-content/uploads/2024/05/Gympie-RSL-Web-Event-Featured_Swimming.jpg
END:VEVENT
BEGIN:VEVENT
DTSTART;TZID=Australia/Brisbane:20260129T130000
DTEND;TZID=Australia/Brisbane:20260129T140000
DTSTAMP:20260421T152603
CREATED:20240509T222733Z
LAST-MODIFIED:20251215T015412Z
UID:10017420-1769691600-1769695200@gympiersl.com.au
SUMMARY:Chair Exercise
DESCRIPTION:Sit\, Stretch\, Breathe with Chair Exercise \nJoin us at Gympie Aquatic Recreation Centre\, every Thursday from 1pm for our Chair Exercise classes. \nEnjoy some low-impact fitness that improves strength\, mobility\, posture\, balance and helps reduce stress. \nAll ages and abilities welcome! \n  \nBOOK HERE
URL:https://gympiersl.com.au/event/chair-exercise/2026-01-29/
LOCATION:Gympie Aquatic Centre\, Tozer Park Road\, Gympie\, QLD\, 4570\, Australia
CATEGORIES:Welfare,Welfare Weekly
ATTACH;FMTTYPE=image/jpeg:https://gympiersl.com.au/wp-content/uploads/2024/05/Gympie-RSL-Web-Event-Featured_Chair-Yoga.jpg
END:VEVENT
BEGIN:VEVENT
DTSTART;TZID=Australia/Brisbane:20260128T130000
DTEND;TZID=Australia/Brisbane:20260128T140000
DTSTAMP:20260421T152603
CREATED:20240828T005800Z
LAST-MODIFIED:20251215T014724Z
UID:10016098-1769605200-1769608800@gympiersl.com.au
SUMMARY:Fit Together
DESCRIPTION:Exercise is better with friends! \nJoin us every Wednesday from 1pm at the Gympie Aquatic Recreation Centre. \nThis group fitness class will keep you energised and interested with new skills every week! \nOpen to Veterans\, their partners/carers and friends. \nMust show DVA card or RSL membership card for entry. \nFor more information\, call 5483 7707 or email reception@gympiersla.com.au \n  \nBOOK HERE
URL:https://gympiersl.com.au/event/fit-together-wed/2026-01-28/
LOCATION:Gympie Aquatic Centre\, Tozer Park Road\, Gympie\, QLD\, 4570\, Australia
CATEGORIES:Welfare,Welfare Weekly
ATTACH;FMTTYPE=image/jpeg:https://gympiersl.com.au/wp-content/uploads/2024/05/Gympie-RSL-Web-Event-Featured_Fit-Together.jpg
END:VEVENT
BEGIN:VEVENT
DTSTART;VALUE=DATE:20260128
DTEND;VALUE=DATE:20260129
DTSTAMP:20260421T152603
CREATED:20240509T223509Z
LAST-MODIFIED:20240509T224355Z
UID:10015495-1769558400-1769644799@gympiersl.com.au
SUMMARY:Swimming
DESCRIPTION:Spend your day poolside with Free Pool Entry! \nAll day entry every Wednesday\, Friday and Saturday for Veterans\, Partners/Carers* \nGympie Aquatic Recreation Centre. \nFor mor information call 5483 7707 or email reception@gympiersla.com.au \n*Children of Veterans welcome upon application at the Veteran centre; must show DVA\, RSL Membership &/or Veteran Centre Family card upon entry.
URL:https://gympiersl.com.au/event/swimming/2026-01-28/
LOCATION:Gympie Aquatic Centre\, Tozer Park Road\, Gympie\, QLD\, 4570\, Australia
CATEGORIES:Welfare,Welfare Weekly
ATTACH;FMTTYPE=image/jpeg:https://gympiersl.com.au/wp-content/uploads/2024/05/Gympie-RSL-Web-Event-Featured_Swimming.jpg
END:VEVENT
BEGIN:VEVENT
DTSTART;TZID=Australia/Brisbane:20260127T173000
DTEND;TZID=Australia/Brisbane:20260127T183000
DTSTAMP:20260421T152603
CREATED:20251015T001104Z
LAST-MODIFIED:20251015T002130Z
UID:10017145-1769535000-1769538600@gympiersl.com.au
SUMMARY:Choir
DESCRIPTION:Calling all Crooners! \nIf you love to sing\, then come along to Gympie Veteran Centre (39 Monkland St.) every Tuesday from 5:30pm and be part of our Choir. \nWe hold regular performances throughout the year. \nOpen to all members of the Gympie Community with any voice type and singing experience. \nFor more information\, please call 5483 7707 or email reception@gympiersla.com.au.
URL:https://gympiersl.com.au/event/choir-2/2026-01-27/
LOCATION:Veteran Services Centre\, 39 Monkland Street\, Gympie\, QLD\, 4570\, Australia
CATEGORIES:Welfare,Welfare Weekly
ATTACH;FMTTYPE=image/jpeg:https://gympiersl.com.au/wp-content/uploads/2024/05/Gympie-RSL-Web-Event-Featured_Choir.jpg
END:VEVENT
BEGIN:VEVENT
DTSTART;TZID=Australia/Brisbane:20260127T100000
DTEND;TZID=Australia/Brisbane:20260127T120000
DTSTAMP:20260421T152603
CREATED:20240509T221424Z
LAST-MODIFIED:20240509T224325Z
UID:10016884-1769508000-1769515200@gympiersl.com.au
SUMMARY:Coffee & Chat
DESCRIPTION:Join us at the Rendezvous Café every Tuesday for Coffee & Chat! \nAll veterans are welcome to join\, share stories\, and lend a listening ear.
URL:https://gympiersl.com.au/event/coffee-chat/2026-01-27/
LOCATION:Rendezvous Café & Bar\, Gympie RSL\, 217 Mary Street\, Gympie\, QLD\, 4570\, Australia
CATEGORIES:Welfare,Welfare Weekly
ATTACH;FMTTYPE=image/jpeg:https://gympiersl.com.au/wp-content/uploads/2024/05/Gympie-RSL-Web-Event-Featured_Coffee-Chat.jpg
END:VEVENT
BEGIN:VEVENT
DTSTART;VALUE=DATE:20260124
DTEND;VALUE=DATE:20260125
DTSTAMP:20260421T152603
CREATED:20240509T223509Z
LAST-MODIFIED:20240509T224355Z
UID:10015494-1769212800-1769299199@gympiersl.com.au
SUMMARY:Swimming
DESCRIPTION:Spend your day poolside with Free Pool Entry! \nAll day entry every Wednesday\, Friday and Saturday for Veterans\, Partners/Carers* \nGympie Aquatic Recreation Centre. \nFor mor information call 5483 7707 or email reception@gympiersla.com.au \n*Children of Veterans welcome upon application at the Veteran centre; must show DVA\, RSL Membership &/or Veteran Centre Family card upon entry.
URL:https://gympiersl.com.au/event/swimming/2026-01-24/
LOCATION:Gympie Aquatic Centre\, Tozer Park Road\, Gympie\, QLD\, 4570\, Australia
CATEGORIES:Welfare,Welfare Weekly
ATTACH;FMTTYPE=image/jpeg:https://gympiersl.com.au/wp-content/uploads/2024/05/Gympie-RSL-Web-Event-Featured_Swimming.jpg
END:VEVENT
BEGIN:VEVENT
DTSTART;TZID=Australia/Brisbane:20260123T130000
DTEND;TZID=Australia/Brisbane:20260123T140000
DTSTAMP:20260421T152603
CREATED:20240509T222403Z
LAST-MODIFIED:20251215T020538Z
UID:10016361-1769173200-1769176800@gympiersl.com.au
SUMMARY:Splash Aerobics
DESCRIPTION:Join in the fun at our low-impact pool workout sessions! \nEvery Friday from 1pm at Gympie Aquatic Centre. \nOpen to Veterans and their partners/carers. \nFor more information\, call 5483 7707 or email events@gympiersla.com.au. \n  \nBOOK HERE
URL:https://gympiersl.com.au/event/splash-aerobics/2026-01-23/
LOCATION:Gympie Aquatic Centre\, Tozer Park Road\, Gympie\, QLD\, 4570\, Australia
CATEGORIES:Welfare,Welfare Weekly
ATTACH;FMTTYPE=image/jpeg:https://gympiersl.com.au/wp-content/uploads/2024/05/Gympie-RSL-Web-Event-Featured_Splash-Aerobics.jpg
END:VEVENT
END:VCALENDAR