BEGIN:VCALENDAR
VERSION:2.0
PRODID:-//Gympie RSL - ECPv6.15.20//NONSGML v1.0//EN
CALSCALE:GREGORIAN
METHOD:PUBLISH
X-WR-CALNAME:Gympie RSL
X-ORIGINAL-URL:https://gympiersl.com.au
X-WR-CALDESC:Events for Gympie RSL
REFRESH-INTERVAL;VALUE=DURATION:PT1H
X-Robots-Tag:noindex
X-PUBLISHED-TTL:PT1H
BEGIN:VTIMEZONE
TZID:Australia/Brisbane
BEGIN:STANDARD
TZOFFSETFROM:+1000
TZOFFSETTO:+1000
TZNAME:AEST
DTSTART:20250101T000000
END:STANDARD
END:VTIMEZONE
BEGIN:VEVENT
DTSTART;VALUE=DATE:20260502
DTEND;VALUE=DATE:20260503
DTSTAMP:20260421T090832
CREATED:20240509T223509Z
LAST-MODIFIED:20240509T224355Z
UID:10015536-1777680000-1777766399@gympiersl.com.au
SUMMARY:Swimming
DESCRIPTION:Spend your day poolside with Free Pool Entry! \nAll day entry every Wednesday\, Friday and Saturday for Veterans\, Partners/Carers* \nGympie Aquatic Recreation Centre. \nFor mor information call 5483 7707 or email reception@gympiersla.com.au \n*Children of Veterans welcome upon application at the Veteran centre; must show DVA\, RSL Membership &/or Veteran Centre Family card upon entry.
URL:https://gympiersl.com.au/event/swimming/2026-05-02/
LOCATION:Gympie Aquatic Centre\, Tozer Park Road\, Gympie\, QLD\, 4570\, Australia
CATEGORIES:Welfare,Welfare Weekly
ATTACH;FMTTYPE=image/jpeg:https://gympiersl.com.au/wp-content/uploads/2024/05/Gympie-RSL-Web-Event-Featured_Swimming.jpg
END:VEVENT
BEGIN:VEVENT
DTSTART;TZID=Australia/Brisbane:20260505T100000
DTEND;TZID=Australia/Brisbane:20260505T120000
DTSTAMP:20260421T090832
CREATED:20240509T221424Z
LAST-MODIFIED:20240509T224325Z
UID:10016898-1777975200-1777982400@gympiersl.com.au
SUMMARY:Coffee & Chat
DESCRIPTION:Join us at the Rendezvous Café every Tuesday for Coffee & Chat! \nAll veterans are welcome to join\, share stories\, and lend a listening ear.
URL:https://gympiersl.com.au/event/coffee-chat/2026-05-05/
LOCATION:Rendezvous Café & Bar\, Gympie RSL\, 217 Mary Street\, Gympie\, QLD\, 4570\, Australia
CATEGORIES:Welfare,Welfare Weekly
ATTACH;FMTTYPE=image/jpeg:https://gympiersl.com.au/wp-content/uploads/2024/05/Gympie-RSL-Web-Event-Featured_Coffee-Chat.jpg
END:VEVENT
BEGIN:VEVENT
DTSTART;TZID=Australia/Brisbane:20260505T173000
DTEND;TZID=Australia/Brisbane:20260505T183000
DTSTAMP:20260421T090832
CREATED:20251015T001104Z
LAST-MODIFIED:20251015T002130Z
UID:10017159-1778002200-1778005800@gympiersl.com.au
SUMMARY:Choir
DESCRIPTION:Calling all Crooners! \nIf you love to sing\, then come along to Gympie Veteran Centre (39 Monkland St.) every Tuesday from 5:30pm and be part of our Choir. \nWe hold regular performances throughout the year. \nOpen to all members of the Gympie Community with any voice type and singing experience. \nFor more information\, please call 5483 7707 or email reception@gympiersla.com.au.
URL:https://gympiersl.com.au/event/choir-2/2026-05-05/
LOCATION:Veteran Services Centre\, 39 Monkland Street\, Gympie\, QLD\, 4570\, Australia
CATEGORIES:Welfare,Welfare Weekly
ATTACH;FMTTYPE=image/jpeg:https://gympiersl.com.au/wp-content/uploads/2024/05/Gympie-RSL-Web-Event-Featured_Choir.jpg
END:VEVENT
BEGIN:VEVENT
DTSTART;VALUE=DATE:20260506
DTEND;VALUE=DATE:20260507
DTSTAMP:20260421T090832
CREATED:20240509T223509Z
LAST-MODIFIED:20240509T224355Z
UID:10015537-1778025600-1778111999@gympiersl.com.au
SUMMARY:Swimming
DESCRIPTION:Spend your day poolside with Free Pool Entry! \nAll day entry every Wednesday\, Friday and Saturday for Veterans\, Partners/Carers* \nGympie Aquatic Recreation Centre. \nFor mor information call 5483 7707 or email reception@gympiersla.com.au \n*Children of Veterans welcome upon application at the Veteran centre; must show DVA\, RSL Membership &/or Veteran Centre Family card upon entry.
URL:https://gympiersl.com.au/event/swimming/2026-05-06/
LOCATION:Gympie Aquatic Centre\, Tozer Park Road\, Gympie\, QLD\, 4570\, Australia
CATEGORIES:Welfare,Welfare Weekly
ATTACH;FMTTYPE=image/jpeg:https://gympiersl.com.au/wp-content/uploads/2024/05/Gympie-RSL-Web-Event-Featured_Swimming.jpg
END:VEVENT
BEGIN:VEVENT
DTSTART;TZID=Australia/Brisbane:20260506T080000
DTEND;TZID=Australia/Brisbane:20260506T143000
DTSTAMP:20260421T090832
CREATED:20260305T234725Z
LAST-MODIFIED:20260416T052300Z
UID:10029302-1778054400-1778077800@gympiersl.com.au
SUMMARY:Girls Day Out - Eumundi Markets
DESCRIPTION:🌿 Eumundi Markets Day Trip \nEnjoy a wonderful day out on Wednesday 6th May visiting the famous Eumundi Markets\, known for their vibrant atmosphere\, unique stalls\, local art\, fresh food\, and handmade goods. \nSpend the morning exploring the markets\, discovering one-of-a-kind treasures\, and soaking up the lively Sunshine Coast market experience. \n🚌 Trip Details \nDepart: 8:15am \nReturn: 2:30pm \nLocation: Departs from and returns to the Veterans Services Centre \nBring your shopping bags and enjoy a relaxed day browsing one of Queensland’s most popular markets.
URL:https://gympiersl.com.au/event/girls-day-out-eumundi-markets/
LOCATION:Gympie RSL
CATEGORIES:All,Entertainment,Special Events,Veterans Health Week,Welfare,Welfare Featured,Welfare Weekly
ATTACH;FMTTYPE=image/jpeg:https://gympiersl.com.au/wp-content/uploads/2026/03/05032026225117-GympieRSL-GirlsDayOutEumundiMarkets_WebEventImage.jpg
END:VEVENT
BEGIN:VEVENT
DTSTART;TZID=Australia/Brisbane:20260506T130000
DTEND;TZID=Australia/Brisbane:20260506T140000
DTSTAMP:20260421T090832
CREATED:20240828T005800Z
LAST-MODIFIED:20251215T014724Z
UID:10016112-1778072400-1778076000@gympiersl.com.au
SUMMARY:Fit Together
DESCRIPTION:Exercise is better with friends! \nJoin us every Wednesday from 1pm at the Gympie Aquatic Recreation Centre. \nThis group fitness class will keep you energised and interested with new skills every week! \nOpen to Veterans\, their partners/carers and friends. \nMust show DVA card or RSL membership card for entry. \nFor more information\, call 5483 7707 or email reception@gympiersla.com.au \n  \nBOOK HERE
URL:https://gympiersl.com.au/event/fit-together-wed/2026-05-06/
LOCATION:Gympie Aquatic Centre\, Tozer Park Road\, Gympie\, QLD\, 4570\, Australia
CATEGORIES:Welfare,Welfare Weekly
ATTACH;FMTTYPE=image/jpeg:https://gympiersl.com.au/wp-content/uploads/2024/05/Gympie-RSL-Web-Event-Featured_Fit-Together.jpg
END:VEVENT
BEGIN:VEVENT
DTSTART;TZID=Australia/Brisbane:20260507T130000
DTEND;TZID=Australia/Brisbane:20260507T140000
DTSTAMP:20260421T090832
CREATED:20240509T222733Z
LAST-MODIFIED:20251215T015412Z
UID:10017434-1778158800-1778162400@gympiersl.com.au
SUMMARY:Chair Exercise
DESCRIPTION:Sit\, Stretch\, Breathe with Chair Exercise \nJoin us at Gympie Aquatic Recreation Centre\, every Thursday from 1pm for our Chair Exercise classes. \nEnjoy some low-impact fitness that improves strength\, mobility\, posture\, balance and helps reduce stress. \nAll ages and abilities welcome! \n  \nBOOK HERE
URL:https://gympiersl.com.au/event/chair-exercise/2026-05-07/
LOCATION:Gympie Aquatic Centre\, Tozer Park Road\, Gympie\, QLD\, 4570\, Australia
CATEGORIES:Welfare,Welfare Weekly
ATTACH;FMTTYPE=image/jpeg:https://gympiersl.com.au/wp-content/uploads/2024/05/Gympie-RSL-Web-Event-Featured_Chair-Yoga.jpg
END:VEVENT
BEGIN:VEVENT
DTSTART;VALUE=DATE:20260508
DTEND;VALUE=DATE:20260509
DTSTAMP:20260421T090832
CREATED:20240509T223509Z
LAST-MODIFIED:20240509T224355Z
UID:10015538-1778198400-1778284799@gympiersl.com.au
SUMMARY:Swimming
DESCRIPTION:Spend your day poolside with Free Pool Entry! \nAll day entry every Wednesday\, Friday and Saturday for Veterans\, Partners/Carers* \nGympie Aquatic Recreation Centre. \nFor mor information call 5483 7707 or email reception@gympiersla.com.au \n*Children of Veterans welcome upon application at the Veteran centre; must show DVA\, RSL Membership &/or Veteran Centre Family card upon entry.
URL:https://gympiersl.com.au/event/swimming/2026-05-08/
LOCATION:Gympie Aquatic Centre\, Tozer Park Road\, Gympie\, QLD\, 4570\, Australia
CATEGORIES:Welfare,Welfare Weekly
ATTACH;FMTTYPE=image/jpeg:https://gympiersl.com.au/wp-content/uploads/2024/05/Gympie-RSL-Web-Event-Featured_Swimming.jpg
END:VEVENT
BEGIN:VEVENT
DTSTART;TZID=Australia/Brisbane:20260508T130000
DTEND;TZID=Australia/Brisbane:20260508T140000
DTSTAMP:20260421T090832
CREATED:20240509T222403Z
LAST-MODIFIED:20251215T020538Z
UID:10016376-1778245200-1778248800@gympiersl.com.au
SUMMARY:Splash Aerobics
DESCRIPTION:Join in the fun at our low-impact pool workout sessions! \nEvery Friday from 1pm at Gympie Aquatic Centre. \nOpen to Veterans and their partners/carers. \nFor more information\, call 5483 7707 or email events@gympiersla.com.au. \n  \nBOOK HERE
URL:https://gympiersl.com.au/event/splash-aerobics/2026-05-08/
LOCATION:Gympie Aquatic Centre\, Tozer Park Road\, Gympie\, QLD\, 4570\, Australia
CATEGORIES:Welfare,Welfare Weekly
ATTACH;FMTTYPE=image/jpeg:https://gympiersl.com.au/wp-content/uploads/2024/05/Gympie-RSL-Web-Event-Featured_Splash-Aerobics.jpg
END:VEVENT
BEGIN:VEVENT
DTSTART;VALUE=DATE:20260509
DTEND;VALUE=DATE:20260510
DTSTAMP:20260421T090832
CREATED:20240509T223509Z
LAST-MODIFIED:20240509T224355Z
UID:10015539-1778284800-1778371199@gympiersl.com.au
SUMMARY:Swimming
DESCRIPTION:Spend your day poolside with Free Pool Entry! \nAll day entry every Wednesday\, Friday and Saturday for Veterans\, Partners/Carers* \nGympie Aquatic Recreation Centre. \nFor mor information call 5483 7707 or email reception@gympiersla.com.au \n*Children of Veterans welcome upon application at the Veteran centre; must show DVA\, RSL Membership &/or Veteran Centre Family card upon entry.
URL:https://gympiersl.com.au/event/swimming/2026-05-09/
LOCATION:Gympie Aquatic Centre\, Tozer Park Road\, Gympie\, QLD\, 4570\, Australia
CATEGORIES:Welfare,Welfare Weekly
ATTACH;FMTTYPE=image/jpeg:https://gympiersl.com.au/wp-content/uploads/2024/05/Gympie-RSL-Web-Event-Featured_Swimming.jpg
END:VEVENT
BEGIN:VEVENT
DTSTART;TZID=Australia/Brisbane:20260512T100000
DTEND;TZID=Australia/Brisbane:20260512T120000
DTSTAMP:20260421T090832
CREATED:20240509T221424Z
LAST-MODIFIED:20240509T224325Z
UID:10016899-1778580000-1778587200@gympiersl.com.au
SUMMARY:Coffee & Chat
DESCRIPTION:Join us at the Rendezvous Café every Tuesday for Coffee & Chat! \nAll veterans are welcome to join\, share stories\, and lend a listening ear.
URL:https://gympiersl.com.au/event/coffee-chat/2026-05-12/
LOCATION:Rendezvous Café & Bar\, Gympie RSL\, 217 Mary Street\, Gympie\, QLD\, 4570\, Australia
CATEGORIES:Welfare,Welfare Weekly
ATTACH;FMTTYPE=image/jpeg:https://gympiersl.com.au/wp-content/uploads/2024/05/Gympie-RSL-Web-Event-Featured_Coffee-Chat.jpg
END:VEVENT
BEGIN:VEVENT
DTSTART;TZID=Australia/Brisbane:20260512T173000
DTEND;TZID=Australia/Brisbane:20260512T183000
DTSTAMP:20260421T090832
CREATED:20251015T001104Z
LAST-MODIFIED:20251015T002130Z
UID:10017160-1778607000-1778610600@gympiersl.com.au
SUMMARY:Choir
DESCRIPTION:Calling all Crooners! \nIf you love to sing\, then come along to Gympie Veteran Centre (39 Monkland St.) every Tuesday from 5:30pm and be part of our Choir. \nWe hold regular performances throughout the year. \nOpen to all members of the Gympie Community with any voice type and singing experience. \nFor more information\, please call 5483 7707 or email reception@gympiersla.com.au.
URL:https://gympiersl.com.au/event/choir-2/2026-05-12/
LOCATION:Veteran Services Centre\, 39 Monkland Street\, Gympie\, QLD\, 4570\, Australia
CATEGORIES:Welfare,Welfare Weekly
ATTACH;FMTTYPE=image/jpeg:https://gympiersl.com.au/wp-content/uploads/2024/05/Gympie-RSL-Web-Event-Featured_Choir.jpg
END:VEVENT
BEGIN:VEVENT
DTSTART;VALUE=DATE:20260513
DTEND;VALUE=DATE:20260514
DTSTAMP:20260421T090832
CREATED:20240509T223509Z
LAST-MODIFIED:20240509T224355Z
UID:10015540-1778630400-1778716799@gympiersl.com.au
SUMMARY:Swimming
DESCRIPTION:Spend your day poolside with Free Pool Entry! \nAll day entry every Wednesday\, Friday and Saturday for Veterans\, Partners/Carers* \nGympie Aquatic Recreation Centre. \nFor mor information call 5483 7707 or email reception@gympiersla.com.au \n*Children of Veterans welcome upon application at the Veteran centre; must show DVA\, RSL Membership &/or Veteran Centre Family card upon entry.
URL:https://gympiersl.com.au/event/swimming/2026-05-13/
LOCATION:Gympie Aquatic Centre\, Tozer Park Road\, Gympie\, QLD\, 4570\, Australia
CATEGORIES:Welfare,Welfare Weekly
ATTACH;FMTTYPE=image/jpeg:https://gympiersl.com.au/wp-content/uploads/2024/05/Gympie-RSL-Web-Event-Featured_Swimming.jpg
END:VEVENT
BEGIN:VEVENT
DTSTART;TZID=Australia/Brisbane:20260513T130000
DTEND;TZID=Australia/Brisbane:20260513T140000
DTSTAMP:20260421T090832
CREATED:20240828T005800Z
LAST-MODIFIED:20251215T014724Z
UID:10016113-1778677200-1778680800@gympiersl.com.au
SUMMARY:Fit Together
DESCRIPTION:Exercise is better with friends! \nJoin us every Wednesday from 1pm at the Gympie Aquatic Recreation Centre. \nThis group fitness class will keep you energised and interested with new skills every week! \nOpen to Veterans\, their partners/carers and friends. \nMust show DVA card or RSL membership card for entry. \nFor more information\, call 5483 7707 or email reception@gympiersla.com.au \n  \nBOOK HERE
URL:https://gympiersl.com.au/event/fit-together-wed/2026-05-13/
LOCATION:Gympie Aquatic Centre\, Tozer Park Road\, Gympie\, QLD\, 4570\, Australia
CATEGORIES:Welfare,Welfare Weekly
ATTACH;FMTTYPE=image/jpeg:https://gympiersl.com.au/wp-content/uploads/2024/05/Gympie-RSL-Web-Event-Featured_Fit-Together.jpg
END:VEVENT
BEGIN:VEVENT
DTSTART;TZID=Australia/Brisbane:20260514T130000
DTEND;TZID=Australia/Brisbane:20260514T140000
DTSTAMP:20260421T090832
CREATED:20240509T222733Z
LAST-MODIFIED:20251215T015412Z
UID:10017435-1778763600-1778767200@gympiersl.com.au
SUMMARY:Chair Exercise
DESCRIPTION:Sit\, Stretch\, Breathe with Chair Exercise \nJoin us at Gympie Aquatic Recreation Centre\, every Thursday from 1pm for our Chair Exercise classes. \nEnjoy some low-impact fitness that improves strength\, mobility\, posture\, balance and helps reduce stress. \nAll ages and abilities welcome! \n  \nBOOK HERE
URL:https://gympiersl.com.au/event/chair-exercise/2026-05-14/
LOCATION:Gympie Aquatic Centre\, Tozer Park Road\, Gympie\, QLD\, 4570\, Australia
CATEGORIES:Welfare,Welfare Weekly
ATTACH;FMTTYPE=image/jpeg:https://gympiersl.com.au/wp-content/uploads/2024/05/Gympie-RSL-Web-Event-Featured_Chair-Yoga.jpg
END:VEVENT
BEGIN:VEVENT
DTSTART;VALUE=DATE:20260515
DTEND;VALUE=DATE:20260516
DTSTAMP:20260421T090832
CREATED:20240509T223509Z
LAST-MODIFIED:20240509T224355Z
UID:10015541-1778803200-1778889599@gympiersl.com.au
SUMMARY:Swimming
DESCRIPTION:Spend your day poolside with Free Pool Entry! \nAll day entry every Wednesday\, Friday and Saturday for Veterans\, Partners/Carers* \nGympie Aquatic Recreation Centre. \nFor mor information call 5483 7707 or email reception@gympiersla.com.au \n*Children of Veterans welcome upon application at the Veteran centre; must show DVA\, RSL Membership &/or Veteran Centre Family card upon entry.
URL:https://gympiersl.com.au/event/swimming/2026-05-15/
LOCATION:Gympie Aquatic Centre\, Tozer Park Road\, Gympie\, QLD\, 4570\, Australia
CATEGORIES:Welfare,Welfare Weekly
ATTACH;FMTTYPE=image/jpeg:https://gympiersl.com.au/wp-content/uploads/2024/05/Gympie-RSL-Web-Event-Featured_Swimming.jpg
END:VEVENT
BEGIN:VEVENT
DTSTART;TZID=Australia/Brisbane:20260515T130000
DTEND;TZID=Australia/Brisbane:20260515T140000
DTSTAMP:20260421T090832
CREATED:20240509T222403Z
LAST-MODIFIED:20251215T020538Z
UID:10016377-1778850000-1778853600@gympiersl.com.au
SUMMARY:Splash Aerobics
DESCRIPTION:Join in the fun at our low-impact pool workout sessions! \nEvery Friday from 1pm at Gympie Aquatic Centre. \nOpen to Veterans and their partners/carers. \nFor more information\, call 5483 7707 or email events@gympiersla.com.au. \n  \nBOOK HERE
URL:https://gympiersl.com.au/event/splash-aerobics/2026-05-15/
LOCATION:Gympie Aquatic Centre\, Tozer Park Road\, Gympie\, QLD\, 4570\, Australia
CATEGORIES:Welfare,Welfare Weekly
ATTACH;FMTTYPE=image/jpeg:https://gympiersl.com.au/wp-content/uploads/2024/05/Gympie-RSL-Web-Event-Featured_Splash-Aerobics.jpg
END:VEVENT
BEGIN:VEVENT
DTSTART;VALUE=DATE:20260516
DTEND;VALUE=DATE:20260517
DTSTAMP:20260421T090832
CREATED:20240509T223509Z
LAST-MODIFIED:20240509T224355Z
UID:10015542-1778889600-1778975999@gympiersl.com.au
SUMMARY:Swimming
DESCRIPTION:Spend your day poolside with Free Pool Entry! \nAll day entry every Wednesday\, Friday and Saturday for Veterans\, Partners/Carers* \nGympie Aquatic Recreation Centre. \nFor mor information call 5483 7707 or email reception@gympiersla.com.au \n*Children of Veterans welcome upon application at the Veteran centre; must show DVA\, RSL Membership &/or Veteran Centre Family card upon entry.
URL:https://gympiersl.com.au/event/swimming/2026-05-16/
LOCATION:Gympie Aquatic Centre\, Tozer Park Road\, Gympie\, QLD\, 4570\, Australia
CATEGORIES:Welfare,Welfare Weekly
ATTACH;FMTTYPE=image/jpeg:https://gympiersl.com.au/wp-content/uploads/2024/05/Gympie-RSL-Web-Event-Featured_Swimming.jpg
END:VEVENT
BEGIN:VEVENT
DTSTART;TZID=Australia/Brisbane:20260519T100000
DTEND;TZID=Australia/Brisbane:20260519T120000
DTSTAMP:20260421T090832
CREATED:20240509T221424Z
LAST-MODIFIED:20240509T224325Z
UID:10016900-1779184800-1779192000@gympiersl.com.au
SUMMARY:Coffee & Chat
DESCRIPTION:Join us at the Rendezvous Café every Tuesday for Coffee & Chat! \nAll veterans are welcome to join\, share stories\, and lend a listening ear.
URL:https://gympiersl.com.au/event/coffee-chat/2026-05-19/
LOCATION:Rendezvous Café & Bar\, Gympie RSL\, 217 Mary Street\, Gympie\, QLD\, 4570\, Australia
CATEGORIES:Welfare,Welfare Weekly
ATTACH;FMTTYPE=image/jpeg:https://gympiersl.com.au/wp-content/uploads/2024/05/Gympie-RSL-Web-Event-Featured_Coffee-Chat.jpg
END:VEVENT
BEGIN:VEVENT
DTSTART;TZID=Australia/Brisbane:20260519T173000
DTEND;TZID=Australia/Brisbane:20260519T183000
DTSTAMP:20260421T090832
CREATED:20251015T001104Z
LAST-MODIFIED:20251015T002130Z
UID:10017161-1779211800-1779215400@gympiersl.com.au
SUMMARY:Choir
DESCRIPTION:Calling all Crooners! \nIf you love to sing\, then come along to Gympie Veteran Centre (39 Monkland St.) every Tuesday from 5:30pm and be part of our Choir. \nWe hold regular performances throughout the year. \nOpen to all members of the Gympie Community with any voice type and singing experience. \nFor more information\, please call 5483 7707 or email reception@gympiersla.com.au.
URL:https://gympiersl.com.au/event/choir-2/2026-05-19/
LOCATION:Veteran Services Centre\, 39 Monkland Street\, Gympie\, QLD\, 4570\, Australia
CATEGORIES:Welfare,Welfare Weekly
ATTACH;FMTTYPE=image/jpeg:https://gympiersl.com.au/wp-content/uploads/2024/05/Gympie-RSL-Web-Event-Featured_Choir.jpg
END:VEVENT
BEGIN:VEVENT
DTSTART;VALUE=DATE:20260520
DTEND;VALUE=DATE:20260521
DTSTAMP:20260421T090832
CREATED:20240509T223509Z
LAST-MODIFIED:20240509T224355Z
UID:10015543-1779235200-1779321599@gympiersl.com.au
SUMMARY:Swimming
DESCRIPTION:Spend your day poolside with Free Pool Entry! \nAll day entry every Wednesday\, Friday and Saturday for Veterans\, Partners/Carers* \nGympie Aquatic Recreation Centre. \nFor mor information call 5483 7707 or email reception@gympiersla.com.au \n*Children of Veterans welcome upon application at the Veteran centre; must show DVA\, RSL Membership &/or Veteran Centre Family card upon entry.
URL:https://gympiersl.com.au/event/swimming/2026-05-20/
LOCATION:Gympie Aquatic Centre\, Tozer Park Road\, Gympie\, QLD\, 4570\, Australia
CATEGORIES:Welfare,Welfare Weekly
ATTACH;FMTTYPE=image/jpeg:https://gympiersl.com.au/wp-content/uploads/2024/05/Gympie-RSL-Web-Event-Featured_Swimming.jpg
END:VEVENT
BEGIN:VEVENT
DTSTART;TZID=Australia/Brisbane:20260520T130000
DTEND;TZID=Australia/Brisbane:20260520T140000
DTSTAMP:20260421T090832
CREATED:20240828T005800Z
LAST-MODIFIED:20251215T014724Z
UID:10016114-1779282000-1779285600@gympiersl.com.au
SUMMARY:Fit Together
DESCRIPTION:Exercise is better with friends! \nJoin us every Wednesday from 1pm at the Gympie Aquatic Recreation Centre. \nThis group fitness class will keep you energised and interested with new skills every week! \nOpen to Veterans\, their partners/carers and friends. \nMust show DVA card or RSL membership card for entry. \nFor more information\, call 5483 7707 or email reception@gympiersla.com.au \n  \nBOOK HERE
URL:https://gympiersl.com.au/event/fit-together-wed/2026-05-20/
LOCATION:Gympie Aquatic Centre\, Tozer Park Road\, Gympie\, QLD\, 4570\, Australia
CATEGORIES:Welfare,Welfare Weekly
ATTACH;FMTTYPE=image/jpeg:https://gympiersl.com.au/wp-content/uploads/2024/05/Gympie-RSL-Web-Event-Featured_Fit-Together.jpg
END:VEVENT
BEGIN:VEVENT
DTSTART;TZID=Australia/Brisbane:20260521T130000
DTEND;TZID=Australia/Brisbane:20260521T140000
DTSTAMP:20260421T090832
CREATED:20240509T222733Z
LAST-MODIFIED:20251215T015412Z
UID:10017436-1779368400-1779372000@gympiersl.com.au
SUMMARY:Chair Exercise
DESCRIPTION:Sit\, Stretch\, Breathe with Chair Exercise \nJoin us at Gympie Aquatic Recreation Centre\, every Thursday from 1pm for our Chair Exercise classes. \nEnjoy some low-impact fitness that improves strength\, mobility\, posture\, balance and helps reduce stress. \nAll ages and abilities welcome! \n  \nBOOK HERE
URL:https://gympiersl.com.au/event/chair-exercise/2026-05-21/
LOCATION:Gympie Aquatic Centre\, Tozer Park Road\, Gympie\, QLD\, 4570\, Australia
CATEGORIES:Welfare,Welfare Weekly
ATTACH;FMTTYPE=image/jpeg:https://gympiersl.com.au/wp-content/uploads/2024/05/Gympie-RSL-Web-Event-Featured_Chair-Yoga.jpg
END:VEVENT
BEGIN:VEVENT
DTSTART;VALUE=DATE:20260522
DTEND;VALUE=DATE:20260523
DTSTAMP:20260421T090832
CREATED:20240509T223509Z
LAST-MODIFIED:20240509T224355Z
UID:10015544-1779408000-1779494399@gympiersl.com.au
SUMMARY:Swimming
DESCRIPTION:Spend your day poolside with Free Pool Entry! \nAll day entry every Wednesday\, Friday and Saturday for Veterans\, Partners/Carers* \nGympie Aquatic Recreation Centre. \nFor mor information call 5483 7707 or email reception@gympiersla.com.au \n*Children of Veterans welcome upon application at the Veteran centre; must show DVA\, RSL Membership &/or Veteran Centre Family card upon entry.
URL:https://gympiersl.com.au/event/swimming/2026-05-22/
LOCATION:Gympie Aquatic Centre\, Tozer Park Road\, Gympie\, QLD\, 4570\, Australia
CATEGORIES:Welfare,Welfare Weekly
ATTACH;FMTTYPE=image/jpeg:https://gympiersl.com.au/wp-content/uploads/2024/05/Gympie-RSL-Web-Event-Featured_Swimming.jpg
END:VEVENT
BEGIN:VEVENT
DTSTART;TZID=Australia/Brisbane:20260522T130000
DTEND;TZID=Australia/Brisbane:20260522T140000
DTSTAMP:20260421T090832
CREATED:20240509T222403Z
LAST-MODIFIED:20251215T020538Z
UID:10016378-1779454800-1779458400@gympiersl.com.au
SUMMARY:Splash Aerobics
DESCRIPTION:Join in the fun at our low-impact pool workout sessions! \nEvery Friday from 1pm at Gympie Aquatic Centre. \nOpen to Veterans and their partners/carers. \nFor more information\, call 5483 7707 or email events@gympiersla.com.au. \n  \nBOOK HERE
URL:https://gympiersl.com.au/event/splash-aerobics/2026-05-22/
LOCATION:Gympie Aquatic Centre\, Tozer Park Road\, Gympie\, QLD\, 4570\, Australia
CATEGORIES:Welfare,Welfare Weekly
ATTACH;FMTTYPE=image/jpeg:https://gympiersl.com.au/wp-content/uploads/2024/05/Gympie-RSL-Web-Event-Featured_Splash-Aerobics.jpg
END:VEVENT
BEGIN:VEVENT
DTSTART;VALUE=DATE:20260523
DTEND;VALUE=DATE:20260524
DTSTAMP:20260421T090832
CREATED:20240509T223509Z
LAST-MODIFIED:20240509T224355Z
UID:10015545-1779494400-1779580799@gympiersl.com.au
SUMMARY:Swimming
DESCRIPTION:Spend your day poolside with Free Pool Entry! \nAll day entry every Wednesday\, Friday and Saturday for Veterans\, Partners/Carers* \nGympie Aquatic Recreation Centre. \nFor mor information call 5483 7707 or email reception@gympiersla.com.au \n*Children of Veterans welcome upon application at the Veteran centre; must show DVA\, RSL Membership &/or Veteran Centre Family card upon entry.
URL:https://gympiersl.com.au/event/swimming/2026-05-23/
LOCATION:Gympie Aquatic Centre\, Tozer Park Road\, Gympie\, QLD\, 4570\, Australia
CATEGORIES:Welfare,Welfare Weekly
ATTACH;FMTTYPE=image/jpeg:https://gympiersl.com.au/wp-content/uploads/2024/05/Gympie-RSL-Web-Event-Featured_Swimming.jpg
END:VEVENT
BEGIN:VEVENT
DTSTART;TZID=Australia/Brisbane:20260525T083000
DTEND;TZID=Australia/Brisbane:20260525T150000
DTSTAMP:20260421T090832
CREATED:20260305T235227Z
LAST-MODIFIED:20260416T052524Z
UID:10029303-1779697800-1779721200@gympiersl.com.au
SUMMARY:Girls Day Out - The Ginger Factory
DESCRIPTION:🌿 The Ginger Factory Day Trip \nJoin us on Monday 25th May for a relaxing day trip to the Ginger Factory\, one of the Sunshine Coast’s most popular attractions. Enjoy exploring the beautiful grounds\, browsing unique shops\, and discovering delicious ginger-inspired treats. \nIt’s the perfect outing to unwind\, explore\, and enjoy a great day with good company. \n🚌 Trip Details \nDepart: 8:30am \nReturn: 3:00pm \nLocation: Departs from and returns to the Veterans Services Centre \nCome along for a wonderful day out!
URL:https://gympiersl.com.au/event/girls-day-out-the-ginger-factory/
LOCATION:Gympie RSL
CATEGORIES:All,Entertainment,Special Events,Veterans Health Week,Welfare,Welfare Featured,Welfare Weekly
ATTACH;FMTTYPE=image/jpeg:https://gympiersl.com.au/wp-content/uploads/2026/03/05032026230836-GympieRSL-GirlsDayOutTheGingerFactory_WebFeature.jpg
END:VEVENT
BEGIN:VEVENT
DTSTART;TZID=Australia/Brisbane:20260526T100000
DTEND;TZID=Australia/Brisbane:20260526T120000
DTSTAMP:20260421T090832
CREATED:20240509T221424Z
LAST-MODIFIED:20240509T224325Z
UID:10016901-1779789600-1779796800@gympiersl.com.au
SUMMARY:Coffee & Chat
DESCRIPTION:Join us at the Rendezvous Café every Tuesday for Coffee & Chat! \nAll veterans are welcome to join\, share stories\, and lend a listening ear.
URL:https://gympiersl.com.au/event/coffee-chat/2026-05-26/
LOCATION:Rendezvous Café & Bar\, Gympie RSL\, 217 Mary Street\, Gympie\, QLD\, 4570\, Australia
CATEGORIES:Welfare,Welfare Weekly
ATTACH;FMTTYPE=image/jpeg:https://gympiersl.com.au/wp-content/uploads/2024/05/Gympie-RSL-Web-Event-Featured_Coffee-Chat.jpg
END:VEVENT
BEGIN:VEVENT
DTSTART;TZID=Australia/Brisbane:20260526T173000
DTEND;TZID=Australia/Brisbane:20260526T183000
DTSTAMP:20260421T090832
CREATED:20251015T001104Z
LAST-MODIFIED:20251015T002130Z
UID:10017162-1779816600-1779820200@gympiersl.com.au
SUMMARY:Choir
DESCRIPTION:Calling all Crooners! \nIf you love to sing\, then come along to Gympie Veteran Centre (39 Monkland St.) every Tuesday from 5:30pm and be part of our Choir. \nWe hold regular performances throughout the year. \nOpen to all members of the Gympie Community with any voice type and singing experience. \nFor more information\, please call 5483 7707 or email reception@gympiersla.com.au.
URL:https://gympiersl.com.au/event/choir-2/2026-05-26/
LOCATION:Veteran Services Centre\, 39 Monkland Street\, Gympie\, QLD\, 4570\, Australia
CATEGORIES:Welfare,Welfare Weekly
ATTACH;FMTTYPE=image/jpeg:https://gympiersl.com.au/wp-content/uploads/2024/05/Gympie-RSL-Web-Event-Featured_Choir.jpg
END:VEVENT
BEGIN:VEVENT
DTSTART;VALUE=DATE:20260527
DTEND;VALUE=DATE:20260528
DTSTAMP:20260421T090832
CREATED:20240509T223509Z
LAST-MODIFIED:20240509T224355Z
UID:10015546-1779840000-1779926399@gympiersl.com.au
SUMMARY:Swimming
DESCRIPTION:Spend your day poolside with Free Pool Entry! \nAll day entry every Wednesday\, Friday and Saturday for Veterans\, Partners/Carers* \nGympie Aquatic Recreation Centre. \nFor mor information call 5483 7707 or email reception@gympiersla.com.au \n*Children of Veterans welcome upon application at the Veteran centre; must show DVA\, RSL Membership &/or Veteran Centre Family card upon entry.
URL:https://gympiersl.com.au/event/swimming/2026-05-27/
LOCATION:Gympie Aquatic Centre\, Tozer Park Road\, Gympie\, QLD\, 4570\, Australia
CATEGORIES:Welfare,Welfare Weekly
ATTACH;FMTTYPE=image/jpeg:https://gympiersl.com.au/wp-content/uploads/2024/05/Gympie-RSL-Web-Event-Featured_Swimming.jpg
END:VEVENT
END:VCALENDAR