BEGIN:VCALENDAR
VERSION:2.0
PRODID:-//Gympie RSL - ECPv6.15.20//NONSGML v1.0//EN
CALSCALE:GREGORIAN
METHOD:PUBLISH
X-WR-CALNAME:Gympie RSL
X-ORIGINAL-URL:https://gympiersl.com.au
X-WR-CALDESC:Events for Gympie RSL
REFRESH-INTERVAL;VALUE=DURATION:PT1H
X-Robots-Tag:noindex
X-PUBLISHED-TTL:PT1H
BEGIN:VTIMEZONE
TZID:Australia/Brisbane
BEGIN:STANDARD
TZOFFSETFROM:+1000
TZOFFSETTO:+1000
TZNAME:AEST
DTSTART:20240101T000000
END:STANDARD
END:VTIMEZONE
BEGIN:VEVENT
DTSTART;VALUE=DATE:20251010
DTEND;VALUE=DATE:20251011
DTSTAMP:20260424T023136
CREATED:20240509T223509Z
LAST-MODIFIED:20240509T224355Z
UID:10015448-1760054400-1760140799@gympiersl.com.au
SUMMARY:Swimming
DESCRIPTION:Spend your day poolside with Free Pool Entry! \nAll day entry every Wednesday\, Friday and Saturday for Veterans\, Partners/Carers* \nGympie Aquatic Recreation Centre. \nFor mor information call 5483 7707 or email reception@gympiersla.com.au \n*Children of Veterans welcome upon application at the Veteran centre; must show DVA\, RSL Membership &/or Veteran Centre Family card upon entry.
URL:https://gympiersl.com.au/event/swimming/2025-10-10/
LOCATION:Gympie Aquatic Centre\, Tozer Park Road\, Gympie\, QLD\, 4570\, Australia
CATEGORIES:Welfare,Welfare Weekly
ATTACH;FMTTYPE=image/jpeg:https://gympiersl.com.au/wp-content/uploads/2024/05/Gympie-RSL-Web-Event-Featured_Swimming.jpg
END:VEVENT
BEGIN:VEVENT
DTSTART;TZID=Australia/Brisbane:20251009T130000
DTEND;TZID=Australia/Brisbane:20251009T140000
DTSTAMP:20260424T023136
CREATED:20240509T222733Z
LAST-MODIFIED:20251215T015412Z
UID:10017404-1760014800-1760018400@gympiersl.com.au
SUMMARY:Chair Exercise
DESCRIPTION:Sit\, Stretch\, Breathe with Chair Exercise \nJoin us at Gympie Aquatic Recreation Centre\, every Thursday from 1pm for our Chair Exercise classes. \nEnjoy some low-impact fitness that improves strength\, mobility\, posture\, balance and helps reduce stress. \nAll ages and abilities welcome! \n  \nBOOK HERE
URL:https://gympiersl.com.au/event/chair-exercise/2025-10-09/
LOCATION:Gympie Aquatic Centre\, Tozer Park Road\, Gympie\, QLD\, 4570\, Australia
CATEGORIES:Welfare,Welfare Weekly
ATTACH;FMTTYPE=image/jpeg:https://gympiersl.com.au/wp-content/uploads/2024/05/Gympie-RSL-Web-Event-Featured_Chair-Yoga.jpg
END:VEVENT
BEGIN:VEVENT
DTSTART;TZID=Australia/Brisbane:20251008T130000
DTEND;TZID=Australia/Brisbane:20251008T140000
DTSTAMP:20260424T023136
CREATED:20240828T005800Z
LAST-MODIFIED:20251215T014724Z
UID:10016082-1759928400-1759932000@gympiersl.com.au
SUMMARY:Fit Together
DESCRIPTION:Exercise is better with friends! \nJoin us every Wednesday from 1pm at the Gympie Aquatic Recreation Centre. \nThis group fitness class will keep you energised and interested with new skills every week! \nOpen to Veterans\, their partners/carers and friends. \nMust show DVA card or RSL membership card for entry. \nFor more information\, call 5483 7707 or email reception@gympiersla.com.au \n  \nBOOK HERE
URL:https://gympiersl.com.au/event/fit-together-wed/2025-10-08/
LOCATION:Gympie Aquatic Centre\, Tozer Park Road\, Gympie\, QLD\, 4570\, Australia
CATEGORIES:Welfare,Welfare Weekly
ATTACH;FMTTYPE=image/jpeg:https://gympiersl.com.au/wp-content/uploads/2024/05/Gympie-RSL-Web-Event-Featured_Fit-Together.jpg
END:VEVENT
BEGIN:VEVENT
DTSTART;TZID=Australia/Brisbane:20251008T060000
DTEND;TZID=Australia/Brisbane:20260119T183000
DTSTAMP:20260424T023136
CREATED:20241202T003326Z
LAST-MODIFIED:20260216T001459Z
UID:10020916-1759903200-1768847400@gympiersl.com.au
SUMMARY:Glenwood Swimming & Gym
DESCRIPTION:Attention Veterans! We’ve got something special just for you. \nEnjoy exclusive all-day access at Glenwood Village Swim and Gym every Sunday\, Monday\, Tuesday\, Wednesday\, Thursday\, & Friday. Only for Veterans and their partners or carers. \nChildren of Veterans are also welcome upon application at the Veteran Centre. Simply present your DVA card\, RSL Membership\, or Veteran Centre Family Card upon entry. \nLocation: Glenwood Village Swim and Gym\, 348 Arborfive Road\nContact: 5483 7707\nEmail: vcadmin@gympiersla.com.au \n 
URL:https://gympiersl.com.au/event/glenwood-swimming-gym/2025-10-08/
LOCATION:QLD
CATEGORIES:Welfare,Welfare Featured,Welfare Weekly
ATTACH;FMTTYPE=image/jpeg:https://gympiersl.com.au/wp-content/uploads/2024/12/Gympie-RSL-Glenwood-Swimming-Gym_Web-Event-Featured-Img.jpg
END:VEVENT
BEGIN:VEVENT
DTSTART;VALUE=DATE:20251008
DTEND;VALUE=DATE:20251009
DTSTAMP:20260424T023136
CREATED:20240509T223509Z
LAST-MODIFIED:20240509T224355Z
UID:10015447-1759881600-1759967999@gympiersl.com.au
SUMMARY:Swimming
DESCRIPTION:Spend your day poolside with Free Pool Entry! \nAll day entry every Wednesday\, Friday and Saturday for Veterans\, Partners/Carers* \nGympie Aquatic Recreation Centre. \nFor mor information call 5483 7707 or email reception@gympiersla.com.au \n*Children of Veterans welcome upon application at the Veteran centre; must show DVA\, RSL Membership &/or Veteran Centre Family card upon entry.
URL:https://gympiersl.com.au/event/swimming/2025-10-08/
LOCATION:Gympie Aquatic Centre\, Tozer Park Road\, Gympie\, QLD\, 4570\, Australia
CATEGORIES:Welfare,Welfare Weekly
ATTACH;FMTTYPE=image/jpeg:https://gympiersl.com.au/wp-content/uploads/2024/05/Gympie-RSL-Web-Event-Featured_Swimming.jpg
END:VEVENT
BEGIN:VEVENT
DTSTART;TZID=Australia/Brisbane:20251007T173000
DTEND;TZID=Australia/Brisbane:20251007T183000
DTSTAMP:20260424T023136
CREATED:20240509T221030Z
LAST-MODIFIED:20240509T224320Z
UID:10017129-1759858200-1759861800@gympiersl.com.au
SUMMARY:Choir
DESCRIPTION:Calling all Crooners! \nIf you love to sing\, then come along to Gympie RSL every Tuesday from 5:30pm and be part of our Choir. \nWe hold regular performances throughout the year. \nOpen to all members of the Gympie Community with any voice type and singing experience. \nFor more information\, please call 5483 7707 or email reception@gympiersla.com.au.
URL:https://gympiersl.com.au/event/choir/2025-10-07/
LOCATION:Veteran Services Centre\, 39 Monkland Street\, Gympie\, QLD\, 4570\, Australia
CATEGORIES:Welfare,Welfare Weekly
ATTACH;FMTTYPE=image/jpeg:https://gympiersl.com.au/wp-content/uploads/2024/05/Gympie-RSL-Web-Event-Featured_Choir.jpg
END:VEVENT
BEGIN:VEVENT
DTSTART;TZID=Australia/Brisbane:20251007T100000
DTEND;TZID=Australia/Brisbane:20251007T120000
DTSTAMP:20260424T023136
CREATED:20240509T221424Z
LAST-MODIFIED:20240509T224325Z
UID:10016868-1759831200-1759838400@gympiersl.com.au
SUMMARY:Coffee & Chat
DESCRIPTION:Join us at the Rendezvous Café every Tuesday for Coffee & Chat! \nAll veterans are welcome to join\, share stories\, and lend a listening ear.
URL:https://gympiersl.com.au/event/coffee-chat/2025-10-07/
LOCATION:Rendezvous Café & Bar\, Gympie RSL\, 217 Mary Street\, Gympie\, QLD\, 4570\, Australia
CATEGORIES:Welfare,Welfare Weekly
ATTACH;FMTTYPE=image/jpeg:https://gympiersl.com.au/wp-content/uploads/2024/05/Gympie-RSL-Web-Event-Featured_Coffee-Chat.jpg
END:VEVENT
BEGIN:VEVENT
DTSTART;TZID=Australia/Brisbane:20251005T060000
DTEND;TZID=Australia/Brisbane:20260116T183000
DTSTAMP:20260424T023136
CREATED:20241202T003326Z
LAST-MODIFIED:20260216T001459Z
UID:10020915-1759644000-1768588200@gympiersl.com.au
SUMMARY:Glenwood Swimming & Gym
DESCRIPTION:Attention Veterans! We’ve got something special just for you. \nEnjoy exclusive all-day access at Glenwood Village Swim and Gym every Sunday\, Monday\, Tuesday\, Wednesday\, Thursday\, & Friday. Only for Veterans and their partners or carers. \nChildren of Veterans are also welcome upon application at the Veteran Centre. Simply present your DVA card\, RSL Membership\, or Veteran Centre Family Card upon entry. \nLocation: Glenwood Village Swim and Gym\, 348 Arborfive Road\nContact: 5483 7707\nEmail: vcadmin@gympiersla.com.au \n 
URL:https://gympiersl.com.au/event/glenwood-swimming-gym/2025-10-05/
LOCATION:QLD
CATEGORIES:Welfare,Welfare Featured,Welfare Weekly
ATTACH;FMTTYPE=image/jpeg:https://gympiersl.com.au/wp-content/uploads/2024/12/Gympie-RSL-Glenwood-Swimming-Gym_Web-Event-Featured-Img.jpg
END:VEVENT
BEGIN:VEVENT
DTSTART;VALUE=DATE:20251004
DTEND;VALUE=DATE:20251005
DTSTAMP:20260424T023136
CREATED:20240509T223509Z
LAST-MODIFIED:20240509T224355Z
UID:10015446-1759536000-1759622399@gympiersl.com.au
SUMMARY:Swimming
DESCRIPTION:Spend your day poolside with Free Pool Entry! \nAll day entry every Wednesday\, Friday and Saturday for Veterans\, Partners/Carers* \nGympie Aquatic Recreation Centre. \nFor mor information call 5483 7707 or email reception@gympiersla.com.au \n*Children of Veterans welcome upon application at the Veteran centre; must show DVA\, RSL Membership &/or Veteran Centre Family card upon entry.
URL:https://gympiersl.com.au/event/swimming/2025-10-04/
LOCATION:Gympie Aquatic Centre\, Tozer Park Road\, Gympie\, QLD\, 4570\, Australia
CATEGORIES:Welfare,Welfare Weekly
ATTACH;FMTTYPE=image/jpeg:https://gympiersl.com.au/wp-content/uploads/2024/05/Gympie-RSL-Web-Event-Featured_Swimming.jpg
END:VEVENT
BEGIN:VEVENT
DTSTART;TZID=Australia/Brisbane:20251003T130000
DTEND;TZID=Australia/Brisbane:20251003T140000
DTSTAMP:20260424T023136
CREATED:20240509T222403Z
LAST-MODIFIED:20251215T020538Z
UID:10016345-1759496400-1759500000@gympiersl.com.au
SUMMARY:Splash Aerobics
DESCRIPTION:Join in the fun at our low-impact pool workout sessions! \nEvery Friday from 1pm at Gympie Aquatic Centre. \nOpen to Veterans and their partners/carers. \nFor more information\, call 5483 7707 or email events@gympiersla.com.au. \n  \nBOOK HERE
URL:https://gympiersl.com.au/event/splash-aerobics/2025-10-03/
LOCATION:Gympie Aquatic Centre\, Tozer Park Road\, Gympie\, QLD\, 4570\, Australia
CATEGORIES:Welfare,Welfare Weekly
ATTACH;FMTTYPE=image/jpeg:https://gympiersl.com.au/wp-content/uploads/2024/05/Gympie-RSL-Web-Event-Featured_Splash-Aerobics.jpg
END:VEVENT
BEGIN:VEVENT
DTSTART;TZID=Australia/Brisbane:20251003T060000
DTEND;TZID=Australia/Brisbane:20260114T183000
DTSTAMP:20260424T023136
CREATED:20241202T003326Z
LAST-MODIFIED:20260216T001459Z
UID:10020914-1759471200-1768415400@gympiersl.com.au
SUMMARY:Glenwood Swimming & Gym
DESCRIPTION:Attention Veterans! We’ve got something special just for you. \nEnjoy exclusive all-day access at Glenwood Village Swim and Gym every Sunday\, Monday\, Tuesday\, Wednesday\, Thursday\, & Friday. Only for Veterans and their partners or carers. \nChildren of Veterans are also welcome upon application at the Veteran Centre. Simply present your DVA card\, RSL Membership\, or Veteran Centre Family Card upon entry. \nLocation: Glenwood Village Swim and Gym\, 348 Arborfive Road\nContact: 5483 7707\nEmail: vcadmin@gympiersla.com.au \n 
URL:https://gympiersl.com.au/event/glenwood-swimming-gym/2025-10-03/
LOCATION:QLD
CATEGORIES:Welfare,Welfare Featured,Welfare Weekly
ATTACH;FMTTYPE=image/jpeg:https://gympiersl.com.au/wp-content/uploads/2024/12/Gympie-RSL-Glenwood-Swimming-Gym_Web-Event-Featured-Img.jpg
END:VEVENT
BEGIN:VEVENT
DTSTART;VALUE=DATE:20251003
DTEND;VALUE=DATE:20251004
DTSTAMP:20260424T023136
CREATED:20240509T223509Z
LAST-MODIFIED:20240509T224355Z
UID:10015445-1759449600-1759535999@gympiersl.com.au
SUMMARY:Swimming
DESCRIPTION:Spend your day poolside with Free Pool Entry! \nAll day entry every Wednesday\, Friday and Saturday for Veterans\, Partners/Carers* \nGympie Aquatic Recreation Centre. \nFor mor information call 5483 7707 or email reception@gympiersla.com.au \n*Children of Veterans welcome upon application at the Veteran centre; must show DVA\, RSL Membership &/or Veteran Centre Family card upon entry.
URL:https://gympiersl.com.au/event/swimming/2025-10-03/
LOCATION:Gympie Aquatic Centre\, Tozer Park Road\, Gympie\, QLD\, 4570\, Australia
CATEGORIES:Welfare,Welfare Weekly
ATTACH;FMTTYPE=image/jpeg:https://gympiersl.com.au/wp-content/uploads/2024/05/Gympie-RSL-Web-Event-Featured_Swimming.jpg
END:VEVENT
BEGIN:VEVENT
DTSTART;TZID=Australia/Brisbane:20251002T130000
DTEND;TZID=Australia/Brisbane:20251002T140000
DTSTAMP:20260424T023136
CREATED:20240509T222733Z
LAST-MODIFIED:20251215T015412Z
UID:10017403-1759410000-1759413600@gympiersl.com.au
SUMMARY:Chair Exercise
DESCRIPTION:Sit\, Stretch\, Breathe with Chair Exercise \nJoin us at Gympie Aquatic Recreation Centre\, every Thursday from 1pm for our Chair Exercise classes. \nEnjoy some low-impact fitness that improves strength\, mobility\, posture\, balance and helps reduce stress. \nAll ages and abilities welcome! \n  \nBOOK HERE
URL:https://gympiersl.com.au/event/chair-exercise/2025-10-02/
LOCATION:Gympie Aquatic Centre\, Tozer Park Road\, Gympie\, QLD\, 4570\, Australia
CATEGORIES:Welfare,Welfare Weekly
ATTACH;FMTTYPE=image/jpeg:https://gympiersl.com.au/wp-content/uploads/2024/05/Gympie-RSL-Web-Event-Featured_Chair-Yoga.jpg
END:VEVENT
BEGIN:VEVENT
DTSTART;TZID=Australia/Brisbane:20251001T130000
DTEND;TZID=Australia/Brisbane:20251001T140000
DTSTAMP:20260424T023136
CREATED:20240828T005800Z
LAST-MODIFIED:20251215T014724Z
UID:10016081-1759323600-1759327200@gympiersl.com.au
SUMMARY:Fit Together
DESCRIPTION:Exercise is better with friends! \nJoin us every Wednesday from 1pm at the Gympie Aquatic Recreation Centre. \nThis group fitness class will keep you energised and interested with new skills every week! \nOpen to Veterans\, their partners/carers and friends. \nMust show DVA card or RSL membership card for entry. \nFor more information\, call 5483 7707 or email reception@gympiersla.com.au \n  \nBOOK HERE
URL:https://gympiersl.com.au/event/fit-together-wed/2025-10-01/
LOCATION:Gympie Aquatic Centre\, Tozer Park Road\, Gympie\, QLD\, 4570\, Australia
CATEGORIES:Welfare,Welfare Weekly
ATTACH;FMTTYPE=image/jpeg:https://gympiersl.com.au/wp-content/uploads/2024/05/Gympie-RSL-Web-Event-Featured_Fit-Together.jpg
END:VEVENT
BEGIN:VEVENT
DTSTART;TZID=Australia/Brisbane:20251001T060000
DTEND;TZID=Australia/Brisbane:20260112T183000
DTSTAMP:20260424T023136
CREATED:20241202T003326Z
LAST-MODIFIED:20260216T001459Z
UID:10020913-1759298400-1768242600@gympiersl.com.au
SUMMARY:Glenwood Swimming & Gym
DESCRIPTION:Attention Veterans! We’ve got something special just for you. \nEnjoy exclusive all-day access at Glenwood Village Swim and Gym every Sunday\, Monday\, Tuesday\, Wednesday\, Thursday\, & Friday. Only for Veterans and their partners or carers. \nChildren of Veterans are also welcome upon application at the Veteran Centre. Simply present your DVA card\, RSL Membership\, or Veteran Centre Family Card upon entry. \nLocation: Glenwood Village Swim and Gym\, 348 Arborfive Road\nContact: 5483 7707\nEmail: vcadmin@gympiersla.com.au \n 
URL:https://gympiersl.com.au/event/glenwood-swimming-gym/2025-10-01/
LOCATION:QLD
CATEGORIES:Welfare,Welfare Featured,Welfare Weekly
ATTACH;FMTTYPE=image/jpeg:https://gympiersl.com.au/wp-content/uploads/2024/12/Gympie-RSL-Glenwood-Swimming-Gym_Web-Event-Featured-Img.jpg
END:VEVENT
BEGIN:VEVENT
DTSTART;VALUE=DATE:20251001
DTEND;VALUE=DATE:20251002
DTSTAMP:20260424T023136
CREATED:20240509T223509Z
LAST-MODIFIED:20240509T224355Z
UID:10015444-1759276800-1759363199@gympiersl.com.au
SUMMARY:Swimming
DESCRIPTION:Spend your day poolside with Free Pool Entry! \nAll day entry every Wednesday\, Friday and Saturday for Veterans\, Partners/Carers* \nGympie Aquatic Recreation Centre. \nFor mor information call 5483 7707 or email reception@gympiersla.com.au \n*Children of Veterans welcome upon application at the Veteran centre; must show DVA\, RSL Membership &/or Veteran Centre Family card upon entry.
URL:https://gympiersl.com.au/event/swimming/2025-10-01/
LOCATION:Gympie Aquatic Centre\, Tozer Park Road\, Gympie\, QLD\, 4570\, Australia
CATEGORIES:Welfare,Welfare Weekly
ATTACH;FMTTYPE=image/jpeg:https://gympiersl.com.au/wp-content/uploads/2024/05/Gympie-RSL-Web-Event-Featured_Swimming.jpg
END:VEVENT
BEGIN:VEVENT
DTSTART;TZID=Australia/Brisbane:20250930T173000
DTEND;TZID=Australia/Brisbane:20250930T183000
DTSTAMP:20260424T023136
CREATED:20240509T221030Z
LAST-MODIFIED:20240509T224320Z
UID:10017128-1759253400-1759257000@gympiersl.com.au
SUMMARY:Choir
DESCRIPTION:Calling all Crooners! \nIf you love to sing\, then come along to Gympie RSL every Tuesday from 5:30pm and be part of our Choir. \nWe hold regular performances throughout the year. \nOpen to all members of the Gympie Community with any voice type and singing experience. \nFor more information\, please call 5483 7707 or email reception@gympiersla.com.au.
URL:https://gympiersl.com.au/event/choir/2025-09-30/
LOCATION:Veteran Services Centre\, 39 Monkland Street\, Gympie\, QLD\, 4570\, Australia
CATEGORIES:Welfare,Welfare Weekly
ATTACH;FMTTYPE=image/jpeg:https://gympiersl.com.au/wp-content/uploads/2024/05/Gympie-RSL-Web-Event-Featured_Choir.jpg
END:VEVENT
BEGIN:VEVENT
DTSTART;TZID=Australia/Brisbane:20250930T100000
DTEND;TZID=Australia/Brisbane:20250930T120000
DTSTAMP:20260424T023136
CREATED:20240509T221424Z
LAST-MODIFIED:20240509T224325Z
UID:10016867-1759226400-1759233600@gympiersl.com.au
SUMMARY:Coffee & Chat
DESCRIPTION:Join us at the Rendezvous Café every Tuesday for Coffee & Chat! \nAll veterans are welcome to join\, share stories\, and lend a listening ear.
URL:https://gympiersl.com.au/event/coffee-chat/2025-09-30/
LOCATION:Rendezvous Café & Bar\, Gympie RSL\, 217 Mary Street\, Gympie\, QLD\, 4570\, Australia
CATEGORIES:Welfare,Welfare Weekly
ATTACH;FMTTYPE=image/jpeg:https://gympiersl.com.au/wp-content/uploads/2024/05/Gympie-RSL-Web-Event-Featured_Coffee-Chat.jpg
END:VEVENT
BEGIN:VEVENT
DTSTART;TZID=Australia/Brisbane:20250928T060000
DTEND;TZID=Australia/Brisbane:20260109T183000
DTSTAMP:20260424T023136
CREATED:20241202T003326Z
LAST-MODIFIED:20260216T001459Z
UID:10020912-1759039200-1767983400@gympiersl.com.au
SUMMARY:Glenwood Swimming & Gym
DESCRIPTION:Attention Veterans! We’ve got something special just for you. \nEnjoy exclusive all-day access at Glenwood Village Swim and Gym every Sunday\, Monday\, Tuesday\, Wednesday\, Thursday\, & Friday. Only for Veterans and their partners or carers. \nChildren of Veterans are also welcome upon application at the Veteran Centre. Simply present your DVA card\, RSL Membership\, or Veteran Centre Family Card upon entry. \nLocation: Glenwood Village Swim and Gym\, 348 Arborfive Road\nContact: 5483 7707\nEmail: vcadmin@gympiersla.com.au \n 
URL:https://gympiersl.com.au/event/glenwood-swimming-gym/2025-09-28/
LOCATION:QLD
CATEGORIES:Welfare,Welfare Featured,Welfare Weekly
ATTACH;FMTTYPE=image/jpeg:https://gympiersl.com.au/wp-content/uploads/2024/12/Gympie-RSL-Glenwood-Swimming-Gym_Web-Event-Featured-Img.jpg
END:VEVENT
BEGIN:VEVENT
DTSTART;VALUE=DATE:20250927
DTEND;VALUE=DATE:20250928
DTSTAMP:20260424T023136
CREATED:20240509T223509Z
LAST-MODIFIED:20240509T224355Z
UID:10015443-1758931200-1759017599@gympiersl.com.au
SUMMARY:Swimming
DESCRIPTION:Spend your day poolside with Free Pool Entry! \nAll day entry every Wednesday\, Friday and Saturday for Veterans\, Partners/Carers* \nGympie Aquatic Recreation Centre. \nFor mor information call 5483 7707 or email reception@gympiersla.com.au \n*Children of Veterans welcome upon application at the Veteran centre; must show DVA\, RSL Membership &/or Veteran Centre Family card upon entry.
URL:https://gympiersl.com.au/event/swimming/2025-09-27/
LOCATION:Gympie Aquatic Centre\, Tozer Park Road\, Gympie\, QLD\, 4570\, Australia
CATEGORIES:Welfare,Welfare Weekly
ATTACH;FMTTYPE=image/jpeg:https://gympiersl.com.au/wp-content/uploads/2024/05/Gympie-RSL-Web-Event-Featured_Swimming.jpg
END:VEVENT
BEGIN:VEVENT
DTSTART;TZID=Australia/Brisbane:20250926T130000
DTEND;TZID=Australia/Brisbane:20250926T140000
DTSTAMP:20260424T023136
CREATED:20240509T222403Z
LAST-MODIFIED:20251215T020538Z
UID:10016344-1758891600-1758895200@gympiersl.com.au
SUMMARY:Splash Aerobics
DESCRIPTION:Join in the fun at our low-impact pool workout sessions! \nEvery Friday from 1pm at Gympie Aquatic Centre. \nOpen to Veterans and their partners/carers. \nFor more information\, call 5483 7707 or email events@gympiersla.com.au. \n  \nBOOK HERE
URL:https://gympiersl.com.au/event/splash-aerobics/2025-09-26/
LOCATION:Gympie Aquatic Centre\, Tozer Park Road\, Gympie\, QLD\, 4570\, Australia
CATEGORIES:Welfare,Welfare Weekly
ATTACH;FMTTYPE=image/jpeg:https://gympiersl.com.au/wp-content/uploads/2024/05/Gympie-RSL-Web-Event-Featured_Splash-Aerobics.jpg
END:VEVENT
BEGIN:VEVENT
DTSTART;TZID=Australia/Brisbane:20250926T060000
DTEND;TZID=Australia/Brisbane:20260107T183000
DTSTAMP:20260424T023136
CREATED:20241202T003326Z
LAST-MODIFIED:20260216T001459Z
UID:10020911-1758866400-1767810600@gympiersl.com.au
SUMMARY:Glenwood Swimming & Gym
DESCRIPTION:Attention Veterans! We’ve got something special just for you. \nEnjoy exclusive all-day access at Glenwood Village Swim and Gym every Sunday\, Monday\, Tuesday\, Wednesday\, Thursday\, & Friday. Only for Veterans and their partners or carers. \nChildren of Veterans are also welcome upon application at the Veteran Centre. Simply present your DVA card\, RSL Membership\, or Veteran Centre Family Card upon entry. \nLocation: Glenwood Village Swim and Gym\, 348 Arborfive Road\nContact: 5483 7707\nEmail: vcadmin@gympiersla.com.au \n 
URL:https://gympiersl.com.au/event/glenwood-swimming-gym/2025-09-26/
LOCATION:QLD
CATEGORIES:Welfare,Welfare Featured,Welfare Weekly
ATTACH;FMTTYPE=image/jpeg:https://gympiersl.com.au/wp-content/uploads/2024/12/Gympie-RSL-Glenwood-Swimming-Gym_Web-Event-Featured-Img.jpg
END:VEVENT
BEGIN:VEVENT
DTSTART;VALUE=DATE:20250926
DTEND;VALUE=DATE:20250927
DTSTAMP:20260424T023136
CREATED:20240509T223509Z
LAST-MODIFIED:20240509T224355Z
UID:10015442-1758844800-1758931199@gympiersl.com.au
SUMMARY:Swimming
DESCRIPTION:Spend your day poolside with Free Pool Entry! \nAll day entry every Wednesday\, Friday and Saturday for Veterans\, Partners/Carers* \nGympie Aquatic Recreation Centre. \nFor mor information call 5483 7707 or email reception@gympiersla.com.au \n*Children of Veterans welcome upon application at the Veteran centre; must show DVA\, RSL Membership &/or Veteran Centre Family card upon entry.
URL:https://gympiersl.com.au/event/swimming/2025-09-26/
LOCATION:Gympie Aquatic Centre\, Tozer Park Road\, Gympie\, QLD\, 4570\, Australia
CATEGORIES:Welfare,Welfare Weekly
ATTACH;FMTTYPE=image/jpeg:https://gympiersl.com.au/wp-content/uploads/2024/05/Gympie-RSL-Web-Event-Featured_Swimming.jpg
END:VEVENT
BEGIN:VEVENT
DTSTART;TZID=Australia/Brisbane:20250925T130000
DTEND;TZID=Australia/Brisbane:20250925T140000
DTSTAMP:20260424T023136
CREATED:20240509T222733Z
LAST-MODIFIED:20251215T015412Z
UID:10017402-1758805200-1758808800@gympiersl.com.au
SUMMARY:Chair Exercise
DESCRIPTION:Sit\, Stretch\, Breathe with Chair Exercise \nJoin us at Gympie Aquatic Recreation Centre\, every Thursday from 1pm for our Chair Exercise classes. \nEnjoy some low-impact fitness that improves strength\, mobility\, posture\, balance and helps reduce stress. \nAll ages and abilities welcome! \n  \nBOOK HERE
URL:https://gympiersl.com.au/event/chair-exercise/2025-09-25/
LOCATION:Gympie Aquatic Centre\, Tozer Park Road\, Gympie\, QLD\, 4570\, Australia
CATEGORIES:Welfare,Welfare Weekly
ATTACH;FMTTYPE=image/jpeg:https://gympiersl.com.au/wp-content/uploads/2024/05/Gympie-RSL-Web-Event-Featured_Chair-Yoga.jpg
END:VEVENT
BEGIN:VEVENT
DTSTART;TZID=Australia/Brisbane:20250924T130000
DTEND;TZID=Australia/Brisbane:20250924T140000
DTSTAMP:20260424T023136
CREATED:20240828T005800Z
LAST-MODIFIED:20251215T014724Z
UID:10016080-1758718800-1758722400@gympiersl.com.au
SUMMARY:Fit Together
DESCRIPTION:Exercise is better with friends! \nJoin us every Wednesday from 1pm at the Gympie Aquatic Recreation Centre. \nThis group fitness class will keep you energised and interested with new skills every week! \nOpen to Veterans\, their partners/carers and friends. \nMust show DVA card or RSL membership card for entry. \nFor more information\, call 5483 7707 or email reception@gympiersla.com.au \n  \nBOOK HERE
URL:https://gympiersl.com.au/event/fit-together-wed/2025-09-24/
LOCATION:Gympie Aquatic Centre\, Tozer Park Road\, Gympie\, QLD\, 4570\, Australia
CATEGORIES:Welfare,Welfare Weekly
ATTACH;FMTTYPE=image/jpeg:https://gympiersl.com.au/wp-content/uploads/2024/05/Gympie-RSL-Web-Event-Featured_Fit-Together.jpg
END:VEVENT
BEGIN:VEVENT
DTSTART;TZID=Australia/Brisbane:20250924T060000
DTEND;TZID=Australia/Brisbane:20260105T183000
DTSTAMP:20260424T023136
CREATED:20241202T003326Z
LAST-MODIFIED:20260216T001459Z
UID:10020910-1758693600-1767637800@gympiersl.com.au
SUMMARY:Glenwood Swimming & Gym
DESCRIPTION:Attention Veterans! We’ve got something special just for you. \nEnjoy exclusive all-day access at Glenwood Village Swim and Gym every Sunday\, Monday\, Tuesday\, Wednesday\, Thursday\, & Friday. Only for Veterans and their partners or carers. \nChildren of Veterans are also welcome upon application at the Veteran Centre. Simply present your DVA card\, RSL Membership\, or Veteran Centre Family Card upon entry. \nLocation: Glenwood Village Swim and Gym\, 348 Arborfive Road\nContact: 5483 7707\nEmail: vcadmin@gympiersla.com.au \n 
URL:https://gympiersl.com.au/event/glenwood-swimming-gym/2025-09-24/
LOCATION:QLD
CATEGORIES:Welfare,Welfare Featured,Welfare Weekly
ATTACH;FMTTYPE=image/jpeg:https://gympiersl.com.au/wp-content/uploads/2024/12/Gympie-RSL-Glenwood-Swimming-Gym_Web-Event-Featured-Img.jpg
END:VEVENT
BEGIN:VEVENT
DTSTART;VALUE=DATE:20250924
DTEND;VALUE=DATE:20250925
DTSTAMP:20260424T023136
CREATED:20240509T223509Z
LAST-MODIFIED:20240509T224355Z
UID:10015441-1758672000-1758758399@gympiersl.com.au
SUMMARY:Swimming
DESCRIPTION:Spend your day poolside with Free Pool Entry! \nAll day entry every Wednesday\, Friday and Saturday for Veterans\, Partners/Carers* \nGympie Aquatic Recreation Centre. \nFor mor information call 5483 7707 or email reception@gympiersla.com.au \n*Children of Veterans welcome upon application at the Veteran centre; must show DVA\, RSL Membership &/or Veteran Centre Family card upon entry.
URL:https://gympiersl.com.au/event/swimming/2025-09-24/
LOCATION:Gympie Aquatic Centre\, Tozer Park Road\, Gympie\, QLD\, 4570\, Australia
CATEGORIES:Welfare,Welfare Weekly
ATTACH;FMTTYPE=image/jpeg:https://gympiersl.com.au/wp-content/uploads/2024/05/Gympie-RSL-Web-Event-Featured_Swimming.jpg
END:VEVENT
BEGIN:VEVENT
DTSTART;TZID=Australia/Brisbane:20250923T173000
DTEND;TZID=Australia/Brisbane:20250923T183000
DTSTAMP:20260424T023136
CREATED:20240509T221030Z
LAST-MODIFIED:20240509T224320Z
UID:10017127-1758648600-1758652200@gympiersl.com.au
SUMMARY:Choir
DESCRIPTION:Calling all Crooners! \nIf you love to sing\, then come along to Gympie RSL every Tuesday from 5:30pm and be part of our Choir. \nWe hold regular performances throughout the year. \nOpen to all members of the Gympie Community with any voice type and singing experience. \nFor more information\, please call 5483 7707 or email reception@gympiersla.com.au.
URL:https://gympiersl.com.au/event/choir/2025-09-23/
LOCATION:Veteran Services Centre\, 39 Monkland Street\, Gympie\, QLD\, 4570\, Australia
CATEGORIES:Welfare,Welfare Weekly
ATTACH;FMTTYPE=image/jpeg:https://gympiersl.com.au/wp-content/uploads/2024/05/Gympie-RSL-Web-Event-Featured_Choir.jpg
END:VEVENT
BEGIN:VEVENT
DTSTART;TZID=Australia/Brisbane:20250923T100000
DTEND;TZID=Australia/Brisbane:20250923T120000
DTSTAMP:20260424T023136
CREATED:20240509T221424Z
LAST-MODIFIED:20240509T224325Z
UID:10016866-1758621600-1758628800@gympiersl.com.au
SUMMARY:Coffee & Chat
DESCRIPTION:Join us at the Rendezvous Café every Tuesday for Coffee & Chat! \nAll veterans are welcome to join\, share stories\, and lend a listening ear.
URL:https://gympiersl.com.au/event/coffee-chat/2025-09-23/
LOCATION:Rendezvous Café & Bar\, Gympie RSL\, 217 Mary Street\, Gympie\, QLD\, 4570\, Australia
CATEGORIES:Welfare,Welfare Weekly
ATTACH;FMTTYPE=image/jpeg:https://gympiersl.com.au/wp-content/uploads/2024/05/Gympie-RSL-Web-Event-Featured_Coffee-Chat.jpg
END:VEVENT
BEGIN:VEVENT
DTSTART;TZID=Australia/Brisbane:20250921T060000
DTEND;TZID=Australia/Brisbane:20260102T183000
DTSTAMP:20260424T023136
CREATED:20241202T003326Z
LAST-MODIFIED:20260216T001459Z
UID:10020909-1758434400-1767378600@gympiersl.com.au
SUMMARY:Glenwood Swimming & Gym
DESCRIPTION:Attention Veterans! We’ve got something special just for you. \nEnjoy exclusive all-day access at Glenwood Village Swim and Gym every Sunday\, Monday\, Tuesday\, Wednesday\, Thursday\, & Friday. Only for Veterans and their partners or carers. \nChildren of Veterans are also welcome upon application at the Veteran Centre. Simply present your DVA card\, RSL Membership\, or Veteran Centre Family Card upon entry. \nLocation: Glenwood Village Swim and Gym\, 348 Arborfive Road\nContact: 5483 7707\nEmail: vcadmin@gympiersla.com.au \n 
URL:https://gympiersl.com.au/event/glenwood-swimming-gym/2025-09-21/
LOCATION:QLD
CATEGORIES:Welfare,Welfare Featured,Welfare Weekly
ATTACH;FMTTYPE=image/jpeg:https://gympiersl.com.au/wp-content/uploads/2024/12/Gympie-RSL-Glenwood-Swimming-Gym_Web-Event-Featured-Img.jpg
END:VEVENT
END:VCALENDAR