BEGIN:VCALENDAR
VERSION:2.0
PRODID:-//Gympie RSL - ECPv6.15.20//NONSGML v1.0//EN
CALSCALE:GREGORIAN
METHOD:PUBLISH
X-ORIGINAL-URL:https://gympiersl.com.au
X-WR-CALDESC:Events for Gympie RSL
REFRESH-INTERVAL;VALUE=DURATION:PT1H
X-Robots-Tag:noindex
X-PUBLISHED-TTL:PT1H
BEGIN:VTIMEZONE
TZID:Australia/Brisbane
BEGIN:STANDARD
TZOFFSETFROM:+1000
TZOFFSETTO:+1000
TZNAME:AEST
DTSTART:20250101T000000
END:STANDARD
END:VTIMEZONE
BEGIN:VEVENT
DTSTART;TZID=Australia/Brisbane:20261029T130000
DTEND;TZID=Australia/Brisbane:20261029T140000
DTSTAMP:20260423T211941
CREATED:20240509T222733Z
LAST-MODIFIED:20251215T015412Z
UID:10017459-1793278800-1793282400@gympiersl.com.au
SUMMARY:Chair Exercise
DESCRIPTION:Sit\, Stretch\, Breathe with Chair Exercise \nJoin us at Gympie Aquatic Recreation Centre\, every Thursday from 1pm for our Chair Exercise classes. \nEnjoy some low-impact fitness that improves strength\, mobility\, posture\, balance and helps reduce stress. \nAll ages and abilities welcome! \n  \nBOOK HERE
URL:https://gympiersl.com.au/event/chair-exercise/2026-10-29/
LOCATION:Gympie Aquatic Centre\, Tozer Park Road\, Gympie\, QLD\, 4570\, Australia
CATEGORIES:Welfare,Welfare Weekly
ATTACH;FMTTYPE=image/jpeg:https://gympiersl.com.au/wp-content/uploads/2024/05/Gympie-RSL-Web-Event-Featured_Chair-Yoga.jpg
END:VEVENT
BEGIN:VEVENT
DTSTART;VALUE=DATE:20261030
DTEND;VALUE=DATE:20261031
DTSTAMP:20260423T211941
CREATED:20240509T223509Z
LAST-MODIFIED:20240509T224355Z
UID:10015613-1793318400-1793404799@gympiersl.com.au
SUMMARY:Swimming
DESCRIPTION:Spend your day poolside with Free Pool Entry! \nAll day entry every Wednesday\, Friday and Saturday for Veterans\, Partners/Carers* \nGympie Aquatic Recreation Centre. \nFor mor information call 5483 7707 or email reception@gympiersla.com.au \n*Children of Veterans welcome upon application at the Veteran centre; must show DVA\, RSL Membership &/or Veteran Centre Family card upon entry.
URL:https://gympiersl.com.au/event/swimming/2026-10-30/
LOCATION:Gympie Aquatic Centre\, Tozer Park Road\, Gympie\, QLD\, 4570\, Australia
CATEGORIES:Welfare,Welfare Weekly
ATTACH;FMTTYPE=image/jpeg:https://gympiersl.com.au/wp-content/uploads/2024/05/Gympie-RSL-Web-Event-Featured_Swimming.jpg
END:VEVENT
BEGIN:VEVENT
DTSTART;TZID=Australia/Brisbane:20261030T130000
DTEND;TZID=Australia/Brisbane:20261030T140000
DTSTAMP:20260423T211941
CREATED:20240509T222403Z
LAST-MODIFIED:20251215T020538Z
UID:10016401-1793365200-1793368800@gympiersl.com.au
SUMMARY:Splash Aerobics
DESCRIPTION:Join in the fun at our low-impact pool workout sessions! \nEvery Friday from 1pm at Gympie Aquatic Centre. \nOpen to Veterans and their partners/carers. \nFor more information\, call 5483 7707 or email events@gympiersla.com.au. \n  \nBOOK HERE
URL:https://gympiersl.com.au/event/splash-aerobics/2026-10-30/
LOCATION:Gympie Aquatic Centre\, Tozer Park Road\, Gympie\, QLD\, 4570\, Australia
CATEGORIES:Welfare,Welfare Weekly
ATTACH;FMTTYPE=image/jpeg:https://gympiersl.com.au/wp-content/uploads/2024/05/Gympie-RSL-Web-Event-Featured_Splash-Aerobics.jpg
END:VEVENT
BEGIN:VEVENT
DTSTART;VALUE=DATE:20261031
DTEND;VALUE=DATE:20261101
DTSTAMP:20260423T211941
CREATED:20240509T223509Z
LAST-MODIFIED:20240509T224355Z
UID:10015614-1793404800-1793491199@gympiersl.com.au
SUMMARY:Swimming
DESCRIPTION:Spend your day poolside with Free Pool Entry! \nAll day entry every Wednesday\, Friday and Saturday for Veterans\, Partners/Carers* \nGympie Aquatic Recreation Centre. \nFor mor information call 5483 7707 or email reception@gympiersla.com.au \n*Children of Veterans welcome upon application at the Veteran centre; must show DVA\, RSL Membership &/or Veteran Centre Family card upon entry.
URL:https://gympiersl.com.au/event/swimming/2026-10-31/
LOCATION:Gympie Aquatic Centre\, Tozer Park Road\, Gympie\, QLD\, 4570\, Australia
CATEGORIES:Welfare,Welfare Weekly
ATTACH;FMTTYPE=image/jpeg:https://gympiersl.com.au/wp-content/uploads/2024/05/Gympie-RSL-Web-Event-Featured_Swimming.jpg
END:VEVENT
BEGIN:VEVENT
DTSTART;TZID=Australia/Brisbane:20261103T100000
DTEND;TZID=Australia/Brisbane:20261103T120000
DTSTAMP:20260423T211941
CREATED:20240509T221424Z
LAST-MODIFIED:20240509T224325Z
UID:10016924-1793700000-1793707200@gympiersl.com.au
SUMMARY:Coffee & Chat
DESCRIPTION:Join us at the Rendezvous Café every Tuesday for Coffee & Chat! \nAll veterans are welcome to join\, share stories\, and lend a listening ear.
URL:https://gympiersl.com.au/event/coffee-chat/2026-11-03/
LOCATION:Rendezvous Café & Bar\, Gympie RSL\, 217 Mary Street\, Gympie\, QLD\, 4570\, Australia
CATEGORIES:Welfare,Welfare Weekly
ATTACH;FMTTYPE=image/jpeg:https://gympiersl.com.au/wp-content/uploads/2024/05/Gympie-RSL-Web-Event-Featured_Coffee-Chat.jpg
END:VEVENT
BEGIN:VEVENT
DTSTART;TZID=Australia/Brisbane:20261103T173000
DTEND;TZID=Australia/Brisbane:20261103T183000
DTSTAMP:20260423T211941
CREATED:20251015T001104Z
LAST-MODIFIED:20251015T002130Z
UID:10017185-1793727000-1793730600@gympiersl.com.au
SUMMARY:Choir
DESCRIPTION:Calling all Crooners! \nIf you love to sing\, then come along to Gympie Veteran Centre (39 Monkland St.) every Tuesday from 5:30pm and be part of our Choir. \nWe hold regular performances throughout the year. \nOpen to all members of the Gympie Community with any voice type and singing experience. \nFor more information\, please call 5483 7707 or email reception@gympiersla.com.au.
URL:https://gympiersl.com.au/event/choir-2/2026-11-03/
LOCATION:Veteran Services Centre\, 39 Monkland Street\, Gympie\, QLD\, 4570\, Australia
CATEGORIES:Welfare,Welfare Weekly
ATTACH;FMTTYPE=image/jpeg:https://gympiersl.com.au/wp-content/uploads/2024/05/Gympie-RSL-Web-Event-Featured_Choir.jpg
END:VEVENT
BEGIN:VEVENT
DTSTART;VALUE=DATE:20261104
DTEND;VALUE=DATE:20261105
DTSTAMP:20260423T211941
CREATED:20240509T223509Z
LAST-MODIFIED:20240509T224355Z
UID:10015615-1793750400-1793836799@gympiersl.com.au
SUMMARY:Swimming
DESCRIPTION:Spend your day poolside with Free Pool Entry! \nAll day entry every Wednesday\, Friday and Saturday for Veterans\, Partners/Carers* \nGympie Aquatic Recreation Centre. \nFor mor information call 5483 7707 or email reception@gympiersla.com.au \n*Children of Veterans welcome upon application at the Veteran centre; must show DVA\, RSL Membership &/or Veteran Centre Family card upon entry.
URL:https://gympiersl.com.au/event/swimming/2026-11-04/
LOCATION:Gympie Aquatic Centre\, Tozer Park Road\, Gympie\, QLD\, 4570\, Australia
CATEGORIES:Welfare,Welfare Weekly
ATTACH;FMTTYPE=image/jpeg:https://gympiersl.com.au/wp-content/uploads/2024/05/Gympie-RSL-Web-Event-Featured_Swimming.jpg
END:VEVENT
BEGIN:VEVENT
DTSTART;TZID=Australia/Brisbane:20261104T130000
DTEND;TZID=Australia/Brisbane:20261104T140000
DTSTAMP:20260423T211941
CREATED:20240828T005800Z
LAST-MODIFIED:20251215T014724Z
UID:10016138-1793797200-1793800800@gympiersl.com.au
SUMMARY:Fit Together
DESCRIPTION:Exercise is better with friends! \nJoin us every Wednesday from 1pm at the Gympie Aquatic Recreation Centre. \nThis group fitness class will keep you energised and interested with new skills every week! \nOpen to Veterans\, their partners/carers and friends. \nMust show DVA card or RSL membership card for entry. \nFor more information\, call 5483 7707 or email reception@gympiersla.com.au \n  \nBOOK HERE
URL:https://gympiersl.com.au/event/fit-together-wed/2026-11-04/
LOCATION:Gympie Aquatic Centre\, Tozer Park Road\, Gympie\, QLD\, 4570\, Australia
CATEGORIES:Welfare,Welfare Weekly
ATTACH;FMTTYPE=image/jpeg:https://gympiersl.com.au/wp-content/uploads/2024/05/Gympie-RSL-Web-Event-Featured_Fit-Together.jpg
END:VEVENT
BEGIN:VEVENT
DTSTART;TZID=Australia/Brisbane:20261105T130000
DTEND;TZID=Australia/Brisbane:20261105T140000
DTSTAMP:20260423T211941
CREATED:20240509T222733Z
LAST-MODIFIED:20251215T015412Z
UID:10017460-1793883600-1793887200@gympiersl.com.au
SUMMARY:Chair Exercise
DESCRIPTION:Sit\, Stretch\, Breathe with Chair Exercise \nJoin us at Gympie Aquatic Recreation Centre\, every Thursday from 1pm for our Chair Exercise classes. \nEnjoy some low-impact fitness that improves strength\, mobility\, posture\, balance and helps reduce stress. \nAll ages and abilities welcome! \n  \nBOOK HERE
URL:https://gympiersl.com.au/event/chair-exercise/2026-11-05/
LOCATION:Gympie Aquatic Centre\, Tozer Park Road\, Gympie\, QLD\, 4570\, Australia
CATEGORIES:Welfare,Welfare Weekly
ATTACH;FMTTYPE=image/jpeg:https://gympiersl.com.au/wp-content/uploads/2024/05/Gympie-RSL-Web-Event-Featured_Chair-Yoga.jpg
END:VEVENT
BEGIN:VEVENT
DTSTART;VALUE=DATE:20261106
DTEND;VALUE=DATE:20261107
DTSTAMP:20260423T211941
CREATED:20240509T223509Z
LAST-MODIFIED:20240509T224355Z
UID:10015616-1793923200-1794009599@gympiersl.com.au
SUMMARY:Swimming
DESCRIPTION:Spend your day poolside with Free Pool Entry! \nAll day entry every Wednesday\, Friday and Saturday for Veterans\, Partners/Carers* \nGympie Aquatic Recreation Centre. \nFor mor information call 5483 7707 or email reception@gympiersla.com.au \n*Children of Veterans welcome upon application at the Veteran centre; must show DVA\, RSL Membership &/or Veteran Centre Family card upon entry.
URL:https://gympiersl.com.au/event/swimming/2026-11-06/
LOCATION:Gympie Aquatic Centre\, Tozer Park Road\, Gympie\, QLD\, 4570\, Australia
CATEGORIES:Welfare,Welfare Weekly
ATTACH;FMTTYPE=image/jpeg:https://gympiersl.com.au/wp-content/uploads/2024/05/Gympie-RSL-Web-Event-Featured_Swimming.jpg
END:VEVENT
BEGIN:VEVENT
DTSTART;TZID=Australia/Brisbane:20261106T130000
DTEND;TZID=Australia/Brisbane:20261106T140000
DTSTAMP:20260423T211941
CREATED:20240509T222403Z
LAST-MODIFIED:20251215T020538Z
UID:10016402-1793970000-1793973600@gympiersl.com.au
SUMMARY:Splash Aerobics
DESCRIPTION:Join in the fun at our low-impact pool workout sessions! \nEvery Friday from 1pm at Gympie Aquatic Centre. \nOpen to Veterans and their partners/carers. \nFor more information\, call 5483 7707 or email events@gympiersla.com.au. \n  \nBOOK HERE
URL:https://gympiersl.com.au/event/splash-aerobics/2026-11-06/
LOCATION:Gympie Aquatic Centre\, Tozer Park Road\, Gympie\, QLD\, 4570\, Australia
CATEGORIES:Welfare,Welfare Weekly
ATTACH;FMTTYPE=image/jpeg:https://gympiersl.com.au/wp-content/uploads/2024/05/Gympie-RSL-Web-Event-Featured_Splash-Aerobics.jpg
END:VEVENT
BEGIN:VEVENT
DTSTART;VALUE=DATE:20261107
DTEND;VALUE=DATE:20261108
DTSTAMP:20260423T211941
CREATED:20240509T223509Z
LAST-MODIFIED:20240509T224355Z
UID:10015617-1794009600-1794095999@gympiersl.com.au
SUMMARY:Swimming
DESCRIPTION:Spend your day poolside with Free Pool Entry! \nAll day entry every Wednesday\, Friday and Saturday for Veterans\, Partners/Carers* \nGympie Aquatic Recreation Centre. \nFor mor information call 5483 7707 or email reception@gympiersla.com.au \n*Children of Veterans welcome upon application at the Veteran centre; must show DVA\, RSL Membership &/or Veteran Centre Family card upon entry.
URL:https://gympiersl.com.au/event/swimming/2026-11-07/
LOCATION:Gympie Aquatic Centre\, Tozer Park Road\, Gympie\, QLD\, 4570\, Australia
CATEGORIES:Welfare,Welfare Weekly
ATTACH;FMTTYPE=image/jpeg:https://gympiersl.com.au/wp-content/uploads/2024/05/Gympie-RSL-Web-Event-Featured_Swimming.jpg
END:VEVENT
BEGIN:VEVENT
DTSTART;TZID=Australia/Brisbane:20261110T100000
DTEND;TZID=Australia/Brisbane:20261110T120000
DTSTAMP:20260423T211941
CREATED:20240509T221424Z
LAST-MODIFIED:20240509T224325Z
UID:10016925-1794304800-1794312000@gympiersl.com.au
SUMMARY:Coffee & Chat
DESCRIPTION:Join us at the Rendezvous Café every Tuesday for Coffee & Chat! \nAll veterans are welcome to join\, share stories\, and lend a listening ear.
URL:https://gympiersl.com.au/event/coffee-chat/2026-11-10/
LOCATION:Rendezvous Café & Bar\, Gympie RSL\, 217 Mary Street\, Gympie\, QLD\, 4570\, Australia
CATEGORIES:Welfare,Welfare Weekly
ATTACH;FMTTYPE=image/jpeg:https://gympiersl.com.au/wp-content/uploads/2024/05/Gympie-RSL-Web-Event-Featured_Coffee-Chat.jpg
END:VEVENT
BEGIN:VEVENT
DTSTART;TZID=Australia/Brisbane:20261110T173000
DTEND;TZID=Australia/Brisbane:20261110T183000
DTSTAMP:20260423T211941
CREATED:20251015T001104Z
LAST-MODIFIED:20251015T002130Z
UID:10017186-1794331800-1794335400@gympiersl.com.au
SUMMARY:Choir
DESCRIPTION:Calling all Crooners! \nIf you love to sing\, then come along to Gympie Veteran Centre (39 Monkland St.) every Tuesday from 5:30pm and be part of our Choir. \nWe hold regular performances throughout the year. \nOpen to all members of the Gympie Community with any voice type and singing experience. \nFor more information\, please call 5483 7707 or email reception@gympiersla.com.au.
URL:https://gympiersl.com.au/event/choir-2/2026-11-10/
LOCATION:Veteran Services Centre\, 39 Monkland Street\, Gympie\, QLD\, 4570\, Australia
CATEGORIES:Welfare,Welfare Weekly
ATTACH;FMTTYPE=image/jpeg:https://gympiersl.com.au/wp-content/uploads/2024/05/Gympie-RSL-Web-Event-Featured_Choir.jpg
END:VEVENT
BEGIN:VEVENT
DTSTART;VALUE=DATE:20261111
DTEND;VALUE=DATE:20261112
DTSTAMP:20260423T211941
CREATED:20240509T223509Z
LAST-MODIFIED:20240509T224355Z
UID:10015618-1794355200-1794441599@gympiersl.com.au
SUMMARY:Swimming
DESCRIPTION:Spend your day poolside with Free Pool Entry! \nAll day entry every Wednesday\, Friday and Saturday for Veterans\, Partners/Carers* \nGympie Aquatic Recreation Centre. \nFor mor information call 5483 7707 or email reception@gympiersla.com.au \n*Children of Veterans welcome upon application at the Veteran centre; must show DVA\, RSL Membership &/or Veteran Centre Family card upon entry.
URL:https://gympiersl.com.au/event/swimming/2026-11-11/
LOCATION:Gympie Aquatic Centre\, Tozer Park Road\, Gympie\, QLD\, 4570\, Australia
CATEGORIES:Welfare,Welfare Weekly
ATTACH;FMTTYPE=image/jpeg:https://gympiersl.com.au/wp-content/uploads/2024/05/Gympie-RSL-Web-Event-Featured_Swimming.jpg
END:VEVENT
BEGIN:VEVENT
DTSTART;TZID=Australia/Brisbane:20261111T130000
DTEND;TZID=Australia/Brisbane:20261111T140000
DTSTAMP:20260423T211941
CREATED:20240828T005800Z
LAST-MODIFIED:20251215T014724Z
UID:10016139-1794402000-1794405600@gympiersl.com.au
SUMMARY:Fit Together
DESCRIPTION:Exercise is better with friends! \nJoin us every Wednesday from 1pm at the Gympie Aquatic Recreation Centre. \nThis group fitness class will keep you energised and interested with new skills every week! \nOpen to Veterans\, their partners/carers and friends. \nMust show DVA card or RSL membership card for entry. \nFor more information\, call 5483 7707 or email reception@gympiersla.com.au \n  \nBOOK HERE
URL:https://gympiersl.com.au/event/fit-together-wed/2026-11-11/
LOCATION:Gympie Aquatic Centre\, Tozer Park Road\, Gympie\, QLD\, 4570\, Australia
CATEGORIES:Welfare,Welfare Weekly
ATTACH;FMTTYPE=image/jpeg:https://gympiersl.com.au/wp-content/uploads/2024/05/Gympie-RSL-Web-Event-Featured_Fit-Together.jpg
END:VEVENT
BEGIN:VEVENT
DTSTART;TZID=Australia/Brisbane:20261112T130000
DTEND;TZID=Australia/Brisbane:20261112T140000
DTSTAMP:20260423T211941
CREATED:20240509T222733Z
LAST-MODIFIED:20251215T015412Z
UID:10017461-1794488400-1794492000@gympiersl.com.au
SUMMARY:Chair Exercise
DESCRIPTION:Sit\, Stretch\, Breathe with Chair Exercise \nJoin us at Gympie Aquatic Recreation Centre\, every Thursday from 1pm for our Chair Exercise classes. \nEnjoy some low-impact fitness that improves strength\, mobility\, posture\, balance and helps reduce stress. \nAll ages and abilities welcome! \n  \nBOOK HERE
URL:https://gympiersl.com.au/event/chair-exercise/2026-11-12/
LOCATION:Gympie Aquatic Centre\, Tozer Park Road\, Gympie\, QLD\, 4570\, Australia
CATEGORIES:Welfare,Welfare Weekly
ATTACH;FMTTYPE=image/jpeg:https://gympiersl.com.au/wp-content/uploads/2024/05/Gympie-RSL-Web-Event-Featured_Chair-Yoga.jpg
END:VEVENT
BEGIN:VEVENT
DTSTART;VALUE=DATE:20261113
DTEND;VALUE=DATE:20261114
DTSTAMP:20260423T211941
CREATED:20240509T223509Z
LAST-MODIFIED:20240509T224355Z
UID:10015619-1794528000-1794614399@gympiersl.com.au
SUMMARY:Swimming
DESCRIPTION:Spend your day poolside with Free Pool Entry! \nAll day entry every Wednesday\, Friday and Saturday for Veterans\, Partners/Carers* \nGympie Aquatic Recreation Centre. \nFor mor information call 5483 7707 or email reception@gympiersla.com.au \n*Children of Veterans welcome upon application at the Veteran centre; must show DVA\, RSL Membership &/or Veteran Centre Family card upon entry.
URL:https://gympiersl.com.au/event/swimming/2026-11-13/
LOCATION:Gympie Aquatic Centre\, Tozer Park Road\, Gympie\, QLD\, 4570\, Australia
CATEGORIES:Welfare,Welfare Weekly
ATTACH;FMTTYPE=image/jpeg:https://gympiersl.com.au/wp-content/uploads/2024/05/Gympie-RSL-Web-Event-Featured_Swimming.jpg
END:VEVENT
BEGIN:VEVENT
DTSTART;TZID=Australia/Brisbane:20261113T130000
DTEND;TZID=Australia/Brisbane:20261113T140000
DTSTAMP:20260423T211941
CREATED:20240509T222403Z
LAST-MODIFIED:20251215T020538Z
UID:10016403-1794574800-1794578400@gympiersl.com.au
SUMMARY:Splash Aerobics
DESCRIPTION:Join in the fun at our low-impact pool workout sessions! \nEvery Friday from 1pm at Gympie Aquatic Centre. \nOpen to Veterans and their partners/carers. \nFor more information\, call 5483 7707 or email events@gympiersla.com.au. \n  \nBOOK HERE
URL:https://gympiersl.com.au/event/splash-aerobics/2026-11-13/
LOCATION:Gympie Aquatic Centre\, Tozer Park Road\, Gympie\, QLD\, 4570\, Australia
CATEGORIES:Welfare,Welfare Weekly
ATTACH;FMTTYPE=image/jpeg:https://gympiersl.com.au/wp-content/uploads/2024/05/Gympie-RSL-Web-Event-Featured_Splash-Aerobics.jpg
END:VEVENT
BEGIN:VEVENT
DTSTART;VALUE=DATE:20261114
DTEND;VALUE=DATE:20261115
DTSTAMP:20260423T211941
CREATED:20240509T223509Z
LAST-MODIFIED:20240509T224355Z
UID:10015620-1794614400-1794700799@gympiersl.com.au
SUMMARY:Swimming
DESCRIPTION:Spend your day poolside with Free Pool Entry! \nAll day entry every Wednesday\, Friday and Saturday for Veterans\, Partners/Carers* \nGympie Aquatic Recreation Centre. \nFor mor information call 5483 7707 or email reception@gympiersla.com.au \n*Children of Veterans welcome upon application at the Veteran centre; must show DVA\, RSL Membership &/or Veteran Centre Family card upon entry.
URL:https://gympiersl.com.au/event/swimming/2026-11-14/
LOCATION:Gympie Aquatic Centre\, Tozer Park Road\, Gympie\, QLD\, 4570\, Australia
CATEGORIES:Welfare,Welfare Weekly
ATTACH;FMTTYPE=image/jpeg:https://gympiersl.com.au/wp-content/uploads/2024/05/Gympie-RSL-Web-Event-Featured_Swimming.jpg
END:VEVENT
BEGIN:VEVENT
DTSTART;TZID=Australia/Brisbane:20261117T100000
DTEND;TZID=Australia/Brisbane:20261117T120000
DTSTAMP:20260423T211941
CREATED:20240509T221424Z
LAST-MODIFIED:20240509T224325Z
UID:10016926-1794909600-1794916800@gympiersl.com.au
SUMMARY:Coffee & Chat
DESCRIPTION:Join us at the Rendezvous Café every Tuesday for Coffee & Chat! \nAll veterans are welcome to join\, share stories\, and lend a listening ear.
URL:https://gympiersl.com.au/event/coffee-chat/2026-11-17/
LOCATION:Rendezvous Café & Bar\, Gympie RSL\, 217 Mary Street\, Gympie\, QLD\, 4570\, Australia
CATEGORIES:Welfare,Welfare Weekly
ATTACH;FMTTYPE=image/jpeg:https://gympiersl.com.au/wp-content/uploads/2024/05/Gympie-RSL-Web-Event-Featured_Coffee-Chat.jpg
END:VEVENT
BEGIN:VEVENT
DTSTART;TZID=Australia/Brisbane:20261117T173000
DTEND;TZID=Australia/Brisbane:20261117T183000
DTSTAMP:20260423T211941
CREATED:20251015T001104Z
LAST-MODIFIED:20251015T002130Z
UID:10017187-1794936600-1794940200@gympiersl.com.au
SUMMARY:Choir
DESCRIPTION:Calling all Crooners! \nIf you love to sing\, then come along to Gympie Veteran Centre (39 Monkland St.) every Tuesday from 5:30pm and be part of our Choir. \nWe hold regular performances throughout the year. \nOpen to all members of the Gympie Community with any voice type and singing experience. \nFor more information\, please call 5483 7707 or email reception@gympiersla.com.au.
URL:https://gympiersl.com.au/event/choir-2/2026-11-17/
LOCATION:Veteran Services Centre\, 39 Monkland Street\, Gympie\, QLD\, 4570\, Australia
CATEGORIES:Welfare,Welfare Weekly
ATTACH;FMTTYPE=image/jpeg:https://gympiersl.com.au/wp-content/uploads/2024/05/Gympie-RSL-Web-Event-Featured_Choir.jpg
END:VEVENT
BEGIN:VEVENT
DTSTART;VALUE=DATE:20261118
DTEND;VALUE=DATE:20261119
DTSTAMP:20260423T211941
CREATED:20240509T223509Z
LAST-MODIFIED:20240509T224355Z
UID:10015621-1794960000-1795046399@gympiersl.com.au
SUMMARY:Swimming
DESCRIPTION:Spend your day poolside with Free Pool Entry! \nAll day entry every Wednesday\, Friday and Saturday for Veterans\, Partners/Carers* \nGympie Aquatic Recreation Centre. \nFor mor information call 5483 7707 or email reception@gympiersla.com.au \n*Children of Veterans welcome upon application at the Veteran centre; must show DVA\, RSL Membership &/or Veteran Centre Family card upon entry.
URL:https://gympiersl.com.au/event/swimming/2026-11-18/
LOCATION:Gympie Aquatic Centre\, Tozer Park Road\, Gympie\, QLD\, 4570\, Australia
CATEGORIES:Welfare,Welfare Weekly
ATTACH;FMTTYPE=image/jpeg:https://gympiersl.com.au/wp-content/uploads/2024/05/Gympie-RSL-Web-Event-Featured_Swimming.jpg
END:VEVENT
BEGIN:VEVENT
DTSTART;TZID=Australia/Brisbane:20261118T130000
DTEND;TZID=Australia/Brisbane:20261118T140000
DTSTAMP:20260423T211941
CREATED:20240828T005800Z
LAST-MODIFIED:20251215T014724Z
UID:10016140-1795006800-1795010400@gympiersl.com.au
SUMMARY:Fit Together
DESCRIPTION:Exercise is better with friends! \nJoin us every Wednesday from 1pm at the Gympie Aquatic Recreation Centre. \nThis group fitness class will keep you energised and interested with new skills every week! \nOpen to Veterans\, their partners/carers and friends. \nMust show DVA card or RSL membership card for entry. \nFor more information\, call 5483 7707 or email reception@gympiersla.com.au \n  \nBOOK HERE
URL:https://gympiersl.com.au/event/fit-together-wed/2026-11-18/
LOCATION:Gympie Aquatic Centre\, Tozer Park Road\, Gympie\, QLD\, 4570\, Australia
CATEGORIES:Welfare,Welfare Weekly
ATTACH;FMTTYPE=image/jpeg:https://gympiersl.com.au/wp-content/uploads/2024/05/Gympie-RSL-Web-Event-Featured_Fit-Together.jpg
END:VEVENT
BEGIN:VEVENT
DTSTART;TZID=Australia/Brisbane:20261119T130000
DTEND;TZID=Australia/Brisbane:20261119T140000
DTSTAMP:20260423T211941
CREATED:20240509T222733Z
LAST-MODIFIED:20251215T015412Z
UID:10017462-1795093200-1795096800@gympiersl.com.au
SUMMARY:Chair Exercise
DESCRIPTION:Sit\, Stretch\, Breathe with Chair Exercise \nJoin us at Gympie Aquatic Recreation Centre\, every Thursday from 1pm for our Chair Exercise classes. \nEnjoy some low-impact fitness that improves strength\, mobility\, posture\, balance and helps reduce stress. \nAll ages and abilities welcome! \n  \nBOOK HERE
URL:https://gympiersl.com.au/event/chair-exercise/2026-11-19/
LOCATION:Gympie Aquatic Centre\, Tozer Park Road\, Gympie\, QLD\, 4570\, Australia
CATEGORIES:Welfare,Welfare Weekly
ATTACH;FMTTYPE=image/jpeg:https://gympiersl.com.au/wp-content/uploads/2024/05/Gympie-RSL-Web-Event-Featured_Chair-Yoga.jpg
END:VEVENT
BEGIN:VEVENT
DTSTART;VALUE=DATE:20261120
DTEND;VALUE=DATE:20261121
DTSTAMP:20260423T211941
CREATED:20240509T223509Z
LAST-MODIFIED:20240509T224355Z
UID:10015622-1795132800-1795219199@gympiersl.com.au
SUMMARY:Swimming
DESCRIPTION:Spend your day poolside with Free Pool Entry! \nAll day entry every Wednesday\, Friday and Saturday for Veterans\, Partners/Carers* \nGympie Aquatic Recreation Centre. \nFor mor information call 5483 7707 or email reception@gympiersla.com.au \n*Children of Veterans welcome upon application at the Veteran centre; must show DVA\, RSL Membership &/or Veteran Centre Family card upon entry.
URL:https://gympiersl.com.au/event/swimming/2026-11-20/
LOCATION:Gympie Aquatic Centre\, Tozer Park Road\, Gympie\, QLD\, 4570\, Australia
CATEGORIES:Welfare,Welfare Weekly
ATTACH;FMTTYPE=image/jpeg:https://gympiersl.com.au/wp-content/uploads/2024/05/Gympie-RSL-Web-Event-Featured_Swimming.jpg
END:VEVENT
BEGIN:VEVENT
DTSTART;TZID=Australia/Brisbane:20261120T130000
DTEND;TZID=Australia/Brisbane:20261120T140000
DTSTAMP:20260423T211941
CREATED:20240509T222403Z
LAST-MODIFIED:20251215T020538Z
UID:10016404-1795179600-1795183200@gympiersl.com.au
SUMMARY:Splash Aerobics
DESCRIPTION:Join in the fun at our low-impact pool workout sessions! \nEvery Friday from 1pm at Gympie Aquatic Centre. \nOpen to Veterans and their partners/carers. \nFor more information\, call 5483 7707 or email events@gympiersla.com.au. \n  \nBOOK HERE
URL:https://gympiersl.com.au/event/splash-aerobics/2026-11-20/
LOCATION:Gympie Aquatic Centre\, Tozer Park Road\, Gympie\, QLD\, 4570\, Australia
CATEGORIES:Welfare,Welfare Weekly
ATTACH;FMTTYPE=image/jpeg:https://gympiersl.com.au/wp-content/uploads/2024/05/Gympie-RSL-Web-Event-Featured_Splash-Aerobics.jpg
END:VEVENT
BEGIN:VEVENT
DTSTART;VALUE=DATE:20261121
DTEND;VALUE=DATE:20261122
DTSTAMP:20260423T211941
CREATED:20240509T223509Z
LAST-MODIFIED:20240509T224355Z
UID:10015623-1795219200-1795305599@gympiersl.com.au
SUMMARY:Swimming
DESCRIPTION:Spend your day poolside with Free Pool Entry! \nAll day entry every Wednesday\, Friday and Saturday for Veterans\, Partners/Carers* \nGympie Aquatic Recreation Centre. \nFor mor information call 5483 7707 or email reception@gympiersla.com.au \n*Children of Veterans welcome upon application at the Veteran centre; must show DVA\, RSL Membership &/or Veteran Centre Family card upon entry.
URL:https://gympiersl.com.au/event/swimming/2026-11-21/
LOCATION:Gympie Aquatic Centre\, Tozer Park Road\, Gympie\, QLD\, 4570\, Australia
CATEGORIES:Welfare,Welfare Weekly
ATTACH;FMTTYPE=image/jpeg:https://gympiersl.com.au/wp-content/uploads/2024/05/Gympie-RSL-Web-Event-Featured_Swimming.jpg
END:VEVENT
BEGIN:VEVENT
DTSTART;TZID=Australia/Brisbane:20261124T100000
DTEND;TZID=Australia/Brisbane:20261124T120000
DTSTAMP:20260423T211941
CREATED:20240509T221424Z
LAST-MODIFIED:20240509T224325Z
UID:10016927-1795514400-1795521600@gympiersl.com.au
SUMMARY:Coffee & Chat
DESCRIPTION:Join us at the Rendezvous Café every Tuesday for Coffee & Chat! \nAll veterans are welcome to join\, share stories\, and lend a listening ear.
URL:https://gympiersl.com.au/event/coffee-chat/2026-11-24/
LOCATION:Rendezvous Café & Bar\, Gympie RSL\, 217 Mary Street\, Gympie\, QLD\, 4570\, Australia
CATEGORIES:Welfare,Welfare Weekly
ATTACH;FMTTYPE=image/jpeg:https://gympiersl.com.au/wp-content/uploads/2024/05/Gympie-RSL-Web-Event-Featured_Coffee-Chat.jpg
END:VEVENT
BEGIN:VEVENT
DTSTART;TZID=Australia/Brisbane:20261124T173000
DTEND;TZID=Australia/Brisbane:20261124T183000
DTSTAMP:20260423T211941
CREATED:20251015T001104Z
LAST-MODIFIED:20251015T002130Z
UID:10017188-1795541400-1795545000@gympiersl.com.au
SUMMARY:Choir
DESCRIPTION:Calling all Crooners! \nIf you love to sing\, then come along to Gympie Veteran Centre (39 Monkland St.) every Tuesday from 5:30pm and be part of our Choir. \nWe hold regular performances throughout the year. \nOpen to all members of the Gympie Community with any voice type and singing experience. \nFor more information\, please call 5483 7707 or email reception@gympiersla.com.au.
URL:https://gympiersl.com.au/event/choir-2/2026-11-24/
LOCATION:Veteran Services Centre\, 39 Monkland Street\, Gympie\, QLD\, 4570\, Australia
CATEGORIES:Welfare,Welfare Weekly
ATTACH;FMTTYPE=image/jpeg:https://gympiersl.com.au/wp-content/uploads/2024/05/Gympie-RSL-Web-Event-Featured_Choir.jpg
END:VEVENT
END:VCALENDAR