BEGIN:VCALENDAR
VERSION:2.0
PRODID:-//Gympie RSL - ECPv6.15.20//NONSGML v1.0//EN
CALSCALE:GREGORIAN
METHOD:PUBLISH
X-ORIGINAL-URL:https://gympiersl.com.au
X-WR-CALDESC:Events for Gympie RSL
REFRESH-INTERVAL;VALUE=DURATION:PT1H
X-Robots-Tag:noindex
X-PUBLISHED-TTL:PT1H
BEGIN:VTIMEZONE
TZID:Australia/Brisbane
BEGIN:STANDARD
TZOFFSETFROM:+1000
TZOFFSETTO:+1000
TZNAME:AEST
DTSTART:20250101T000000
END:STANDARD
END:VTIMEZONE
BEGIN:VEVENT
DTSTART;TZID=Australia/Brisbane:20260624T130000
DTEND;TZID=Australia/Brisbane:20260624T140000
DTSTAMP:20260422T022648
CREATED:20240828T005800Z
LAST-MODIFIED:20251215T014724Z
UID:10016119-1782306000-1782309600@gympiersl.com.au
SUMMARY:Fit Together
DESCRIPTION:Exercise is better with friends! \nJoin us every Wednesday from 1pm at the Gympie Aquatic Recreation Centre. \nThis group fitness class will keep you energised and interested with new skills every week! \nOpen to Veterans\, their partners/carers and friends. \nMust show DVA card or RSL membership card for entry. \nFor more information\, call 5483 7707 or email reception@gympiersla.com.au \n  \nBOOK HERE
URL:https://gympiersl.com.au/event/fit-together-wed/2026-06-24/
LOCATION:Gympie Aquatic Centre\, Tozer Park Road\, Gympie\, QLD\, 4570\, Australia
CATEGORIES:Welfare,Welfare Weekly
ATTACH;FMTTYPE=image/jpeg:https://gympiersl.com.au/wp-content/uploads/2024/05/Gympie-RSL-Web-Event-Featured_Fit-Together.jpg
END:VEVENT
BEGIN:VEVENT
DTSTART;TZID=Australia/Brisbane:20260625T130000
DTEND;TZID=Australia/Brisbane:20260625T140000
DTSTAMP:20260422T022648
CREATED:20240509T222733Z
LAST-MODIFIED:20251215T015412Z
UID:10017441-1782392400-1782396000@gympiersl.com.au
SUMMARY:Chair Exercise
DESCRIPTION:Sit\, Stretch\, Breathe with Chair Exercise \nJoin us at Gympie Aquatic Recreation Centre\, every Thursday from 1pm for our Chair Exercise classes. \nEnjoy some low-impact fitness that improves strength\, mobility\, posture\, balance and helps reduce stress. \nAll ages and abilities welcome! \n  \nBOOK HERE
URL:https://gympiersl.com.au/event/chair-exercise/2026-06-25/
LOCATION:Gympie Aquatic Centre\, Tozer Park Road\, Gympie\, QLD\, 4570\, Australia
CATEGORIES:Welfare,Welfare Weekly
ATTACH;FMTTYPE=image/jpeg:https://gympiersl.com.au/wp-content/uploads/2024/05/Gympie-RSL-Web-Event-Featured_Chair-Yoga.jpg
END:VEVENT
BEGIN:VEVENT
DTSTART;VALUE=DATE:20260626
DTEND;VALUE=DATE:20260627
DTSTAMP:20260422T022648
CREATED:20240509T223509Z
LAST-MODIFIED:20240509T224355Z
UID:10015559-1782432000-1782518399@gympiersl.com.au
SUMMARY:Swimming
DESCRIPTION:Spend your day poolside with Free Pool Entry! \nAll day entry every Wednesday\, Friday and Saturday for Veterans\, Partners/Carers* \nGympie Aquatic Recreation Centre. \nFor mor information call 5483 7707 or email reception@gympiersla.com.au \n*Children of Veterans welcome upon application at the Veteran centre; must show DVA\, RSL Membership &/or Veteran Centre Family card upon entry.
URL:https://gympiersl.com.au/event/swimming/2026-06-26/
LOCATION:Gympie Aquatic Centre\, Tozer Park Road\, Gympie\, QLD\, 4570\, Australia
CATEGORIES:Welfare,Welfare Weekly
ATTACH;FMTTYPE=image/jpeg:https://gympiersl.com.au/wp-content/uploads/2024/05/Gympie-RSL-Web-Event-Featured_Swimming.jpg
END:VEVENT
BEGIN:VEVENT
DTSTART;TZID=Australia/Brisbane:20260626T130000
DTEND;TZID=Australia/Brisbane:20260626T140000
DTSTAMP:20260422T022648
CREATED:20240509T222403Z
LAST-MODIFIED:20251215T020538Z
UID:10016383-1782478800-1782482400@gympiersl.com.au
SUMMARY:Splash Aerobics
DESCRIPTION:Join in the fun at our low-impact pool workout sessions! \nEvery Friday from 1pm at Gympie Aquatic Centre. \nOpen to Veterans and their partners/carers. \nFor more information\, call 5483 7707 or email events@gympiersla.com.au. \n  \nBOOK HERE
URL:https://gympiersl.com.au/event/splash-aerobics/2026-06-26/
LOCATION:Gympie Aquatic Centre\, Tozer Park Road\, Gympie\, QLD\, 4570\, Australia
CATEGORIES:Welfare,Welfare Weekly
ATTACH;FMTTYPE=image/jpeg:https://gympiersl.com.au/wp-content/uploads/2024/05/Gympie-RSL-Web-Event-Featured_Splash-Aerobics.jpg
END:VEVENT
BEGIN:VEVENT
DTSTART;VALUE=DATE:20260627
DTEND;VALUE=DATE:20260628
DTSTAMP:20260422T022648
CREATED:20240509T223509Z
LAST-MODIFIED:20240509T224355Z
UID:10015560-1782518400-1782604799@gympiersl.com.au
SUMMARY:Swimming
DESCRIPTION:Spend your day poolside with Free Pool Entry! \nAll day entry every Wednesday\, Friday and Saturday for Veterans\, Partners/Carers* \nGympie Aquatic Recreation Centre. \nFor mor information call 5483 7707 or email reception@gympiersla.com.au \n*Children of Veterans welcome upon application at the Veteran centre; must show DVA\, RSL Membership &/or Veteran Centre Family card upon entry.
URL:https://gympiersl.com.au/event/swimming/2026-06-27/
LOCATION:Gympie Aquatic Centre\, Tozer Park Road\, Gympie\, QLD\, 4570\, Australia
CATEGORIES:Welfare,Welfare Weekly
ATTACH;FMTTYPE=image/jpeg:https://gympiersl.com.au/wp-content/uploads/2024/05/Gympie-RSL-Web-Event-Featured_Swimming.jpg
END:VEVENT
BEGIN:VEVENT
DTSTART;TZID=Australia/Brisbane:20260630T100000
DTEND;TZID=Australia/Brisbane:20260630T120000
DTSTAMP:20260422T022648
CREATED:20240509T221424Z
LAST-MODIFIED:20240509T224325Z
UID:10016906-1782813600-1782820800@gympiersl.com.au
SUMMARY:Coffee & Chat
DESCRIPTION:Join us at the Rendezvous Café every Tuesday for Coffee & Chat! \nAll veterans are welcome to join\, share stories\, and lend a listening ear.
URL:https://gympiersl.com.au/event/coffee-chat/2026-06-30/
LOCATION:Rendezvous Café & Bar\, Gympie RSL\, 217 Mary Street\, Gympie\, QLD\, 4570\, Australia
CATEGORIES:Welfare,Welfare Weekly
ATTACH;FMTTYPE=image/jpeg:https://gympiersl.com.au/wp-content/uploads/2024/05/Gympie-RSL-Web-Event-Featured_Coffee-Chat.jpg
END:VEVENT
BEGIN:VEVENT
DTSTART;TZID=Australia/Brisbane:20260630T173000
DTEND;TZID=Australia/Brisbane:20260630T183000
DTSTAMP:20260422T022648
CREATED:20251015T001104Z
LAST-MODIFIED:20251015T002130Z
UID:10017167-1782840600-1782844200@gympiersl.com.au
SUMMARY:Choir
DESCRIPTION:Calling all Crooners! \nIf you love to sing\, then come along to Gympie Veteran Centre (39 Monkland St.) every Tuesday from 5:30pm and be part of our Choir. \nWe hold regular performances throughout the year. \nOpen to all members of the Gympie Community with any voice type and singing experience. \nFor more information\, please call 5483 7707 or email reception@gympiersla.com.au.
URL:https://gympiersl.com.au/event/choir-2/2026-06-30/
LOCATION:Veteran Services Centre\, 39 Monkland Street\, Gympie\, QLD\, 4570\, Australia
CATEGORIES:Welfare,Welfare Weekly
ATTACH;FMTTYPE=image/jpeg:https://gympiersl.com.au/wp-content/uploads/2024/05/Gympie-RSL-Web-Event-Featured_Choir.jpg
END:VEVENT
BEGIN:VEVENT
DTSTART;VALUE=DATE:20260701
DTEND;VALUE=DATE:20260702
DTSTAMP:20260422T022648
CREATED:20240509T223509Z
LAST-MODIFIED:20240509T224355Z
UID:10015561-1782864000-1782950399@gympiersl.com.au
SUMMARY:Swimming
DESCRIPTION:Spend your day poolside with Free Pool Entry! \nAll day entry every Wednesday\, Friday and Saturday for Veterans\, Partners/Carers* \nGympie Aquatic Recreation Centre. \nFor mor information call 5483 7707 or email reception@gympiersla.com.au \n*Children of Veterans welcome upon application at the Veteran centre; must show DVA\, RSL Membership &/or Veteran Centre Family card upon entry.
URL:https://gympiersl.com.au/event/swimming/2026-07-01/
LOCATION:Gympie Aquatic Centre\, Tozer Park Road\, Gympie\, QLD\, 4570\, Australia
CATEGORIES:Welfare,Welfare Weekly
ATTACH;FMTTYPE=image/jpeg:https://gympiersl.com.au/wp-content/uploads/2024/05/Gympie-RSL-Web-Event-Featured_Swimming.jpg
END:VEVENT
BEGIN:VEVENT
DTSTART;TZID=Australia/Brisbane:20260701T130000
DTEND;TZID=Australia/Brisbane:20260701T140000
DTSTAMP:20260422T022648
CREATED:20240828T005800Z
LAST-MODIFIED:20251215T014724Z
UID:10016120-1782910800-1782914400@gympiersl.com.au
SUMMARY:Fit Together
DESCRIPTION:Exercise is better with friends! \nJoin us every Wednesday from 1pm at the Gympie Aquatic Recreation Centre. \nThis group fitness class will keep you energised and interested with new skills every week! \nOpen to Veterans\, their partners/carers and friends. \nMust show DVA card or RSL membership card for entry. \nFor more information\, call 5483 7707 or email reception@gympiersla.com.au \n  \nBOOK HERE
URL:https://gympiersl.com.au/event/fit-together-wed/2026-07-01/
LOCATION:Gympie Aquatic Centre\, Tozer Park Road\, Gympie\, QLD\, 4570\, Australia
CATEGORIES:Welfare,Welfare Weekly
ATTACH;FMTTYPE=image/jpeg:https://gympiersl.com.au/wp-content/uploads/2024/05/Gympie-RSL-Web-Event-Featured_Fit-Together.jpg
END:VEVENT
BEGIN:VEVENT
DTSTART;TZID=Australia/Brisbane:20260702T130000
DTEND;TZID=Australia/Brisbane:20260702T140000
DTSTAMP:20260422T022648
CREATED:20240509T222733Z
LAST-MODIFIED:20251215T015412Z
UID:10017442-1782997200-1783000800@gympiersl.com.au
SUMMARY:Chair Exercise
DESCRIPTION:Sit\, Stretch\, Breathe with Chair Exercise \nJoin us at Gympie Aquatic Recreation Centre\, every Thursday from 1pm for our Chair Exercise classes. \nEnjoy some low-impact fitness that improves strength\, mobility\, posture\, balance and helps reduce stress. \nAll ages and abilities welcome! \n  \nBOOK HERE
URL:https://gympiersl.com.au/event/chair-exercise/2026-07-02/
LOCATION:Gympie Aquatic Centre\, Tozer Park Road\, Gympie\, QLD\, 4570\, Australia
CATEGORIES:Welfare,Welfare Weekly
ATTACH;FMTTYPE=image/jpeg:https://gympiersl.com.au/wp-content/uploads/2024/05/Gympie-RSL-Web-Event-Featured_Chair-Yoga.jpg
END:VEVENT
BEGIN:VEVENT
DTSTART;VALUE=DATE:20260703
DTEND;VALUE=DATE:20260704
DTSTAMP:20260422T022648
CREATED:20240509T223509Z
LAST-MODIFIED:20240509T224355Z
UID:10015562-1783036800-1783123199@gympiersl.com.au
SUMMARY:Swimming
DESCRIPTION:Spend your day poolside with Free Pool Entry! \nAll day entry every Wednesday\, Friday and Saturday for Veterans\, Partners/Carers* \nGympie Aquatic Recreation Centre. \nFor mor information call 5483 7707 or email reception@gympiersla.com.au \n*Children of Veterans welcome upon application at the Veteran centre; must show DVA\, RSL Membership &/or Veteran Centre Family card upon entry.
URL:https://gympiersl.com.au/event/swimming/2026-07-03/
LOCATION:Gympie Aquatic Centre\, Tozer Park Road\, Gympie\, QLD\, 4570\, Australia
CATEGORIES:Welfare,Welfare Weekly
ATTACH;FMTTYPE=image/jpeg:https://gympiersl.com.au/wp-content/uploads/2024/05/Gympie-RSL-Web-Event-Featured_Swimming.jpg
END:VEVENT
BEGIN:VEVENT
DTSTART;TZID=Australia/Brisbane:20260703T130000
DTEND;TZID=Australia/Brisbane:20260703T140000
DTSTAMP:20260422T022648
CREATED:20240509T222403Z
LAST-MODIFIED:20251215T020538Z
UID:10016384-1783083600-1783087200@gympiersl.com.au
SUMMARY:Splash Aerobics
DESCRIPTION:Join in the fun at our low-impact pool workout sessions! \nEvery Friday from 1pm at Gympie Aquatic Centre. \nOpen to Veterans and their partners/carers. \nFor more information\, call 5483 7707 or email events@gympiersla.com.au. \n  \nBOOK HERE
URL:https://gympiersl.com.au/event/splash-aerobics/2026-07-03/
LOCATION:Gympie Aquatic Centre\, Tozer Park Road\, Gympie\, QLD\, 4570\, Australia
CATEGORIES:Welfare,Welfare Weekly
ATTACH;FMTTYPE=image/jpeg:https://gympiersl.com.au/wp-content/uploads/2024/05/Gympie-RSL-Web-Event-Featured_Splash-Aerobics.jpg
END:VEVENT
BEGIN:VEVENT
DTSTART;VALUE=DATE:20260704
DTEND;VALUE=DATE:20260705
DTSTAMP:20260422T022648
CREATED:20240509T223509Z
LAST-MODIFIED:20240509T224355Z
UID:10015563-1783123200-1783209599@gympiersl.com.au
SUMMARY:Swimming
DESCRIPTION:Spend your day poolside with Free Pool Entry! \nAll day entry every Wednesday\, Friday and Saturday for Veterans\, Partners/Carers* \nGympie Aquatic Recreation Centre. \nFor mor information call 5483 7707 or email reception@gympiersla.com.au \n*Children of Veterans welcome upon application at the Veteran centre; must show DVA\, RSL Membership &/or Veteran Centre Family card upon entry.
URL:https://gympiersl.com.au/event/swimming/2026-07-04/
LOCATION:Gympie Aquatic Centre\, Tozer Park Road\, Gympie\, QLD\, 4570\, Australia
CATEGORIES:Welfare,Welfare Weekly
ATTACH;FMTTYPE=image/jpeg:https://gympiersl.com.au/wp-content/uploads/2024/05/Gympie-RSL-Web-Event-Featured_Swimming.jpg
END:VEVENT
BEGIN:VEVENT
DTSTART;TZID=Australia/Brisbane:20260707T100000
DTEND;TZID=Australia/Brisbane:20260707T120000
DTSTAMP:20260422T022648
CREATED:20240509T221424Z
LAST-MODIFIED:20240509T224325Z
UID:10016907-1783418400-1783425600@gympiersl.com.au
SUMMARY:Coffee & Chat
DESCRIPTION:Join us at the Rendezvous Café every Tuesday for Coffee & Chat! \nAll veterans are welcome to join\, share stories\, and lend a listening ear.
URL:https://gympiersl.com.au/event/coffee-chat/2026-07-07/
LOCATION:Rendezvous Café & Bar\, Gympie RSL\, 217 Mary Street\, Gympie\, QLD\, 4570\, Australia
CATEGORIES:Welfare,Welfare Weekly
ATTACH;FMTTYPE=image/jpeg:https://gympiersl.com.au/wp-content/uploads/2024/05/Gympie-RSL-Web-Event-Featured_Coffee-Chat.jpg
END:VEVENT
BEGIN:VEVENT
DTSTART;TZID=Australia/Brisbane:20260707T173000
DTEND;TZID=Australia/Brisbane:20260707T183000
DTSTAMP:20260422T022648
CREATED:20251015T001104Z
LAST-MODIFIED:20251015T002130Z
UID:10017168-1783445400-1783449000@gympiersl.com.au
SUMMARY:Choir
DESCRIPTION:Calling all Crooners! \nIf you love to sing\, then come along to Gympie Veteran Centre (39 Monkland St.) every Tuesday from 5:30pm and be part of our Choir. \nWe hold regular performances throughout the year. \nOpen to all members of the Gympie Community with any voice type and singing experience. \nFor more information\, please call 5483 7707 or email reception@gympiersla.com.au.
URL:https://gympiersl.com.au/event/choir-2/2026-07-07/
LOCATION:Veteran Services Centre\, 39 Monkland Street\, Gympie\, QLD\, 4570\, Australia
CATEGORIES:Welfare,Welfare Weekly
ATTACH;FMTTYPE=image/jpeg:https://gympiersl.com.au/wp-content/uploads/2024/05/Gympie-RSL-Web-Event-Featured_Choir.jpg
END:VEVENT
BEGIN:VEVENT
DTSTART;VALUE=DATE:20260708
DTEND;VALUE=DATE:20260709
DTSTAMP:20260422T022648
CREATED:20240509T223509Z
LAST-MODIFIED:20240509T224355Z
UID:10015564-1783468800-1783555199@gympiersl.com.au
SUMMARY:Swimming
DESCRIPTION:Spend your day poolside with Free Pool Entry! \nAll day entry every Wednesday\, Friday and Saturday for Veterans\, Partners/Carers* \nGympie Aquatic Recreation Centre. \nFor mor information call 5483 7707 or email reception@gympiersla.com.au \n*Children of Veterans welcome upon application at the Veteran centre; must show DVA\, RSL Membership &/or Veteran Centre Family card upon entry.
URL:https://gympiersl.com.au/event/swimming/2026-07-08/
LOCATION:Gympie Aquatic Centre\, Tozer Park Road\, Gympie\, QLD\, 4570\, Australia
CATEGORIES:Welfare,Welfare Weekly
ATTACH;FMTTYPE=image/jpeg:https://gympiersl.com.au/wp-content/uploads/2024/05/Gympie-RSL-Web-Event-Featured_Swimming.jpg
END:VEVENT
BEGIN:VEVENT
DTSTART;TZID=Australia/Brisbane:20260708T130000
DTEND;TZID=Australia/Brisbane:20260708T140000
DTSTAMP:20260422T022648
CREATED:20240828T005800Z
LAST-MODIFIED:20251215T014724Z
UID:10016121-1783515600-1783519200@gympiersl.com.au
SUMMARY:Fit Together
DESCRIPTION:Exercise is better with friends! \nJoin us every Wednesday from 1pm at the Gympie Aquatic Recreation Centre. \nThis group fitness class will keep you energised and interested with new skills every week! \nOpen to Veterans\, their partners/carers and friends. \nMust show DVA card or RSL membership card for entry. \nFor more information\, call 5483 7707 or email reception@gympiersla.com.au \n  \nBOOK HERE
URL:https://gympiersl.com.au/event/fit-together-wed/2026-07-08/
LOCATION:Gympie Aquatic Centre\, Tozer Park Road\, Gympie\, QLD\, 4570\, Australia
CATEGORIES:Welfare,Welfare Weekly
ATTACH;FMTTYPE=image/jpeg:https://gympiersl.com.au/wp-content/uploads/2024/05/Gympie-RSL-Web-Event-Featured_Fit-Together.jpg
END:VEVENT
BEGIN:VEVENT
DTSTART;TZID=Australia/Brisbane:20260709T130000
DTEND;TZID=Australia/Brisbane:20260709T140000
DTSTAMP:20260422T022648
CREATED:20240509T222733Z
LAST-MODIFIED:20251215T015412Z
UID:10017443-1783602000-1783605600@gympiersl.com.au
SUMMARY:Chair Exercise
DESCRIPTION:Sit\, Stretch\, Breathe with Chair Exercise \nJoin us at Gympie Aquatic Recreation Centre\, every Thursday from 1pm for our Chair Exercise classes. \nEnjoy some low-impact fitness that improves strength\, mobility\, posture\, balance and helps reduce stress. \nAll ages and abilities welcome! \n  \nBOOK HERE
URL:https://gympiersl.com.au/event/chair-exercise/2026-07-09/
LOCATION:Gympie Aquatic Centre\, Tozer Park Road\, Gympie\, QLD\, 4570\, Australia
CATEGORIES:Welfare,Welfare Weekly
ATTACH;FMTTYPE=image/jpeg:https://gympiersl.com.au/wp-content/uploads/2024/05/Gympie-RSL-Web-Event-Featured_Chair-Yoga.jpg
END:VEVENT
BEGIN:VEVENT
DTSTART;VALUE=DATE:20260710
DTEND;VALUE=DATE:20260711
DTSTAMP:20260422T022648
CREATED:20240509T223509Z
LAST-MODIFIED:20240509T224355Z
UID:10015565-1783641600-1783727999@gympiersl.com.au
SUMMARY:Swimming
DESCRIPTION:Spend your day poolside with Free Pool Entry! \nAll day entry every Wednesday\, Friday and Saturday for Veterans\, Partners/Carers* \nGympie Aquatic Recreation Centre. \nFor mor information call 5483 7707 or email reception@gympiersla.com.au \n*Children of Veterans welcome upon application at the Veteran centre; must show DVA\, RSL Membership &/or Veteran Centre Family card upon entry.
URL:https://gympiersl.com.au/event/swimming/2026-07-10/
LOCATION:Gympie Aquatic Centre\, Tozer Park Road\, Gympie\, QLD\, 4570\, Australia
CATEGORIES:Welfare,Welfare Weekly
ATTACH;FMTTYPE=image/jpeg:https://gympiersl.com.au/wp-content/uploads/2024/05/Gympie-RSL-Web-Event-Featured_Swimming.jpg
END:VEVENT
BEGIN:VEVENT
DTSTART;TZID=Australia/Brisbane:20260710T083000
DTEND;TZID=Australia/Brisbane:20260710T150000
DTSTAMP:20260422T022648
CREATED:20260322T222358Z
LAST-MODIFIED:20260416T053138Z
UID:10029317-1783672200-1783695600@gympiersl.com.au
SUMMARY:Girls Day Out - Nambour Garden Expo
DESCRIPTION:🌸 Nambour Garden Expo Day Trip \nJoin us on Friday 10th July for a wonderful day at the Nambour Garden Expo\, a must-visit event for garden lovers! Discover a huge range of plants\, gardening products\, expert advice\, and beautiful displays. \nWhether you’re a seasoned green thumb or just love a day outdoors\, this is the perfect chance to get inspired. \n🚌 Trip Details \nDepart: 8:30am \nReturn: 3:00pm \nLocation: Departs from and returns to the Veterans Services Centre \nEnjoy a relaxing and inspiring day surrounded by all things gardening!
URL:https://gympiersl.com.au/event/girls-day-out-nambour-garden-expo/
LOCATION:Gympie RSL
CATEGORIES:All,Welfare,Welfare Featured
ATTACH;FMTTYPE=image/jpeg:https://gympiersl.com.au/wp-content/uploads/2026/03/20032026052411-GympieRSL-GirlsDayOutWinter-July10_WebFeatureImage.jpg
END:VEVENT
BEGIN:VEVENT
DTSTART;TZID=Australia/Brisbane:20260710T130000
DTEND;TZID=Australia/Brisbane:20260710T140000
DTSTAMP:20260422T022648
CREATED:20240509T222403Z
LAST-MODIFIED:20251215T020538Z
UID:10016385-1783688400-1783692000@gympiersl.com.au
SUMMARY:Splash Aerobics
DESCRIPTION:Join in the fun at our low-impact pool workout sessions! \nEvery Friday from 1pm at Gympie Aquatic Centre. \nOpen to Veterans and their partners/carers. \nFor more information\, call 5483 7707 or email events@gympiersla.com.au. \n  \nBOOK HERE
URL:https://gympiersl.com.au/event/splash-aerobics/2026-07-10/
LOCATION:Gympie Aquatic Centre\, Tozer Park Road\, Gympie\, QLD\, 4570\, Australia
CATEGORIES:Welfare,Welfare Weekly
ATTACH;FMTTYPE=image/jpeg:https://gympiersl.com.au/wp-content/uploads/2024/05/Gympie-RSL-Web-Event-Featured_Splash-Aerobics.jpg
END:VEVENT
BEGIN:VEVENT
DTSTART;VALUE=DATE:20260711
DTEND;VALUE=DATE:20260712
DTSTAMP:20260422T022648
CREATED:20240509T223509Z
LAST-MODIFIED:20240509T224355Z
UID:10015566-1783728000-1783814399@gympiersl.com.au
SUMMARY:Swimming
DESCRIPTION:Spend your day poolside with Free Pool Entry! \nAll day entry every Wednesday\, Friday and Saturday for Veterans\, Partners/Carers* \nGympie Aquatic Recreation Centre. \nFor mor information call 5483 7707 or email reception@gympiersla.com.au \n*Children of Veterans welcome upon application at the Veteran centre; must show DVA\, RSL Membership &/or Veteran Centre Family card upon entry.
URL:https://gympiersl.com.au/event/swimming/2026-07-11/
LOCATION:Gympie Aquatic Centre\, Tozer Park Road\, Gympie\, QLD\, 4570\, Australia
CATEGORIES:Welfare,Welfare Weekly
ATTACH;FMTTYPE=image/jpeg:https://gympiersl.com.au/wp-content/uploads/2024/05/Gympie-RSL-Web-Event-Featured_Swimming.jpg
END:VEVENT
BEGIN:VEVENT
DTSTART;TZID=Australia/Brisbane:20260714T100000
DTEND;TZID=Australia/Brisbane:20260714T120000
DTSTAMP:20260422T022648
CREATED:20240509T221424Z
LAST-MODIFIED:20240509T224325Z
UID:10016908-1784023200-1784030400@gympiersl.com.au
SUMMARY:Coffee & Chat
DESCRIPTION:Join us at the Rendezvous Café every Tuesday for Coffee & Chat! \nAll veterans are welcome to join\, share stories\, and lend a listening ear.
URL:https://gympiersl.com.au/event/coffee-chat/2026-07-14/
LOCATION:Rendezvous Café & Bar\, Gympie RSL\, 217 Mary Street\, Gympie\, QLD\, 4570\, Australia
CATEGORIES:Welfare,Welfare Weekly
ATTACH;FMTTYPE=image/jpeg:https://gympiersl.com.au/wp-content/uploads/2024/05/Gympie-RSL-Web-Event-Featured_Coffee-Chat.jpg
END:VEVENT
BEGIN:VEVENT
DTSTART;TZID=Australia/Brisbane:20260714T173000
DTEND;TZID=Australia/Brisbane:20260714T183000
DTSTAMP:20260422T022648
CREATED:20251015T001104Z
LAST-MODIFIED:20251015T002130Z
UID:10017169-1784050200-1784053800@gympiersl.com.au
SUMMARY:Choir
DESCRIPTION:Calling all Crooners! \nIf you love to sing\, then come along to Gympie Veteran Centre (39 Monkland St.) every Tuesday from 5:30pm and be part of our Choir. \nWe hold regular performances throughout the year. \nOpen to all members of the Gympie Community with any voice type and singing experience. \nFor more information\, please call 5483 7707 or email reception@gympiersla.com.au.
URL:https://gympiersl.com.au/event/choir-2/2026-07-14/
LOCATION:Veteran Services Centre\, 39 Monkland Street\, Gympie\, QLD\, 4570\, Australia
CATEGORIES:Welfare,Welfare Weekly
ATTACH;FMTTYPE=image/jpeg:https://gympiersl.com.au/wp-content/uploads/2024/05/Gympie-RSL-Web-Event-Featured_Choir.jpg
END:VEVENT
BEGIN:VEVENT
DTSTART;VALUE=DATE:20260715
DTEND;VALUE=DATE:20260716
DTSTAMP:20260422T022648
CREATED:20240509T223509Z
LAST-MODIFIED:20240509T224355Z
UID:10015567-1784073600-1784159999@gympiersl.com.au
SUMMARY:Swimming
DESCRIPTION:Spend your day poolside with Free Pool Entry! \nAll day entry every Wednesday\, Friday and Saturday for Veterans\, Partners/Carers* \nGympie Aquatic Recreation Centre. \nFor mor information call 5483 7707 or email reception@gympiersla.com.au \n*Children of Veterans welcome upon application at the Veteran centre; must show DVA\, RSL Membership &/or Veteran Centre Family card upon entry.
URL:https://gympiersl.com.au/event/swimming/2026-07-15/
LOCATION:Gympie Aquatic Centre\, Tozer Park Road\, Gympie\, QLD\, 4570\, Australia
CATEGORIES:Welfare,Welfare Weekly
ATTACH;FMTTYPE=image/jpeg:https://gympiersl.com.au/wp-content/uploads/2024/05/Gympie-RSL-Web-Event-Featured_Swimming.jpg
END:VEVENT
BEGIN:VEVENT
DTSTART;TZID=Australia/Brisbane:20260715T130000
DTEND;TZID=Australia/Brisbane:20260715T140000
DTSTAMP:20260422T022648
CREATED:20240828T005800Z
LAST-MODIFIED:20251215T014724Z
UID:10016122-1784120400-1784124000@gympiersl.com.au
SUMMARY:Fit Together
DESCRIPTION:Exercise is better with friends! \nJoin us every Wednesday from 1pm at the Gympie Aquatic Recreation Centre. \nThis group fitness class will keep you energised and interested with new skills every week! \nOpen to Veterans\, their partners/carers and friends. \nMust show DVA card or RSL membership card for entry. \nFor more information\, call 5483 7707 or email reception@gympiersla.com.au \n  \nBOOK HERE
URL:https://gympiersl.com.au/event/fit-together-wed/2026-07-15/
LOCATION:Gympie Aquatic Centre\, Tozer Park Road\, Gympie\, QLD\, 4570\, Australia
CATEGORIES:Welfare,Welfare Weekly
ATTACH;FMTTYPE=image/jpeg:https://gympiersl.com.au/wp-content/uploads/2024/05/Gympie-RSL-Web-Event-Featured_Fit-Together.jpg
END:VEVENT
BEGIN:VEVENT
DTSTART;TZID=Australia/Brisbane:20260716T130000
DTEND;TZID=Australia/Brisbane:20260716T140000
DTSTAMP:20260422T022648
CREATED:20240509T222733Z
LAST-MODIFIED:20251215T015412Z
UID:10017444-1784206800-1784210400@gympiersl.com.au
SUMMARY:Chair Exercise
DESCRIPTION:Sit\, Stretch\, Breathe with Chair Exercise \nJoin us at Gympie Aquatic Recreation Centre\, every Thursday from 1pm for our Chair Exercise classes. \nEnjoy some low-impact fitness that improves strength\, mobility\, posture\, balance and helps reduce stress. \nAll ages and abilities welcome! \n  \nBOOK HERE
URL:https://gympiersl.com.au/event/chair-exercise/2026-07-16/
LOCATION:Gympie Aquatic Centre\, Tozer Park Road\, Gympie\, QLD\, 4570\, Australia
CATEGORIES:Welfare,Welfare Weekly
ATTACH;FMTTYPE=image/jpeg:https://gympiersl.com.au/wp-content/uploads/2024/05/Gympie-RSL-Web-Event-Featured_Chair-Yoga.jpg
END:VEVENT
BEGIN:VEVENT
DTSTART;VALUE=DATE:20260717
DTEND;VALUE=DATE:20260718
DTSTAMP:20260422T022648
CREATED:20240509T223509Z
LAST-MODIFIED:20240509T224355Z
UID:10015568-1784246400-1784332799@gympiersl.com.au
SUMMARY:Swimming
DESCRIPTION:Spend your day poolside with Free Pool Entry! \nAll day entry every Wednesday\, Friday and Saturday for Veterans\, Partners/Carers* \nGympie Aquatic Recreation Centre. \nFor mor information call 5483 7707 or email reception@gympiersla.com.au \n*Children of Veterans welcome upon application at the Veteran centre; must show DVA\, RSL Membership &/or Veteran Centre Family card upon entry.
URL:https://gympiersl.com.au/event/swimming/2026-07-17/
LOCATION:Gympie Aquatic Centre\, Tozer Park Road\, Gympie\, QLD\, 4570\, Australia
CATEGORIES:Welfare,Welfare Weekly
ATTACH;FMTTYPE=image/jpeg:https://gympiersl.com.au/wp-content/uploads/2024/05/Gympie-RSL-Web-Event-Featured_Swimming.jpg
END:VEVENT
BEGIN:VEVENT
DTSTART;TZID=Australia/Brisbane:20260717T130000
DTEND;TZID=Australia/Brisbane:20260717T140000
DTSTAMP:20260422T022648
CREATED:20240509T222403Z
LAST-MODIFIED:20251215T020538Z
UID:10016386-1784293200-1784296800@gympiersl.com.au
SUMMARY:Splash Aerobics
DESCRIPTION:Join in the fun at our low-impact pool workout sessions! \nEvery Friday from 1pm at Gympie Aquatic Centre. \nOpen to Veterans and their partners/carers. \nFor more information\, call 5483 7707 or email events@gympiersla.com.au. \n  \nBOOK HERE
URL:https://gympiersl.com.au/event/splash-aerobics/2026-07-17/
LOCATION:Gympie Aquatic Centre\, Tozer Park Road\, Gympie\, QLD\, 4570\, Australia
CATEGORIES:Welfare,Welfare Weekly
ATTACH;FMTTYPE=image/jpeg:https://gympiersl.com.au/wp-content/uploads/2024/05/Gympie-RSL-Web-Event-Featured_Splash-Aerobics.jpg
END:VEVENT
BEGIN:VEVENT
DTSTART;VALUE=DATE:20260718
DTEND;VALUE=DATE:20260719
DTSTAMP:20260422T022648
CREATED:20240509T223509Z
LAST-MODIFIED:20240509T224355Z
UID:10015569-1784332800-1784419199@gympiersl.com.au
SUMMARY:Swimming
DESCRIPTION:Spend your day poolside with Free Pool Entry! \nAll day entry every Wednesday\, Friday and Saturday for Veterans\, Partners/Carers* \nGympie Aquatic Recreation Centre. \nFor mor information call 5483 7707 or email reception@gympiersla.com.au \n*Children of Veterans welcome upon application at the Veteran centre; must show DVA\, RSL Membership &/or Veteran Centre Family card upon entry.
URL:https://gympiersl.com.au/event/swimming/2026-07-18/
LOCATION:Gympie Aquatic Centre\, Tozer Park Road\, Gympie\, QLD\, 4570\, Australia
CATEGORIES:Welfare,Welfare Weekly
ATTACH;FMTTYPE=image/jpeg:https://gympiersl.com.au/wp-content/uploads/2024/05/Gympie-RSL-Web-Event-Featured_Swimming.jpg
END:VEVENT
END:VCALENDAR