BEGIN:VCALENDAR
VERSION:2.0
PRODID:-//Gympie RSL - ECPv6.15.20//NONSGML v1.0//EN
CALSCALE:GREGORIAN
METHOD:PUBLISH
X-WR-CALNAME:Gympie RSL
X-ORIGINAL-URL:https://gympiersl.com.au
X-WR-CALDESC:Events for Gympie RSL
REFRESH-INTERVAL;VALUE=DURATION:PT1H
X-Robots-Tag:noindex
X-PUBLISHED-TTL:PT1H
BEGIN:VTIMEZONE
TZID:Australia/Brisbane
BEGIN:STANDARD
TZOFFSETFROM:+1000
TZOFFSETTO:+1000
TZNAME:AEST
DTSTART:20260101T000000
END:STANDARD
END:VTIMEZONE
BEGIN:VEVENT
DTSTART;TZID=Australia/Brisbane:20270101T170000
DTEND;TZID=Australia/Brisbane:20270101T193000
DTSTAMP:20260420T115927
CREATED:20240425T234629Z
LAST-MODIFIED:20250210T011347Z
UID:10021698-1798822800-1798831800@gympiersl.com.au
SUMMARY:Community Raffles
DESCRIPTION:Support local groups at our Community Raffles! \nJoin us every Friday and Saturday evenings for a night of prizewinning fun\, with $500 worth of prizes to be won every session! \nTickets:\n$1 for 2 numbers\n$2 for 5 numbers\n$5 for 15 numbers \nTickets on sale from 5pm\, with draws beginning from 7pm.
URL:https://gympiersl.com.au/event/community-raffles/2027-01-01/
LOCATION:Atrium Bistro\, Gympie RSL\, 217 Mary Street\, Gympie\, QLD\, 4570\, Australia
CATEGORIES:All,Community Raffles,Weekly Activities
ATTACH;FMTTYPE=image/jpeg:https://gympiersl.com.au/wp-content/uploads/2024/04/Gympie-RSL_Web-Featured_Community-Raffles.jpg
END:VEVENT
BEGIN:VEVENT
DTSTART;TZID=Australia/Brisbane:20270102T170000
DTEND;TZID=Australia/Brisbane:20270102T193000
DTSTAMP:20260420T115927
CREATED:20240425T234629Z
LAST-MODIFIED:20250210T011347Z
UID:10021699-1798909200-1798918200@gympiersl.com.au
SUMMARY:Community Raffles
DESCRIPTION:Support local groups at our Community Raffles! \nJoin us every Friday and Saturday evenings for a night of prizewinning fun\, with $500 worth of prizes to be won every session! \nTickets:\n$1 for 2 numbers\n$2 for 5 numbers\n$5 for 15 numbers \nTickets on sale from 5pm\, with draws beginning from 7pm.
URL:https://gympiersl.com.au/event/community-raffles/2027-01-02/
LOCATION:Atrium Bistro\, Gympie RSL\, 217 Mary Street\, Gympie\, QLD\, 4570\, Australia
CATEGORIES:All,Community Raffles,Weekly Activities
ATTACH;FMTTYPE=image/jpeg:https://gympiersl.com.au/wp-content/uploads/2024/04/Gympie-RSL_Web-Featured_Community-Raffles.jpg
END:VEVENT
BEGIN:VEVENT
DTSTART;TZID=Australia/Brisbane:20270108T170000
DTEND;TZID=Australia/Brisbane:20270108T193000
DTSTAMP:20260420T115927
CREATED:20240425T234629Z
LAST-MODIFIED:20250210T011347Z
UID:10021700-1799427600-1799436600@gympiersl.com.au
SUMMARY:Community Raffles
DESCRIPTION:Support local groups at our Community Raffles! \nJoin us every Friday and Saturday evenings for a night of prizewinning fun\, with $500 worth of prizes to be won every session! \nTickets:\n$1 for 2 numbers\n$2 for 5 numbers\n$5 for 15 numbers \nTickets on sale from 5pm\, with draws beginning from 7pm.
URL:https://gympiersl.com.au/event/community-raffles/2027-01-08/
LOCATION:Atrium Bistro\, Gympie RSL\, 217 Mary Street\, Gympie\, QLD\, 4570\, Australia
CATEGORIES:All,Community Raffles,Weekly Activities
ATTACH;FMTTYPE=image/jpeg:https://gympiersl.com.au/wp-content/uploads/2024/04/Gympie-RSL_Web-Featured_Community-Raffles.jpg
END:VEVENT
BEGIN:VEVENT
DTSTART;TZID=Australia/Brisbane:20270109T170000
DTEND;TZID=Australia/Brisbane:20270109T193000
DTSTAMP:20260420T115927
CREATED:20240425T234629Z
LAST-MODIFIED:20250210T011347Z
UID:10021701-1799514000-1799523000@gympiersl.com.au
SUMMARY:Community Raffles
DESCRIPTION:Support local groups at our Community Raffles! \nJoin us every Friday and Saturday evenings for a night of prizewinning fun\, with $500 worth of prizes to be won every session! \nTickets:\n$1 for 2 numbers\n$2 for 5 numbers\n$5 for 15 numbers \nTickets on sale from 5pm\, with draws beginning from 7pm.
URL:https://gympiersl.com.au/event/community-raffles/2027-01-09/
LOCATION:Atrium Bistro\, Gympie RSL\, 217 Mary Street\, Gympie\, QLD\, 4570\, Australia
CATEGORIES:All,Community Raffles,Weekly Activities
ATTACH;FMTTYPE=image/jpeg:https://gympiersl.com.au/wp-content/uploads/2024/04/Gympie-RSL_Web-Featured_Community-Raffles.jpg
END:VEVENT
BEGIN:VEVENT
DTSTART;TZID=Australia/Brisbane:20270115T170000
DTEND;TZID=Australia/Brisbane:20270115T193000
DTSTAMP:20260420T115927
CREATED:20240425T234629Z
LAST-MODIFIED:20250210T011347Z
UID:10021702-1800032400-1800041400@gympiersl.com.au
SUMMARY:Community Raffles
DESCRIPTION:Support local groups at our Community Raffles! \nJoin us every Friday and Saturday evenings for a night of prizewinning fun\, with $500 worth of prizes to be won every session! \nTickets:\n$1 for 2 numbers\n$2 for 5 numbers\n$5 for 15 numbers \nTickets on sale from 5pm\, with draws beginning from 7pm.
URL:https://gympiersl.com.au/event/community-raffles/2027-01-15/
LOCATION:Atrium Bistro\, Gympie RSL\, 217 Mary Street\, Gympie\, QLD\, 4570\, Australia
CATEGORIES:All,Community Raffles,Weekly Activities
ATTACH;FMTTYPE=image/jpeg:https://gympiersl.com.au/wp-content/uploads/2024/04/Gympie-RSL_Web-Featured_Community-Raffles.jpg
END:VEVENT
BEGIN:VEVENT
DTSTART;TZID=Australia/Brisbane:20270116T170000
DTEND;TZID=Australia/Brisbane:20270116T193000
DTSTAMP:20260420T115927
CREATED:20240425T234629Z
LAST-MODIFIED:20250210T011347Z
UID:10021703-1800118800-1800127800@gympiersl.com.au
SUMMARY:Community Raffles
DESCRIPTION:Support local groups at our Community Raffles! \nJoin us every Friday and Saturday evenings for a night of prizewinning fun\, with $500 worth of prizes to be won every session! \nTickets:\n$1 for 2 numbers\n$2 for 5 numbers\n$5 for 15 numbers \nTickets on sale from 5pm\, with draws beginning from 7pm.
URL:https://gympiersl.com.au/event/community-raffles/2027-01-16/
LOCATION:Atrium Bistro\, Gympie RSL\, 217 Mary Street\, Gympie\, QLD\, 4570\, Australia
CATEGORIES:All,Community Raffles,Weekly Activities
ATTACH;FMTTYPE=image/jpeg:https://gympiersl.com.au/wp-content/uploads/2024/04/Gympie-RSL_Web-Featured_Community-Raffles.jpg
END:VEVENT
BEGIN:VEVENT
DTSTART;TZID=Australia/Brisbane:20270122T170000
DTEND;TZID=Australia/Brisbane:20270122T193000
DTSTAMP:20260420T115927
CREATED:20240425T234629Z
LAST-MODIFIED:20250210T011347Z
UID:10021704-1800637200-1800646200@gympiersl.com.au
SUMMARY:Community Raffles
DESCRIPTION:Support local groups at our Community Raffles! \nJoin us every Friday and Saturday evenings for a night of prizewinning fun\, with $500 worth of prizes to be won every session! \nTickets:\n$1 for 2 numbers\n$2 for 5 numbers\n$5 for 15 numbers \nTickets on sale from 5pm\, with draws beginning from 7pm.
URL:https://gympiersl.com.au/event/community-raffles/2027-01-22/
LOCATION:Atrium Bistro\, Gympie RSL\, 217 Mary Street\, Gympie\, QLD\, 4570\, Australia
CATEGORIES:All,Community Raffles,Weekly Activities
ATTACH;FMTTYPE=image/jpeg:https://gympiersl.com.au/wp-content/uploads/2024/04/Gympie-RSL_Web-Featured_Community-Raffles.jpg
END:VEVENT
BEGIN:VEVENT
DTSTART;TZID=Australia/Brisbane:20270123T170000
DTEND;TZID=Australia/Brisbane:20270123T193000
DTSTAMP:20260420T115927
CREATED:20240425T234629Z
LAST-MODIFIED:20250210T011347Z
UID:10021705-1800723600-1800732600@gympiersl.com.au
SUMMARY:Community Raffles
DESCRIPTION:Support local groups at our Community Raffles! \nJoin us every Friday and Saturday evenings for a night of prizewinning fun\, with $500 worth of prizes to be won every session! \nTickets:\n$1 for 2 numbers\n$2 for 5 numbers\n$5 for 15 numbers \nTickets on sale from 5pm\, with draws beginning from 7pm.
URL:https://gympiersl.com.au/event/community-raffles/2027-01-23/
LOCATION:Atrium Bistro\, Gympie RSL\, 217 Mary Street\, Gympie\, QLD\, 4570\, Australia
CATEGORIES:All,Community Raffles,Weekly Activities
ATTACH;FMTTYPE=image/jpeg:https://gympiersl.com.au/wp-content/uploads/2024/04/Gympie-RSL_Web-Featured_Community-Raffles.jpg
END:VEVENT
BEGIN:VEVENT
DTSTART;TZID=Australia/Brisbane:20270129T170000
DTEND;TZID=Australia/Brisbane:20270129T193000
DTSTAMP:20260420T115927
CREATED:20240425T234629Z
LAST-MODIFIED:20250210T011347Z
UID:10021706-1801242000-1801251000@gympiersl.com.au
SUMMARY:Community Raffles
DESCRIPTION:Support local groups at our Community Raffles! \nJoin us every Friday and Saturday evenings for a night of prizewinning fun\, with $500 worth of prizes to be won every session! \nTickets:\n$1 for 2 numbers\n$2 for 5 numbers\n$5 for 15 numbers \nTickets on sale from 5pm\, with draws beginning from 7pm.
URL:https://gympiersl.com.au/event/community-raffles/2027-01-29/
LOCATION:Atrium Bistro\, Gympie RSL\, 217 Mary Street\, Gympie\, QLD\, 4570\, Australia
CATEGORIES:All,Community Raffles,Weekly Activities
ATTACH;FMTTYPE=image/jpeg:https://gympiersl.com.au/wp-content/uploads/2024/04/Gympie-RSL_Web-Featured_Community-Raffles.jpg
END:VEVENT
BEGIN:VEVENT
DTSTART;TZID=Australia/Brisbane:20270130T170000
DTEND;TZID=Australia/Brisbane:20270130T193000
DTSTAMP:20260420T115927
CREATED:20240425T234629Z
LAST-MODIFIED:20250210T011347Z
UID:10021707-1801328400-1801337400@gympiersl.com.au
SUMMARY:Community Raffles
DESCRIPTION:Support local groups at our Community Raffles! \nJoin us every Friday and Saturday evenings for a night of prizewinning fun\, with $500 worth of prizes to be won every session! \nTickets:\n$1 for 2 numbers\n$2 for 5 numbers\n$5 for 15 numbers \nTickets on sale from 5pm\, with draws beginning from 7pm.
URL:https://gympiersl.com.au/event/community-raffles/2027-01-30/
LOCATION:Atrium Bistro\, Gympie RSL\, 217 Mary Street\, Gympie\, QLD\, 4570\, Australia
CATEGORIES:All,Community Raffles,Weekly Activities
ATTACH;FMTTYPE=image/jpeg:https://gympiersl.com.au/wp-content/uploads/2024/04/Gympie-RSL_Web-Featured_Community-Raffles.jpg
END:VEVENT
BEGIN:VEVENT
DTSTART;TZID=Australia/Brisbane:20270205T170000
DTEND;TZID=Australia/Brisbane:20270205T193000
DTSTAMP:20260420T115927
CREATED:20240425T234629Z
LAST-MODIFIED:20250210T011347Z
UID:10021708-1801846800-1801855800@gympiersl.com.au
SUMMARY:Community Raffles
DESCRIPTION:Support local groups at our Community Raffles! \nJoin us every Friday and Saturday evenings for a night of prizewinning fun\, with $500 worth of prizes to be won every session! \nTickets:\n$1 for 2 numbers\n$2 for 5 numbers\n$5 for 15 numbers \nTickets on sale from 5pm\, with draws beginning from 7pm.
URL:https://gympiersl.com.au/event/community-raffles/2027-02-05/
LOCATION:Atrium Bistro\, Gympie RSL\, 217 Mary Street\, Gympie\, QLD\, 4570\, Australia
CATEGORIES:All,Community Raffles,Weekly Activities
ATTACH;FMTTYPE=image/jpeg:https://gympiersl.com.au/wp-content/uploads/2024/04/Gympie-RSL_Web-Featured_Community-Raffles.jpg
END:VEVENT
BEGIN:VEVENT
DTSTART;TZID=Australia/Brisbane:20270206T170000
DTEND;TZID=Australia/Brisbane:20270206T193000
DTSTAMP:20260420T115927
CREATED:20240425T234629Z
LAST-MODIFIED:20250210T011347Z
UID:10021709-1801933200-1801942200@gympiersl.com.au
SUMMARY:Community Raffles
DESCRIPTION:Support local groups at our Community Raffles! \nJoin us every Friday and Saturday evenings for a night of prizewinning fun\, with $500 worth of prizes to be won every session! \nTickets:\n$1 for 2 numbers\n$2 for 5 numbers\n$5 for 15 numbers \nTickets on sale from 5pm\, with draws beginning from 7pm.
URL:https://gympiersl.com.au/event/community-raffles/2027-02-06/
LOCATION:Atrium Bistro\, Gympie RSL\, 217 Mary Street\, Gympie\, QLD\, 4570\, Australia
CATEGORIES:All,Community Raffles,Weekly Activities
ATTACH;FMTTYPE=image/jpeg:https://gympiersl.com.au/wp-content/uploads/2024/04/Gympie-RSL_Web-Featured_Community-Raffles.jpg
END:VEVENT
BEGIN:VEVENT
DTSTART;TZID=Australia/Brisbane:20270212T170000
DTEND;TZID=Australia/Brisbane:20270212T193000
DTSTAMP:20260420T115927
CREATED:20240425T234629Z
LAST-MODIFIED:20250210T011347Z
UID:10021710-1802451600-1802460600@gympiersl.com.au
SUMMARY:Community Raffles
DESCRIPTION:Support local groups at our Community Raffles! \nJoin us every Friday and Saturday evenings for a night of prizewinning fun\, with $500 worth of prizes to be won every session! \nTickets:\n$1 for 2 numbers\n$2 for 5 numbers\n$5 for 15 numbers \nTickets on sale from 5pm\, with draws beginning from 7pm.
URL:https://gympiersl.com.au/event/community-raffles/2027-02-12/
LOCATION:Atrium Bistro\, Gympie RSL\, 217 Mary Street\, Gympie\, QLD\, 4570\, Australia
CATEGORIES:All,Community Raffles,Weekly Activities
ATTACH;FMTTYPE=image/jpeg:https://gympiersl.com.au/wp-content/uploads/2024/04/Gympie-RSL_Web-Featured_Community-Raffles.jpg
END:VEVENT
BEGIN:VEVENT
DTSTART;TZID=Australia/Brisbane:20270213T170000
DTEND;TZID=Australia/Brisbane:20270213T193000
DTSTAMP:20260420T115927
CREATED:20240425T234629Z
LAST-MODIFIED:20250210T011347Z
UID:10021711-1802538000-1802547000@gympiersl.com.au
SUMMARY:Community Raffles
DESCRIPTION:Support local groups at our Community Raffles! \nJoin us every Friday and Saturday evenings for a night of prizewinning fun\, with $500 worth of prizes to be won every session! \nTickets:\n$1 for 2 numbers\n$2 for 5 numbers\n$5 for 15 numbers \nTickets on sale from 5pm\, with draws beginning from 7pm.
URL:https://gympiersl.com.au/event/community-raffles/2027-02-13/
LOCATION:Atrium Bistro\, Gympie RSL\, 217 Mary Street\, Gympie\, QLD\, 4570\, Australia
CATEGORIES:All,Community Raffles,Weekly Activities
ATTACH;FMTTYPE=image/jpeg:https://gympiersl.com.au/wp-content/uploads/2024/04/Gympie-RSL_Web-Featured_Community-Raffles.jpg
END:VEVENT
BEGIN:VEVENT
DTSTART;TZID=Australia/Brisbane:20270219T170000
DTEND;TZID=Australia/Brisbane:20270219T193000
DTSTAMP:20260420T115927
CREATED:20240425T234629Z
LAST-MODIFIED:20250210T011347Z
UID:10021712-1803056400-1803065400@gympiersl.com.au
SUMMARY:Community Raffles
DESCRIPTION:Support local groups at our Community Raffles! \nJoin us every Friday and Saturday evenings for a night of prizewinning fun\, with $500 worth of prizes to be won every session! \nTickets:\n$1 for 2 numbers\n$2 for 5 numbers\n$5 for 15 numbers \nTickets on sale from 5pm\, with draws beginning from 7pm.
URL:https://gympiersl.com.au/event/community-raffles/2027-02-19/
LOCATION:Atrium Bistro\, Gympie RSL\, 217 Mary Street\, Gympie\, QLD\, 4570\, Australia
CATEGORIES:All,Community Raffles,Weekly Activities
ATTACH;FMTTYPE=image/jpeg:https://gympiersl.com.au/wp-content/uploads/2024/04/Gympie-RSL_Web-Featured_Community-Raffles.jpg
END:VEVENT
BEGIN:VEVENT
DTSTART;TZID=Australia/Brisbane:20270220T170000
DTEND;TZID=Australia/Brisbane:20270220T193000
DTSTAMP:20260420T115927
CREATED:20240425T234629Z
LAST-MODIFIED:20250210T011347Z
UID:10021713-1803142800-1803151800@gympiersl.com.au
SUMMARY:Community Raffles
DESCRIPTION:Support local groups at our Community Raffles! \nJoin us every Friday and Saturday evenings for a night of prizewinning fun\, with $500 worth of prizes to be won every session! \nTickets:\n$1 for 2 numbers\n$2 for 5 numbers\n$5 for 15 numbers \nTickets on sale from 5pm\, with draws beginning from 7pm.
URL:https://gympiersl.com.au/event/community-raffles/2027-02-20/
LOCATION:Atrium Bistro\, Gympie RSL\, 217 Mary Street\, Gympie\, QLD\, 4570\, Australia
CATEGORIES:All,Community Raffles,Weekly Activities
ATTACH;FMTTYPE=image/jpeg:https://gympiersl.com.au/wp-content/uploads/2024/04/Gympie-RSL_Web-Featured_Community-Raffles.jpg
END:VEVENT
BEGIN:VEVENT
DTSTART;TZID=Australia/Brisbane:20270226T170000
DTEND;TZID=Australia/Brisbane:20270226T193000
DTSTAMP:20260420T115927
CREATED:20240425T234629Z
LAST-MODIFIED:20250210T011347Z
UID:10021714-1803661200-1803670200@gympiersl.com.au
SUMMARY:Community Raffles
DESCRIPTION:Support local groups at our Community Raffles! \nJoin us every Friday and Saturday evenings for a night of prizewinning fun\, with $500 worth of prizes to be won every session! \nTickets:\n$1 for 2 numbers\n$2 for 5 numbers\n$5 for 15 numbers \nTickets on sale from 5pm\, with draws beginning from 7pm.
URL:https://gympiersl.com.au/event/community-raffles/2027-02-26/
LOCATION:Atrium Bistro\, Gympie RSL\, 217 Mary Street\, Gympie\, QLD\, 4570\, Australia
CATEGORIES:All,Community Raffles,Weekly Activities
ATTACH;FMTTYPE=image/jpeg:https://gympiersl.com.au/wp-content/uploads/2024/04/Gympie-RSL_Web-Featured_Community-Raffles.jpg
END:VEVENT
BEGIN:VEVENT
DTSTART;TZID=Australia/Brisbane:20270227T170000
DTEND;TZID=Australia/Brisbane:20270227T193000
DTSTAMP:20260420T115927
CREATED:20240425T234629Z
LAST-MODIFIED:20250210T011347Z
UID:10021715-1803747600-1803756600@gympiersl.com.au
SUMMARY:Community Raffles
DESCRIPTION:Support local groups at our Community Raffles! \nJoin us every Friday and Saturday evenings for a night of prizewinning fun\, with $500 worth of prizes to be won every session! \nTickets:\n$1 for 2 numbers\n$2 for 5 numbers\n$5 for 15 numbers \nTickets on sale from 5pm\, with draws beginning from 7pm.
URL:https://gympiersl.com.au/event/community-raffles/2027-02-27/
LOCATION:Atrium Bistro\, Gympie RSL\, 217 Mary Street\, Gympie\, QLD\, 4570\, Australia
CATEGORIES:All,Community Raffles,Weekly Activities
ATTACH;FMTTYPE=image/jpeg:https://gympiersl.com.au/wp-content/uploads/2024/04/Gympie-RSL_Web-Featured_Community-Raffles.jpg
END:VEVENT
BEGIN:VEVENT
DTSTART;TZID=Australia/Brisbane:20270305T170000
DTEND;TZID=Australia/Brisbane:20270305T193000
DTSTAMP:20260420T115927
CREATED:20240425T234629Z
LAST-MODIFIED:20250210T011347Z
UID:10021716-1804266000-1804275000@gympiersl.com.au
SUMMARY:Community Raffles
DESCRIPTION:Support local groups at our Community Raffles! \nJoin us every Friday and Saturday evenings for a night of prizewinning fun\, with $500 worth of prizes to be won every session! \nTickets:\n$1 for 2 numbers\n$2 for 5 numbers\n$5 for 15 numbers \nTickets on sale from 5pm\, with draws beginning from 7pm.
URL:https://gympiersl.com.au/event/community-raffles/2027-03-05/
LOCATION:Atrium Bistro\, Gympie RSL\, 217 Mary Street\, Gympie\, QLD\, 4570\, Australia
CATEGORIES:All,Community Raffles,Weekly Activities
ATTACH;FMTTYPE=image/jpeg:https://gympiersl.com.au/wp-content/uploads/2024/04/Gympie-RSL_Web-Featured_Community-Raffles.jpg
END:VEVENT
BEGIN:VEVENT
DTSTART;TZID=Australia/Brisbane:20270306T170000
DTEND;TZID=Australia/Brisbane:20270306T193000
DTSTAMP:20260420T115927
CREATED:20240425T234629Z
LAST-MODIFIED:20250210T011347Z
UID:10021717-1804352400-1804361400@gympiersl.com.au
SUMMARY:Community Raffles
DESCRIPTION:Support local groups at our Community Raffles! \nJoin us every Friday and Saturday evenings for a night of prizewinning fun\, with $500 worth of prizes to be won every session! \nTickets:\n$1 for 2 numbers\n$2 for 5 numbers\n$5 for 15 numbers \nTickets on sale from 5pm\, with draws beginning from 7pm.
URL:https://gympiersl.com.au/event/community-raffles/2027-03-06/
LOCATION:Atrium Bistro\, Gympie RSL\, 217 Mary Street\, Gympie\, QLD\, 4570\, Australia
CATEGORIES:All,Community Raffles,Weekly Activities
ATTACH;FMTTYPE=image/jpeg:https://gympiersl.com.au/wp-content/uploads/2024/04/Gympie-RSL_Web-Featured_Community-Raffles.jpg
END:VEVENT
BEGIN:VEVENT
DTSTART;TZID=Australia/Brisbane:20270312T170000
DTEND;TZID=Australia/Brisbane:20270312T193000
DTSTAMP:20260420T115927
CREATED:20240425T234629Z
LAST-MODIFIED:20250210T011347Z
UID:10021718-1804870800-1804879800@gympiersl.com.au
SUMMARY:Community Raffles
DESCRIPTION:Support local groups at our Community Raffles! \nJoin us every Friday and Saturday evenings for a night of prizewinning fun\, with $500 worth of prizes to be won every session! \nTickets:\n$1 for 2 numbers\n$2 for 5 numbers\n$5 for 15 numbers \nTickets on sale from 5pm\, with draws beginning from 7pm.
URL:https://gympiersl.com.au/event/community-raffles/2027-03-12/
LOCATION:Atrium Bistro\, Gympie RSL\, 217 Mary Street\, Gympie\, QLD\, 4570\, Australia
CATEGORIES:All,Community Raffles,Weekly Activities
ATTACH;FMTTYPE=image/jpeg:https://gympiersl.com.au/wp-content/uploads/2024/04/Gympie-RSL_Web-Featured_Community-Raffles.jpg
END:VEVENT
BEGIN:VEVENT
DTSTART;TZID=Australia/Brisbane:20270313T170000
DTEND;TZID=Australia/Brisbane:20270313T193000
DTSTAMP:20260420T115927
CREATED:20240425T234629Z
LAST-MODIFIED:20250210T011347Z
UID:10021719-1804957200-1804966200@gympiersl.com.au
SUMMARY:Community Raffles
DESCRIPTION:Support local groups at our Community Raffles! \nJoin us every Friday and Saturday evenings for a night of prizewinning fun\, with $500 worth of prizes to be won every session! \nTickets:\n$1 for 2 numbers\n$2 for 5 numbers\n$5 for 15 numbers \nTickets on sale from 5pm\, with draws beginning from 7pm.
URL:https://gympiersl.com.au/event/community-raffles/2027-03-13/
LOCATION:Atrium Bistro\, Gympie RSL\, 217 Mary Street\, Gympie\, QLD\, 4570\, Australia
CATEGORIES:All,Community Raffles,Weekly Activities
ATTACH;FMTTYPE=image/jpeg:https://gympiersl.com.au/wp-content/uploads/2024/04/Gympie-RSL_Web-Featured_Community-Raffles.jpg
END:VEVENT
BEGIN:VEVENT
DTSTART;TZID=Australia/Brisbane:20270319T170000
DTEND;TZID=Australia/Brisbane:20270319T193000
DTSTAMP:20260420T115927
CREATED:20240425T234629Z
LAST-MODIFIED:20250210T011347Z
UID:10021720-1805475600-1805484600@gympiersl.com.au
SUMMARY:Community Raffles
DESCRIPTION:Support local groups at our Community Raffles! \nJoin us every Friday and Saturday evenings for a night of prizewinning fun\, with $500 worth of prizes to be won every session! \nTickets:\n$1 for 2 numbers\n$2 for 5 numbers\n$5 for 15 numbers \nTickets on sale from 5pm\, with draws beginning from 7pm.
URL:https://gympiersl.com.au/event/community-raffles/2027-03-19/
LOCATION:Atrium Bistro\, Gympie RSL\, 217 Mary Street\, Gympie\, QLD\, 4570\, Australia
CATEGORIES:All,Community Raffles,Weekly Activities
ATTACH;FMTTYPE=image/jpeg:https://gympiersl.com.au/wp-content/uploads/2024/04/Gympie-RSL_Web-Featured_Community-Raffles.jpg
END:VEVENT
BEGIN:VEVENT
DTSTART;TZID=Australia/Brisbane:20270320T170000
DTEND;TZID=Australia/Brisbane:20270320T193000
DTSTAMP:20260420T115927
CREATED:20240425T234629Z
LAST-MODIFIED:20250210T011347Z
UID:10021721-1805562000-1805571000@gympiersl.com.au
SUMMARY:Community Raffles
DESCRIPTION:Support local groups at our Community Raffles! \nJoin us every Friday and Saturday evenings for a night of prizewinning fun\, with $500 worth of prizes to be won every session! \nTickets:\n$1 for 2 numbers\n$2 for 5 numbers\n$5 for 15 numbers \nTickets on sale from 5pm\, with draws beginning from 7pm.
URL:https://gympiersl.com.au/event/community-raffles/2027-03-20/
LOCATION:Atrium Bistro\, Gympie RSL\, 217 Mary Street\, Gympie\, QLD\, 4570\, Australia
CATEGORIES:All,Community Raffles,Weekly Activities
ATTACH;FMTTYPE=image/jpeg:https://gympiersl.com.au/wp-content/uploads/2024/04/Gympie-RSL_Web-Featured_Community-Raffles.jpg
END:VEVENT
BEGIN:VEVENT
DTSTART;TZID=Australia/Brisbane:20270326T170000
DTEND;TZID=Australia/Brisbane:20270326T193000
DTSTAMP:20260420T115927
CREATED:20240425T234629Z
LAST-MODIFIED:20250210T011347Z
UID:10021722-1806080400-1806089400@gympiersl.com.au
SUMMARY:Community Raffles
DESCRIPTION:Support local groups at our Community Raffles! \nJoin us every Friday and Saturday evenings for a night of prizewinning fun\, with $500 worth of prizes to be won every session! \nTickets:\n$1 for 2 numbers\n$2 for 5 numbers\n$5 for 15 numbers \nTickets on sale from 5pm\, with draws beginning from 7pm.
URL:https://gympiersl.com.au/event/community-raffles/2027-03-26/
LOCATION:Atrium Bistro\, Gympie RSL\, 217 Mary Street\, Gympie\, QLD\, 4570\, Australia
CATEGORIES:All,Community Raffles,Weekly Activities
ATTACH;FMTTYPE=image/jpeg:https://gympiersl.com.au/wp-content/uploads/2024/04/Gympie-RSL_Web-Featured_Community-Raffles.jpg
END:VEVENT
BEGIN:VEVENT
DTSTART;TZID=Australia/Brisbane:20270327T170000
DTEND;TZID=Australia/Brisbane:20270327T193000
DTSTAMP:20260420T115927
CREATED:20240425T234629Z
LAST-MODIFIED:20250210T011347Z
UID:10021723-1806166800-1806175800@gympiersl.com.au
SUMMARY:Community Raffles
DESCRIPTION:Support local groups at our Community Raffles! \nJoin us every Friday and Saturday evenings for a night of prizewinning fun\, with $500 worth of prizes to be won every session! \nTickets:\n$1 for 2 numbers\n$2 for 5 numbers\n$5 for 15 numbers \nTickets on sale from 5pm\, with draws beginning from 7pm.
URL:https://gympiersl.com.au/event/community-raffles/2027-03-27/
LOCATION:Atrium Bistro\, Gympie RSL\, 217 Mary Street\, Gympie\, QLD\, 4570\, Australia
CATEGORIES:All,Community Raffles,Weekly Activities
ATTACH;FMTTYPE=image/jpeg:https://gympiersl.com.au/wp-content/uploads/2024/04/Gympie-RSL_Web-Featured_Community-Raffles.jpg
END:VEVENT
BEGIN:VEVENT
DTSTART;TZID=Australia/Brisbane:20270402T170000
DTEND;TZID=Australia/Brisbane:20270402T193000
DTSTAMP:20260420T115927
CREATED:20240425T234629Z
LAST-MODIFIED:20250210T011347Z
UID:10021724-1806685200-1806694200@gympiersl.com.au
SUMMARY:Community Raffles
DESCRIPTION:Support local groups at our Community Raffles! \nJoin us every Friday and Saturday evenings for a night of prizewinning fun\, with $500 worth of prizes to be won every session! \nTickets:\n$1 for 2 numbers\n$2 for 5 numbers\n$5 for 15 numbers \nTickets on sale from 5pm\, with draws beginning from 7pm.
URL:https://gympiersl.com.au/event/community-raffles/2027-04-02/
LOCATION:Atrium Bistro\, Gympie RSL\, 217 Mary Street\, Gympie\, QLD\, 4570\, Australia
CATEGORIES:All,Community Raffles,Weekly Activities
ATTACH;FMTTYPE=image/jpeg:https://gympiersl.com.au/wp-content/uploads/2024/04/Gympie-RSL_Web-Featured_Community-Raffles.jpg
END:VEVENT
BEGIN:VEVENT
DTSTART;TZID=Australia/Brisbane:20270403T170000
DTEND;TZID=Australia/Brisbane:20270403T193000
DTSTAMP:20260420T115927
CREATED:20240425T234629Z
LAST-MODIFIED:20250210T011347Z
UID:10021725-1806771600-1806780600@gympiersl.com.au
SUMMARY:Community Raffles
DESCRIPTION:Support local groups at our Community Raffles! \nJoin us every Friday and Saturday evenings for a night of prizewinning fun\, with $500 worth of prizes to be won every session! \nTickets:\n$1 for 2 numbers\n$2 for 5 numbers\n$5 for 15 numbers \nTickets on sale from 5pm\, with draws beginning from 7pm.
URL:https://gympiersl.com.au/event/community-raffles/2027-04-03/
LOCATION:Atrium Bistro\, Gympie RSL\, 217 Mary Street\, Gympie\, QLD\, 4570\, Australia
CATEGORIES:All,Community Raffles,Weekly Activities
ATTACH;FMTTYPE=image/jpeg:https://gympiersl.com.au/wp-content/uploads/2024/04/Gympie-RSL_Web-Featured_Community-Raffles.jpg
END:VEVENT
BEGIN:VEVENT
DTSTART;TZID=Australia/Brisbane:20270409T170000
DTEND;TZID=Australia/Brisbane:20270409T193000
DTSTAMP:20260420T115927
CREATED:20240425T234629Z
LAST-MODIFIED:20250210T011347Z
UID:10021726-1807290000-1807299000@gympiersl.com.au
SUMMARY:Community Raffles
DESCRIPTION:Support local groups at our Community Raffles! \nJoin us every Friday and Saturday evenings for a night of prizewinning fun\, with $500 worth of prizes to be won every session! \nTickets:\n$1 for 2 numbers\n$2 for 5 numbers\n$5 for 15 numbers \nTickets on sale from 5pm\, with draws beginning from 7pm.
URL:https://gympiersl.com.au/event/community-raffles/2027-04-09/
LOCATION:Atrium Bistro\, Gympie RSL\, 217 Mary Street\, Gympie\, QLD\, 4570\, Australia
CATEGORIES:All,Community Raffles,Weekly Activities
ATTACH;FMTTYPE=image/jpeg:https://gympiersl.com.au/wp-content/uploads/2024/04/Gympie-RSL_Web-Featured_Community-Raffles.jpg
END:VEVENT
BEGIN:VEVENT
DTSTART;TZID=Australia/Brisbane:20270410T170000
DTEND;TZID=Australia/Brisbane:20270410T193000
DTSTAMP:20260420T115927
CREATED:20240425T234629Z
LAST-MODIFIED:20250210T011347Z
UID:10021727-1807376400-1807385400@gympiersl.com.au
SUMMARY:Community Raffles
DESCRIPTION:Support local groups at our Community Raffles! \nJoin us every Friday and Saturday evenings for a night of prizewinning fun\, with $500 worth of prizes to be won every session! \nTickets:\n$1 for 2 numbers\n$2 for 5 numbers\n$5 for 15 numbers \nTickets on sale from 5pm\, with draws beginning from 7pm.
URL:https://gympiersl.com.au/event/community-raffles/2027-04-10/
LOCATION:Atrium Bistro\, Gympie RSL\, 217 Mary Street\, Gympie\, QLD\, 4570\, Australia
CATEGORIES:All,Community Raffles,Weekly Activities
ATTACH;FMTTYPE=image/jpeg:https://gympiersl.com.au/wp-content/uploads/2024/04/Gympie-RSL_Web-Featured_Community-Raffles.jpg
END:VEVENT
END:VCALENDAR