BEGIN:VCALENDAR
VERSION:2.0
PRODID:-//Gympie RSL - ECPv6.15.20//NONSGML v1.0//EN
CALSCALE:GREGORIAN
METHOD:PUBLISH
X-ORIGINAL-URL:https://gympiersl.com.au
X-WR-CALDESC:Events for Gympie RSL
REFRESH-INTERVAL;VALUE=DURATION:PT1H
X-Robots-Tag:noindex
X-PUBLISHED-TTL:PT1H
BEGIN:VTIMEZONE
TZID:Australia/Brisbane
BEGIN:STANDARD
TZOFFSETFROM:+1000
TZOFFSETTO:+1000
TZNAME:AEST
DTSTART:20270101T000000
END:STANDARD
END:VTIMEZONE
BEGIN:VEVENT
DTSTART;TZID=Australia/Brisbane:20280225T170000
DTEND;TZID=Australia/Brisbane:20280225T193000
DTSTAMP:20260421T141037
CREATED:20240425T234629Z
LAST-MODIFIED:20250210T011347Z
UID:10021818-1835110800-1835119800@gympiersl.com.au
SUMMARY:Community Raffles
DESCRIPTION:Support local groups at our Community Raffles! \nJoin us every Friday and Saturday evenings for a night of prizewinning fun\, with $500 worth of prizes to be won every session! \nTickets:\n$1 for 2 numbers\n$2 for 5 numbers\n$5 for 15 numbers \nTickets on sale from 5pm\, with draws beginning from 7pm.
URL:https://gympiersl.com.au/event/community-raffles/2028-02-25/
LOCATION:Atrium Bistro\, Gympie RSL\, 217 Mary Street\, Gympie\, QLD\, 4570\, Australia
CATEGORIES:All,Community Raffles,Weekly Activities
ATTACH;FMTTYPE=image/jpeg:https://gympiersl.com.au/wp-content/uploads/2024/04/Gympie-RSL_Web-Featured_Community-Raffles.jpg
END:VEVENT
BEGIN:VEVENT
DTSTART;TZID=Australia/Brisbane:20280226T170000
DTEND;TZID=Australia/Brisbane:20280226T193000
DTSTAMP:20260421T141037
CREATED:20240425T234629Z
LAST-MODIFIED:20250210T011347Z
UID:10021819-1835197200-1835206200@gympiersl.com.au
SUMMARY:Community Raffles
DESCRIPTION:Support local groups at our Community Raffles! \nJoin us every Friday and Saturday evenings for a night of prizewinning fun\, with $500 worth of prizes to be won every session! \nTickets:\n$1 for 2 numbers\n$2 for 5 numbers\n$5 for 15 numbers \nTickets on sale from 5pm\, with draws beginning from 7pm.
URL:https://gympiersl.com.au/event/community-raffles/2028-02-26/
LOCATION:Atrium Bistro\, Gympie RSL\, 217 Mary Street\, Gympie\, QLD\, 4570\, Australia
CATEGORIES:All,Community Raffles,Weekly Activities
ATTACH;FMTTYPE=image/jpeg:https://gympiersl.com.au/wp-content/uploads/2024/04/Gympie-RSL_Web-Featured_Community-Raffles.jpg
END:VEVENT
BEGIN:VEVENT
DTSTART;TZID=Australia/Brisbane:20280303T170000
DTEND;TZID=Australia/Brisbane:20280303T193000
DTSTAMP:20260421T141037
CREATED:20240425T234629Z
LAST-MODIFIED:20250210T011347Z
UID:10021820-1835715600-1835724600@gympiersl.com.au
SUMMARY:Community Raffles
DESCRIPTION:Support local groups at our Community Raffles! \nJoin us every Friday and Saturday evenings for a night of prizewinning fun\, with $500 worth of prizes to be won every session! \nTickets:\n$1 for 2 numbers\n$2 for 5 numbers\n$5 for 15 numbers \nTickets on sale from 5pm\, with draws beginning from 7pm.
URL:https://gympiersl.com.au/event/community-raffles/2028-03-03/
LOCATION:Atrium Bistro\, Gympie RSL\, 217 Mary Street\, Gympie\, QLD\, 4570\, Australia
CATEGORIES:All,Community Raffles,Weekly Activities
ATTACH;FMTTYPE=image/jpeg:https://gympiersl.com.au/wp-content/uploads/2024/04/Gympie-RSL_Web-Featured_Community-Raffles.jpg
END:VEVENT
BEGIN:VEVENT
DTSTART;TZID=Australia/Brisbane:20280304T170000
DTEND;TZID=Australia/Brisbane:20280304T193000
DTSTAMP:20260421T141037
CREATED:20240425T234629Z
LAST-MODIFIED:20250210T011347Z
UID:10021821-1835802000-1835811000@gympiersl.com.au
SUMMARY:Community Raffles
DESCRIPTION:Support local groups at our Community Raffles! \nJoin us every Friday and Saturday evenings for a night of prizewinning fun\, with $500 worth of prizes to be won every session! \nTickets:\n$1 for 2 numbers\n$2 for 5 numbers\n$5 for 15 numbers \nTickets on sale from 5pm\, with draws beginning from 7pm.
URL:https://gympiersl.com.au/event/community-raffles/2028-03-04/
LOCATION:Atrium Bistro\, Gympie RSL\, 217 Mary Street\, Gympie\, QLD\, 4570\, Australia
CATEGORIES:All,Community Raffles,Weekly Activities
ATTACH;FMTTYPE=image/jpeg:https://gympiersl.com.au/wp-content/uploads/2024/04/Gympie-RSL_Web-Featured_Community-Raffles.jpg
END:VEVENT
BEGIN:VEVENT
DTSTART;TZID=Australia/Brisbane:20280310T170000
DTEND;TZID=Australia/Brisbane:20280310T193000
DTSTAMP:20260421T141037
CREATED:20240425T234629Z
LAST-MODIFIED:20250210T011347Z
UID:10021822-1836320400-1836329400@gympiersl.com.au
SUMMARY:Community Raffles
DESCRIPTION:Support local groups at our Community Raffles! \nJoin us every Friday and Saturday evenings for a night of prizewinning fun\, with $500 worth of prizes to be won every session! \nTickets:\n$1 for 2 numbers\n$2 for 5 numbers\n$5 for 15 numbers \nTickets on sale from 5pm\, with draws beginning from 7pm.
URL:https://gympiersl.com.au/event/community-raffles/2028-03-10/
LOCATION:Atrium Bistro\, Gympie RSL\, 217 Mary Street\, Gympie\, QLD\, 4570\, Australia
CATEGORIES:All,Community Raffles,Weekly Activities
ATTACH;FMTTYPE=image/jpeg:https://gympiersl.com.au/wp-content/uploads/2024/04/Gympie-RSL_Web-Featured_Community-Raffles.jpg
END:VEVENT
BEGIN:VEVENT
DTSTART;TZID=Australia/Brisbane:20280311T170000
DTEND;TZID=Australia/Brisbane:20280311T193000
DTSTAMP:20260421T141037
CREATED:20240425T234629Z
LAST-MODIFIED:20250210T011347Z
UID:10021823-1836406800-1836415800@gympiersl.com.au
SUMMARY:Community Raffles
DESCRIPTION:Support local groups at our Community Raffles! \nJoin us every Friday and Saturday evenings for a night of prizewinning fun\, with $500 worth of prizes to be won every session! \nTickets:\n$1 for 2 numbers\n$2 for 5 numbers\n$5 for 15 numbers \nTickets on sale from 5pm\, with draws beginning from 7pm.
URL:https://gympiersl.com.au/event/community-raffles/2028-03-11/
LOCATION:Atrium Bistro\, Gympie RSL\, 217 Mary Street\, Gympie\, QLD\, 4570\, Australia
CATEGORIES:All,Community Raffles,Weekly Activities
ATTACH;FMTTYPE=image/jpeg:https://gympiersl.com.au/wp-content/uploads/2024/04/Gympie-RSL_Web-Featured_Community-Raffles.jpg
END:VEVENT
BEGIN:VEVENT
DTSTART;TZID=Australia/Brisbane:20280317T170000
DTEND;TZID=Australia/Brisbane:20280317T193000
DTSTAMP:20260421T141037
CREATED:20240425T234629Z
LAST-MODIFIED:20250210T011347Z
UID:10021824-1836925200-1836934200@gympiersl.com.au
SUMMARY:Community Raffles
DESCRIPTION:Support local groups at our Community Raffles! \nJoin us every Friday and Saturday evenings for a night of prizewinning fun\, with $500 worth of prizes to be won every session! \nTickets:\n$1 for 2 numbers\n$2 for 5 numbers\n$5 for 15 numbers \nTickets on sale from 5pm\, with draws beginning from 7pm.
URL:https://gympiersl.com.au/event/community-raffles/2028-03-17/
LOCATION:Atrium Bistro\, Gympie RSL\, 217 Mary Street\, Gympie\, QLD\, 4570\, Australia
CATEGORIES:All,Community Raffles,Weekly Activities
ATTACH;FMTTYPE=image/jpeg:https://gympiersl.com.au/wp-content/uploads/2024/04/Gympie-RSL_Web-Featured_Community-Raffles.jpg
END:VEVENT
BEGIN:VEVENT
DTSTART;TZID=Australia/Brisbane:20280318T170000
DTEND;TZID=Australia/Brisbane:20280318T193000
DTSTAMP:20260421T141037
CREATED:20240425T234629Z
LAST-MODIFIED:20250210T011347Z
UID:10021825-1837011600-1837020600@gympiersl.com.au
SUMMARY:Community Raffles
DESCRIPTION:Support local groups at our Community Raffles! \nJoin us every Friday and Saturday evenings for a night of prizewinning fun\, with $500 worth of prizes to be won every session! \nTickets:\n$1 for 2 numbers\n$2 for 5 numbers\n$5 for 15 numbers \nTickets on sale from 5pm\, with draws beginning from 7pm.
URL:https://gympiersl.com.au/event/community-raffles/2028-03-18/
LOCATION:Atrium Bistro\, Gympie RSL\, 217 Mary Street\, Gympie\, QLD\, 4570\, Australia
CATEGORIES:All,Community Raffles,Weekly Activities
ATTACH;FMTTYPE=image/jpeg:https://gympiersl.com.au/wp-content/uploads/2024/04/Gympie-RSL_Web-Featured_Community-Raffles.jpg
END:VEVENT
BEGIN:VEVENT
DTSTART;TZID=Australia/Brisbane:20280324T170000
DTEND;TZID=Australia/Brisbane:20280324T193000
DTSTAMP:20260421T141037
CREATED:20240425T234629Z
LAST-MODIFIED:20250210T011347Z
UID:10021826-1837530000-1837539000@gympiersl.com.au
SUMMARY:Community Raffles
DESCRIPTION:Support local groups at our Community Raffles! \nJoin us every Friday and Saturday evenings for a night of prizewinning fun\, with $500 worth of prizes to be won every session! \nTickets:\n$1 for 2 numbers\n$2 for 5 numbers\n$5 for 15 numbers \nTickets on sale from 5pm\, with draws beginning from 7pm.
URL:https://gympiersl.com.au/event/community-raffles/2028-03-24/
LOCATION:Atrium Bistro\, Gympie RSL\, 217 Mary Street\, Gympie\, QLD\, 4570\, Australia
CATEGORIES:All,Community Raffles,Weekly Activities
ATTACH;FMTTYPE=image/jpeg:https://gympiersl.com.au/wp-content/uploads/2024/04/Gympie-RSL_Web-Featured_Community-Raffles.jpg
END:VEVENT
BEGIN:VEVENT
DTSTART;TZID=Australia/Brisbane:20280325T170000
DTEND;TZID=Australia/Brisbane:20280325T193000
DTSTAMP:20260421T141037
CREATED:20240425T234629Z
LAST-MODIFIED:20250210T011347Z
UID:10021827-1837616400-1837625400@gympiersl.com.au
SUMMARY:Community Raffles
DESCRIPTION:Support local groups at our Community Raffles! \nJoin us every Friday and Saturday evenings for a night of prizewinning fun\, with $500 worth of prizes to be won every session! \nTickets:\n$1 for 2 numbers\n$2 for 5 numbers\n$5 for 15 numbers \nTickets on sale from 5pm\, with draws beginning from 7pm.
URL:https://gympiersl.com.au/event/community-raffles/2028-03-25/
LOCATION:Atrium Bistro\, Gympie RSL\, 217 Mary Street\, Gympie\, QLD\, 4570\, Australia
CATEGORIES:All,Community Raffles,Weekly Activities
ATTACH;FMTTYPE=image/jpeg:https://gympiersl.com.au/wp-content/uploads/2024/04/Gympie-RSL_Web-Featured_Community-Raffles.jpg
END:VEVENT
BEGIN:VEVENT
DTSTART;TZID=Australia/Brisbane:20280331T170000
DTEND;TZID=Australia/Brisbane:20280331T193000
DTSTAMP:20260421T141037
CREATED:20240425T234629Z
LAST-MODIFIED:20250210T011347Z
UID:10021828-1838134800-1838143800@gympiersl.com.au
SUMMARY:Community Raffles
DESCRIPTION:Support local groups at our Community Raffles! \nJoin us every Friday and Saturday evenings for a night of prizewinning fun\, with $500 worth of prizes to be won every session! \nTickets:\n$1 for 2 numbers\n$2 for 5 numbers\n$5 for 15 numbers \nTickets on sale from 5pm\, with draws beginning from 7pm.
URL:https://gympiersl.com.au/event/community-raffles/2028-03-31/
LOCATION:Atrium Bistro\, Gympie RSL\, 217 Mary Street\, Gympie\, QLD\, 4570\, Australia
CATEGORIES:All,Community Raffles,Weekly Activities
ATTACH;FMTTYPE=image/jpeg:https://gympiersl.com.au/wp-content/uploads/2024/04/Gympie-RSL_Web-Featured_Community-Raffles.jpg
END:VEVENT
BEGIN:VEVENT
DTSTART;TZID=Australia/Brisbane:20280401T170000
DTEND;TZID=Australia/Brisbane:20280401T193000
DTSTAMP:20260421T141037
CREATED:20240425T234629Z
LAST-MODIFIED:20250210T011347Z
UID:10021829-1838221200-1838230200@gympiersl.com.au
SUMMARY:Community Raffles
DESCRIPTION:Support local groups at our Community Raffles! \nJoin us every Friday and Saturday evenings for a night of prizewinning fun\, with $500 worth of prizes to be won every session! \nTickets:\n$1 for 2 numbers\n$2 for 5 numbers\n$5 for 15 numbers \nTickets on sale from 5pm\, with draws beginning from 7pm.
URL:https://gympiersl.com.au/event/community-raffles/2028-04-01/
LOCATION:Atrium Bistro\, Gympie RSL\, 217 Mary Street\, Gympie\, QLD\, 4570\, Australia
CATEGORIES:All,Community Raffles,Weekly Activities
ATTACH;FMTTYPE=image/jpeg:https://gympiersl.com.au/wp-content/uploads/2024/04/Gympie-RSL_Web-Featured_Community-Raffles.jpg
END:VEVENT
BEGIN:VEVENT
DTSTART;TZID=Australia/Brisbane:20280407T170000
DTEND;TZID=Australia/Brisbane:20280407T193000
DTSTAMP:20260421T141037
CREATED:20240425T234629Z
LAST-MODIFIED:20250210T011347Z
UID:10021830-1838739600-1838748600@gympiersl.com.au
SUMMARY:Community Raffles
DESCRIPTION:Support local groups at our Community Raffles! \nJoin us every Friday and Saturday evenings for a night of prizewinning fun\, with $500 worth of prizes to be won every session! \nTickets:\n$1 for 2 numbers\n$2 for 5 numbers\n$5 for 15 numbers \nTickets on sale from 5pm\, with draws beginning from 7pm.
URL:https://gympiersl.com.au/event/community-raffles/2028-04-07/
LOCATION:Atrium Bistro\, Gympie RSL\, 217 Mary Street\, Gympie\, QLD\, 4570\, Australia
CATEGORIES:All,Community Raffles,Weekly Activities
ATTACH;FMTTYPE=image/jpeg:https://gympiersl.com.au/wp-content/uploads/2024/04/Gympie-RSL_Web-Featured_Community-Raffles.jpg
END:VEVENT
BEGIN:VEVENT
DTSTART;TZID=Australia/Brisbane:20280408T170000
DTEND;TZID=Australia/Brisbane:20280408T193000
DTSTAMP:20260421T141037
CREATED:20240425T234629Z
LAST-MODIFIED:20250210T011347Z
UID:10021831-1838826000-1838835000@gympiersl.com.au
SUMMARY:Community Raffles
DESCRIPTION:Support local groups at our Community Raffles! \nJoin us every Friday and Saturday evenings for a night of prizewinning fun\, with $500 worth of prizes to be won every session! \nTickets:\n$1 for 2 numbers\n$2 for 5 numbers\n$5 for 15 numbers \nTickets on sale from 5pm\, with draws beginning from 7pm.
URL:https://gympiersl.com.au/event/community-raffles/2028-04-08/
LOCATION:Atrium Bistro\, Gympie RSL\, 217 Mary Street\, Gympie\, QLD\, 4570\, Australia
CATEGORIES:All,Community Raffles,Weekly Activities
ATTACH;FMTTYPE=image/jpeg:https://gympiersl.com.au/wp-content/uploads/2024/04/Gympie-RSL_Web-Featured_Community-Raffles.jpg
END:VEVENT
BEGIN:VEVENT
DTSTART;TZID=Australia/Brisbane:20280414T170000
DTEND;TZID=Australia/Brisbane:20280414T193000
DTSTAMP:20260421T141037
CREATED:20240425T234629Z
LAST-MODIFIED:20250210T011347Z
UID:10021832-1839344400-1839353400@gympiersl.com.au
SUMMARY:Community Raffles
DESCRIPTION:Support local groups at our Community Raffles! \nJoin us every Friday and Saturday evenings for a night of prizewinning fun\, with $500 worth of prizes to be won every session! \nTickets:\n$1 for 2 numbers\n$2 for 5 numbers\n$5 for 15 numbers \nTickets on sale from 5pm\, with draws beginning from 7pm.
URL:https://gympiersl.com.au/event/community-raffles/2028-04-14/
LOCATION:Atrium Bistro\, Gympie RSL\, 217 Mary Street\, Gympie\, QLD\, 4570\, Australia
CATEGORIES:All,Community Raffles,Weekly Activities
ATTACH;FMTTYPE=image/jpeg:https://gympiersl.com.au/wp-content/uploads/2024/04/Gympie-RSL_Web-Featured_Community-Raffles.jpg
END:VEVENT
BEGIN:VEVENT
DTSTART;TZID=Australia/Brisbane:20280415T170000
DTEND;TZID=Australia/Brisbane:20280415T193000
DTSTAMP:20260421T141037
CREATED:20240425T234629Z
LAST-MODIFIED:20250210T011347Z
UID:10021833-1839430800-1839439800@gympiersl.com.au
SUMMARY:Community Raffles
DESCRIPTION:Support local groups at our Community Raffles! \nJoin us every Friday and Saturday evenings for a night of prizewinning fun\, with $500 worth of prizes to be won every session! \nTickets:\n$1 for 2 numbers\n$2 for 5 numbers\n$5 for 15 numbers \nTickets on sale from 5pm\, with draws beginning from 7pm.
URL:https://gympiersl.com.au/event/community-raffles/2028-04-15/
LOCATION:Atrium Bistro\, Gympie RSL\, 217 Mary Street\, Gympie\, QLD\, 4570\, Australia
CATEGORIES:All,Community Raffles,Weekly Activities
ATTACH;FMTTYPE=image/jpeg:https://gympiersl.com.au/wp-content/uploads/2024/04/Gympie-RSL_Web-Featured_Community-Raffles.jpg
END:VEVENT
BEGIN:VEVENT
DTSTART;TZID=Australia/Brisbane:20280421T170000
DTEND;TZID=Australia/Brisbane:20280421T193000
DTSTAMP:20260421T141037
CREATED:20240425T234629Z
LAST-MODIFIED:20250210T011347Z
UID:10021834-1839949200-1839958200@gympiersl.com.au
SUMMARY:Community Raffles
DESCRIPTION:Support local groups at our Community Raffles! \nJoin us every Friday and Saturday evenings for a night of prizewinning fun\, with $500 worth of prizes to be won every session! \nTickets:\n$1 for 2 numbers\n$2 for 5 numbers\n$5 for 15 numbers \nTickets on sale from 5pm\, with draws beginning from 7pm.
URL:https://gympiersl.com.au/event/community-raffles/2028-04-21/
LOCATION:Atrium Bistro\, Gympie RSL\, 217 Mary Street\, Gympie\, QLD\, 4570\, Australia
CATEGORIES:All,Community Raffles,Weekly Activities
ATTACH;FMTTYPE=image/jpeg:https://gympiersl.com.au/wp-content/uploads/2024/04/Gympie-RSL_Web-Featured_Community-Raffles.jpg
END:VEVENT
BEGIN:VEVENT
DTSTART;TZID=Australia/Brisbane:20280422T170000
DTEND;TZID=Australia/Brisbane:20280422T193000
DTSTAMP:20260421T141037
CREATED:20240425T234629Z
LAST-MODIFIED:20250210T011347Z
UID:10021835-1840035600-1840044600@gympiersl.com.au
SUMMARY:Community Raffles
DESCRIPTION:Support local groups at our Community Raffles! \nJoin us every Friday and Saturday evenings for a night of prizewinning fun\, with $500 worth of prizes to be won every session! \nTickets:\n$1 for 2 numbers\n$2 for 5 numbers\n$5 for 15 numbers \nTickets on sale from 5pm\, with draws beginning from 7pm.
URL:https://gympiersl.com.au/event/community-raffles/2028-04-22/
LOCATION:Atrium Bistro\, Gympie RSL\, 217 Mary Street\, Gympie\, QLD\, 4570\, Australia
CATEGORIES:All,Community Raffles,Weekly Activities
ATTACH;FMTTYPE=image/jpeg:https://gympiersl.com.au/wp-content/uploads/2024/04/Gympie-RSL_Web-Featured_Community-Raffles.jpg
END:VEVENT
BEGIN:VEVENT
DTSTART;TZID=Australia/Brisbane:20280428T170000
DTEND;TZID=Australia/Brisbane:20280428T193000
DTSTAMP:20260421T141037
CREATED:20240425T234629Z
LAST-MODIFIED:20250210T011347Z
UID:10021836-1840554000-1840563000@gympiersl.com.au
SUMMARY:Community Raffles
DESCRIPTION:Support local groups at our Community Raffles! \nJoin us every Friday and Saturday evenings for a night of prizewinning fun\, with $500 worth of prizes to be won every session! \nTickets:\n$1 for 2 numbers\n$2 for 5 numbers\n$5 for 15 numbers \nTickets on sale from 5pm\, with draws beginning from 7pm.
URL:https://gympiersl.com.au/event/community-raffles/2028-04-28/
LOCATION:Atrium Bistro\, Gympie RSL\, 217 Mary Street\, Gympie\, QLD\, 4570\, Australia
CATEGORIES:All,Community Raffles,Weekly Activities
ATTACH;FMTTYPE=image/jpeg:https://gympiersl.com.au/wp-content/uploads/2024/04/Gympie-RSL_Web-Featured_Community-Raffles.jpg
END:VEVENT
BEGIN:VEVENT
DTSTART;TZID=Australia/Brisbane:20280429T170000
DTEND;TZID=Australia/Brisbane:20280429T193000
DTSTAMP:20260421T141037
CREATED:20240425T234629Z
LAST-MODIFIED:20250210T011347Z
UID:10021837-1840640400-1840649400@gympiersl.com.au
SUMMARY:Community Raffles
DESCRIPTION:Support local groups at our Community Raffles! \nJoin us every Friday and Saturday evenings for a night of prizewinning fun\, with $500 worth of prizes to be won every session! \nTickets:\n$1 for 2 numbers\n$2 for 5 numbers\n$5 for 15 numbers \nTickets on sale from 5pm\, with draws beginning from 7pm.
URL:https://gympiersl.com.au/event/community-raffles/2028-04-29/
LOCATION:Atrium Bistro\, Gympie RSL\, 217 Mary Street\, Gympie\, QLD\, 4570\, Australia
CATEGORIES:All,Community Raffles,Weekly Activities
ATTACH;FMTTYPE=image/jpeg:https://gympiersl.com.au/wp-content/uploads/2024/04/Gympie-RSL_Web-Featured_Community-Raffles.jpg
END:VEVENT
BEGIN:VEVENT
DTSTART;TZID=Australia/Brisbane:20280505T170000
DTEND;TZID=Australia/Brisbane:20280505T193000
DTSTAMP:20260421T141037
CREATED:20240425T234629Z
LAST-MODIFIED:20250210T011347Z
UID:10021838-1841158800-1841167800@gympiersl.com.au
SUMMARY:Community Raffles
DESCRIPTION:Support local groups at our Community Raffles! \nJoin us every Friday and Saturday evenings for a night of prizewinning fun\, with $500 worth of prizes to be won every session! \nTickets:\n$1 for 2 numbers\n$2 for 5 numbers\n$5 for 15 numbers \nTickets on sale from 5pm\, with draws beginning from 7pm.
URL:https://gympiersl.com.au/event/community-raffles/2028-05-05/
LOCATION:Atrium Bistro\, Gympie RSL\, 217 Mary Street\, Gympie\, QLD\, 4570\, Australia
CATEGORIES:All,Community Raffles,Weekly Activities
ATTACH;FMTTYPE=image/jpeg:https://gympiersl.com.au/wp-content/uploads/2024/04/Gympie-RSL_Web-Featured_Community-Raffles.jpg
END:VEVENT
BEGIN:VEVENT
DTSTART;TZID=Australia/Brisbane:20280506T170000
DTEND;TZID=Australia/Brisbane:20280506T193000
DTSTAMP:20260421T141037
CREATED:20240425T234629Z
LAST-MODIFIED:20250210T011347Z
UID:10021839-1841245200-1841254200@gympiersl.com.au
SUMMARY:Community Raffles
DESCRIPTION:Support local groups at our Community Raffles! \nJoin us every Friday and Saturday evenings for a night of prizewinning fun\, with $500 worth of prizes to be won every session! \nTickets:\n$1 for 2 numbers\n$2 for 5 numbers\n$5 for 15 numbers \nTickets on sale from 5pm\, with draws beginning from 7pm.
URL:https://gympiersl.com.au/event/community-raffles/2028-05-06/
LOCATION:Atrium Bistro\, Gympie RSL\, 217 Mary Street\, Gympie\, QLD\, 4570\, Australia
CATEGORIES:All,Community Raffles,Weekly Activities
ATTACH;FMTTYPE=image/jpeg:https://gympiersl.com.au/wp-content/uploads/2024/04/Gympie-RSL_Web-Featured_Community-Raffles.jpg
END:VEVENT
BEGIN:VEVENT
DTSTART;TZID=Australia/Brisbane:20280512T170000
DTEND;TZID=Australia/Brisbane:20280512T193000
DTSTAMP:20260421T141037
CREATED:20240425T234629Z
LAST-MODIFIED:20250210T011347Z
UID:10021840-1841763600-1841772600@gympiersl.com.au
SUMMARY:Community Raffles
DESCRIPTION:Support local groups at our Community Raffles! \nJoin us every Friday and Saturday evenings for a night of prizewinning fun\, with $500 worth of prizes to be won every session! \nTickets:\n$1 for 2 numbers\n$2 for 5 numbers\n$5 for 15 numbers \nTickets on sale from 5pm\, with draws beginning from 7pm.
URL:https://gympiersl.com.au/event/community-raffles/2028-05-12/
LOCATION:Atrium Bistro\, Gympie RSL\, 217 Mary Street\, Gympie\, QLD\, 4570\, Australia
CATEGORIES:All,Community Raffles,Weekly Activities
ATTACH;FMTTYPE=image/jpeg:https://gympiersl.com.au/wp-content/uploads/2024/04/Gympie-RSL_Web-Featured_Community-Raffles.jpg
END:VEVENT
BEGIN:VEVENT
DTSTART;TZID=Australia/Brisbane:20280513T170000
DTEND;TZID=Australia/Brisbane:20280513T193000
DTSTAMP:20260421T141037
CREATED:20240425T234629Z
LAST-MODIFIED:20250210T011347Z
UID:10021841-1841850000-1841859000@gympiersl.com.au
SUMMARY:Community Raffles
DESCRIPTION:Support local groups at our Community Raffles! \nJoin us every Friday and Saturday evenings for a night of prizewinning fun\, with $500 worth of prizes to be won every session! \nTickets:\n$1 for 2 numbers\n$2 for 5 numbers\n$5 for 15 numbers \nTickets on sale from 5pm\, with draws beginning from 7pm.
URL:https://gympiersl.com.au/event/community-raffles/2028-05-13/
LOCATION:Atrium Bistro\, Gympie RSL\, 217 Mary Street\, Gympie\, QLD\, 4570\, Australia
CATEGORIES:All,Community Raffles,Weekly Activities
ATTACH;FMTTYPE=image/jpeg:https://gympiersl.com.au/wp-content/uploads/2024/04/Gympie-RSL_Web-Featured_Community-Raffles.jpg
END:VEVENT
BEGIN:VEVENT
DTSTART;TZID=Australia/Brisbane:20280519T170000
DTEND;TZID=Australia/Brisbane:20280519T193000
DTSTAMP:20260421T141037
CREATED:20240425T234629Z
LAST-MODIFIED:20250210T011347Z
UID:10021842-1842368400-1842377400@gympiersl.com.au
SUMMARY:Community Raffles
DESCRIPTION:Support local groups at our Community Raffles! \nJoin us every Friday and Saturday evenings for a night of prizewinning fun\, with $500 worth of prizes to be won every session! \nTickets:\n$1 for 2 numbers\n$2 for 5 numbers\n$5 for 15 numbers \nTickets on sale from 5pm\, with draws beginning from 7pm.
URL:https://gympiersl.com.au/event/community-raffles/2028-05-19/
LOCATION:Atrium Bistro\, Gympie RSL\, 217 Mary Street\, Gympie\, QLD\, 4570\, Australia
CATEGORIES:All,Community Raffles,Weekly Activities
ATTACH;FMTTYPE=image/jpeg:https://gympiersl.com.au/wp-content/uploads/2024/04/Gympie-RSL_Web-Featured_Community-Raffles.jpg
END:VEVENT
BEGIN:VEVENT
DTSTART;TZID=Australia/Brisbane:20280520T170000
DTEND;TZID=Australia/Brisbane:20280520T193000
DTSTAMP:20260421T141037
CREATED:20240425T234629Z
LAST-MODIFIED:20250210T011347Z
UID:10021843-1842454800-1842463800@gympiersl.com.au
SUMMARY:Community Raffles
DESCRIPTION:Support local groups at our Community Raffles! \nJoin us every Friday and Saturday evenings for a night of prizewinning fun\, with $500 worth of prizes to be won every session! \nTickets:\n$1 for 2 numbers\n$2 for 5 numbers\n$5 for 15 numbers \nTickets on sale from 5pm\, with draws beginning from 7pm.
URL:https://gympiersl.com.au/event/community-raffles/2028-05-20/
LOCATION:Atrium Bistro\, Gympie RSL\, 217 Mary Street\, Gympie\, QLD\, 4570\, Australia
CATEGORIES:All,Community Raffles,Weekly Activities
ATTACH;FMTTYPE=image/jpeg:https://gympiersl.com.au/wp-content/uploads/2024/04/Gympie-RSL_Web-Featured_Community-Raffles.jpg
END:VEVENT
BEGIN:VEVENT
DTSTART;TZID=Australia/Brisbane:20280526T170000
DTEND;TZID=Australia/Brisbane:20280526T193000
DTSTAMP:20260421T141037
CREATED:20240425T234629Z
LAST-MODIFIED:20250210T011347Z
UID:10021844-1842973200-1842982200@gympiersl.com.au
SUMMARY:Community Raffles
DESCRIPTION:Support local groups at our Community Raffles! \nJoin us every Friday and Saturday evenings for a night of prizewinning fun\, with $500 worth of prizes to be won every session! \nTickets:\n$1 for 2 numbers\n$2 for 5 numbers\n$5 for 15 numbers \nTickets on sale from 5pm\, with draws beginning from 7pm.
URL:https://gympiersl.com.au/event/community-raffles/2028-05-26/
LOCATION:Atrium Bistro\, Gympie RSL\, 217 Mary Street\, Gympie\, QLD\, 4570\, Australia
CATEGORIES:All,Community Raffles,Weekly Activities
ATTACH;FMTTYPE=image/jpeg:https://gympiersl.com.au/wp-content/uploads/2024/04/Gympie-RSL_Web-Featured_Community-Raffles.jpg
END:VEVENT
BEGIN:VEVENT
DTSTART;TZID=Australia/Brisbane:20280527T170000
DTEND;TZID=Australia/Brisbane:20280527T193000
DTSTAMP:20260421T141037
CREATED:20240425T234629Z
LAST-MODIFIED:20250210T011347Z
UID:10021845-1843059600-1843068600@gympiersl.com.au
SUMMARY:Community Raffles
DESCRIPTION:Support local groups at our Community Raffles! \nJoin us every Friday and Saturday evenings for a night of prizewinning fun\, with $500 worth of prizes to be won every session! \nTickets:\n$1 for 2 numbers\n$2 for 5 numbers\n$5 for 15 numbers \nTickets on sale from 5pm\, with draws beginning from 7pm.
URL:https://gympiersl.com.au/event/community-raffles/2028-05-27/
LOCATION:Atrium Bistro\, Gympie RSL\, 217 Mary Street\, Gympie\, QLD\, 4570\, Australia
CATEGORIES:All,Community Raffles,Weekly Activities
ATTACH;FMTTYPE=image/jpeg:https://gympiersl.com.au/wp-content/uploads/2024/04/Gympie-RSL_Web-Featured_Community-Raffles.jpg
END:VEVENT
BEGIN:VEVENT
DTSTART;TZID=Australia/Brisbane:20280602T170000
DTEND;TZID=Australia/Brisbane:20280602T193000
DTSTAMP:20260421T141037
CREATED:20240425T234629Z
LAST-MODIFIED:20250210T011347Z
UID:10021846-1843578000-1843587000@gympiersl.com.au
SUMMARY:Community Raffles
DESCRIPTION:Support local groups at our Community Raffles! \nJoin us every Friday and Saturday evenings for a night of prizewinning fun\, with $500 worth of prizes to be won every session! \nTickets:\n$1 for 2 numbers\n$2 for 5 numbers\n$5 for 15 numbers \nTickets on sale from 5pm\, with draws beginning from 7pm.
URL:https://gympiersl.com.au/event/community-raffles/2028-06-02/
LOCATION:Atrium Bistro\, Gympie RSL\, 217 Mary Street\, Gympie\, QLD\, 4570\, Australia
CATEGORIES:All,Community Raffles,Weekly Activities
ATTACH;FMTTYPE=image/jpeg:https://gympiersl.com.au/wp-content/uploads/2024/04/Gympie-RSL_Web-Featured_Community-Raffles.jpg
END:VEVENT
BEGIN:VEVENT
DTSTART;TZID=Australia/Brisbane:20280603T170000
DTEND;TZID=Australia/Brisbane:20280603T193000
DTSTAMP:20260421T141037
CREATED:20240425T234629Z
LAST-MODIFIED:20250210T011347Z
UID:10021847-1843664400-1843673400@gympiersl.com.au
SUMMARY:Community Raffles
DESCRIPTION:Support local groups at our Community Raffles! \nJoin us every Friday and Saturday evenings for a night of prizewinning fun\, with $500 worth of prizes to be won every session! \nTickets:\n$1 for 2 numbers\n$2 for 5 numbers\n$5 for 15 numbers \nTickets on sale from 5pm\, with draws beginning from 7pm.
URL:https://gympiersl.com.au/event/community-raffles/2028-06-03/
LOCATION:Atrium Bistro\, Gympie RSL\, 217 Mary Street\, Gympie\, QLD\, 4570\, Australia
CATEGORIES:All,Community Raffles,Weekly Activities
ATTACH;FMTTYPE=image/jpeg:https://gympiersl.com.au/wp-content/uploads/2024/04/Gympie-RSL_Web-Featured_Community-Raffles.jpg
END:VEVENT
END:VCALENDAR