BEGIN:VCALENDAR
VERSION:2.0
PRODID:-//Gympie RSL - ECPv6.15.20//NONSGML v1.0//EN
CALSCALE:GREGORIAN
METHOD:PUBLISH
X-WR-CALNAME:Gympie RSL
X-ORIGINAL-URL:https://gympiersl.com.au
X-WR-CALDESC:Events for Gympie RSL
REFRESH-INTERVAL;VALUE=DURATION:PT1H
X-Robots-Tag:noindex
X-PUBLISHED-TTL:PT1H
BEGIN:VTIMEZONE
TZID:Australia/Brisbane
BEGIN:STANDARD
TZOFFSETFROM:+1000
TZOFFSETTO:+1000
TZNAME:AEST
DTSTART:20260101T000000
END:STANDARD
END:VTIMEZONE
BEGIN:VEVENT
DTSTART;TZID=Australia/Brisbane:20271022T170000
DTEND;TZID=Australia/Brisbane:20271022T193000
DTSTAMP:20260421T084425
CREATED:20240425T234629Z
LAST-MODIFIED:20250210T011347Z
UID:10021782-1824224400-1824233400@gympiersl.com.au
SUMMARY:Community Raffles
DESCRIPTION:Support local groups at our Community Raffles! \nJoin us every Friday and Saturday evenings for a night of prizewinning fun\, with $500 worth of prizes to be won every session! \nTickets:\n$1 for 2 numbers\n$2 for 5 numbers\n$5 for 15 numbers \nTickets on sale from 5pm\, with draws beginning from 7pm.
URL:https://gympiersl.com.au/event/community-raffles/2027-10-22/
LOCATION:Atrium Bistro\, Gympie RSL\, 217 Mary Street\, Gympie\, QLD\, 4570\, Australia
CATEGORIES:All,Community Raffles,Weekly Activities
ATTACH;FMTTYPE=image/jpeg:https://gympiersl.com.au/wp-content/uploads/2024/04/Gympie-RSL_Web-Featured_Community-Raffles.jpg
END:VEVENT
BEGIN:VEVENT
DTSTART;TZID=Australia/Brisbane:20271023T170000
DTEND;TZID=Australia/Brisbane:20271023T193000
DTSTAMP:20260421T084425
CREATED:20240425T234629Z
LAST-MODIFIED:20250210T011347Z
UID:10021783-1824310800-1824319800@gympiersl.com.au
SUMMARY:Community Raffles
DESCRIPTION:Support local groups at our Community Raffles! \nJoin us every Friday and Saturday evenings for a night of prizewinning fun\, with $500 worth of prizes to be won every session! \nTickets:\n$1 for 2 numbers\n$2 for 5 numbers\n$5 for 15 numbers \nTickets on sale from 5pm\, with draws beginning from 7pm.
URL:https://gympiersl.com.au/event/community-raffles/2027-10-23/
LOCATION:Atrium Bistro\, Gympie RSL\, 217 Mary Street\, Gympie\, QLD\, 4570\, Australia
CATEGORIES:All,Community Raffles,Weekly Activities
ATTACH;FMTTYPE=image/jpeg:https://gympiersl.com.au/wp-content/uploads/2024/04/Gympie-RSL_Web-Featured_Community-Raffles.jpg
END:VEVENT
BEGIN:VEVENT
DTSTART;TZID=Australia/Brisbane:20271029T170000
DTEND;TZID=Australia/Brisbane:20271029T193000
DTSTAMP:20260421T084425
CREATED:20240425T234629Z
LAST-MODIFIED:20250210T011347Z
UID:10021784-1824829200-1824838200@gympiersl.com.au
SUMMARY:Community Raffles
DESCRIPTION:Support local groups at our Community Raffles! \nJoin us every Friday and Saturday evenings for a night of prizewinning fun\, with $500 worth of prizes to be won every session! \nTickets:\n$1 for 2 numbers\n$2 for 5 numbers\n$5 for 15 numbers \nTickets on sale from 5pm\, with draws beginning from 7pm.
URL:https://gympiersl.com.au/event/community-raffles/2027-10-29/
LOCATION:Atrium Bistro\, Gympie RSL\, 217 Mary Street\, Gympie\, QLD\, 4570\, Australia
CATEGORIES:All,Community Raffles,Weekly Activities
ATTACH;FMTTYPE=image/jpeg:https://gympiersl.com.au/wp-content/uploads/2024/04/Gympie-RSL_Web-Featured_Community-Raffles.jpg
END:VEVENT
BEGIN:VEVENT
DTSTART;TZID=Australia/Brisbane:20271030T170000
DTEND;TZID=Australia/Brisbane:20271030T193000
DTSTAMP:20260421T084425
CREATED:20240425T234629Z
LAST-MODIFIED:20250210T011347Z
UID:10021785-1824915600-1824924600@gympiersl.com.au
SUMMARY:Community Raffles
DESCRIPTION:Support local groups at our Community Raffles! \nJoin us every Friday and Saturday evenings for a night of prizewinning fun\, with $500 worth of prizes to be won every session! \nTickets:\n$1 for 2 numbers\n$2 for 5 numbers\n$5 for 15 numbers \nTickets on sale from 5pm\, with draws beginning from 7pm.
URL:https://gympiersl.com.au/event/community-raffles/2027-10-30/
LOCATION:Atrium Bistro\, Gympie RSL\, 217 Mary Street\, Gympie\, QLD\, 4570\, Australia
CATEGORIES:All,Community Raffles,Weekly Activities
ATTACH;FMTTYPE=image/jpeg:https://gympiersl.com.au/wp-content/uploads/2024/04/Gympie-RSL_Web-Featured_Community-Raffles.jpg
END:VEVENT
BEGIN:VEVENT
DTSTART;TZID=Australia/Brisbane:20271105T170000
DTEND;TZID=Australia/Brisbane:20271105T193000
DTSTAMP:20260421T084425
CREATED:20240425T234629Z
LAST-MODIFIED:20250210T011347Z
UID:10021786-1825434000-1825443000@gympiersl.com.au
SUMMARY:Community Raffles
DESCRIPTION:Support local groups at our Community Raffles! \nJoin us every Friday and Saturday evenings for a night of prizewinning fun\, with $500 worth of prizes to be won every session! \nTickets:\n$1 for 2 numbers\n$2 for 5 numbers\n$5 for 15 numbers \nTickets on sale from 5pm\, with draws beginning from 7pm.
URL:https://gympiersl.com.au/event/community-raffles/2027-11-05/
LOCATION:Atrium Bistro\, Gympie RSL\, 217 Mary Street\, Gympie\, QLD\, 4570\, Australia
CATEGORIES:All,Community Raffles,Weekly Activities
ATTACH;FMTTYPE=image/jpeg:https://gympiersl.com.au/wp-content/uploads/2024/04/Gympie-RSL_Web-Featured_Community-Raffles.jpg
END:VEVENT
BEGIN:VEVENT
DTSTART;TZID=Australia/Brisbane:20271106T170000
DTEND;TZID=Australia/Brisbane:20271106T193000
DTSTAMP:20260421T084425
CREATED:20240425T234629Z
LAST-MODIFIED:20250210T011347Z
UID:10021787-1825520400-1825529400@gympiersl.com.au
SUMMARY:Community Raffles
DESCRIPTION:Support local groups at our Community Raffles! \nJoin us every Friday and Saturday evenings for a night of prizewinning fun\, with $500 worth of prizes to be won every session! \nTickets:\n$1 for 2 numbers\n$2 for 5 numbers\n$5 for 15 numbers \nTickets on sale from 5pm\, with draws beginning from 7pm.
URL:https://gympiersl.com.au/event/community-raffles/2027-11-06/
LOCATION:Atrium Bistro\, Gympie RSL\, 217 Mary Street\, Gympie\, QLD\, 4570\, Australia
CATEGORIES:All,Community Raffles,Weekly Activities
ATTACH;FMTTYPE=image/jpeg:https://gympiersl.com.au/wp-content/uploads/2024/04/Gympie-RSL_Web-Featured_Community-Raffles.jpg
END:VEVENT
BEGIN:VEVENT
DTSTART;TZID=Australia/Brisbane:20271112T170000
DTEND;TZID=Australia/Brisbane:20271112T193000
DTSTAMP:20260421T084425
CREATED:20240425T234629Z
LAST-MODIFIED:20250210T011347Z
UID:10021788-1826038800-1826047800@gympiersl.com.au
SUMMARY:Community Raffles
DESCRIPTION:Support local groups at our Community Raffles! \nJoin us every Friday and Saturday evenings for a night of prizewinning fun\, with $500 worth of prizes to be won every session! \nTickets:\n$1 for 2 numbers\n$2 for 5 numbers\n$5 for 15 numbers \nTickets on sale from 5pm\, with draws beginning from 7pm.
URL:https://gympiersl.com.au/event/community-raffles/2027-11-12/
LOCATION:Atrium Bistro\, Gympie RSL\, 217 Mary Street\, Gympie\, QLD\, 4570\, Australia
CATEGORIES:All,Community Raffles,Weekly Activities
ATTACH;FMTTYPE=image/jpeg:https://gympiersl.com.au/wp-content/uploads/2024/04/Gympie-RSL_Web-Featured_Community-Raffles.jpg
END:VEVENT
BEGIN:VEVENT
DTSTART;TZID=Australia/Brisbane:20271113T170000
DTEND;TZID=Australia/Brisbane:20271113T193000
DTSTAMP:20260421T084425
CREATED:20240425T234629Z
LAST-MODIFIED:20250210T011347Z
UID:10021789-1826125200-1826134200@gympiersl.com.au
SUMMARY:Community Raffles
DESCRIPTION:Support local groups at our Community Raffles! \nJoin us every Friday and Saturday evenings for a night of prizewinning fun\, with $500 worth of prizes to be won every session! \nTickets:\n$1 for 2 numbers\n$2 for 5 numbers\n$5 for 15 numbers \nTickets on sale from 5pm\, with draws beginning from 7pm.
URL:https://gympiersl.com.au/event/community-raffles/2027-11-13/
LOCATION:Atrium Bistro\, Gympie RSL\, 217 Mary Street\, Gympie\, QLD\, 4570\, Australia
CATEGORIES:All,Community Raffles,Weekly Activities
ATTACH;FMTTYPE=image/jpeg:https://gympiersl.com.au/wp-content/uploads/2024/04/Gympie-RSL_Web-Featured_Community-Raffles.jpg
END:VEVENT
BEGIN:VEVENT
DTSTART;TZID=Australia/Brisbane:20271119T170000
DTEND;TZID=Australia/Brisbane:20271119T193000
DTSTAMP:20260421T084425
CREATED:20240425T234629Z
LAST-MODIFIED:20250210T011347Z
UID:10021790-1826643600-1826652600@gympiersl.com.au
SUMMARY:Community Raffles
DESCRIPTION:Support local groups at our Community Raffles! \nJoin us every Friday and Saturday evenings for a night of prizewinning fun\, with $500 worth of prizes to be won every session! \nTickets:\n$1 for 2 numbers\n$2 for 5 numbers\n$5 for 15 numbers \nTickets on sale from 5pm\, with draws beginning from 7pm.
URL:https://gympiersl.com.au/event/community-raffles/2027-11-19/
LOCATION:Atrium Bistro\, Gympie RSL\, 217 Mary Street\, Gympie\, QLD\, 4570\, Australia
CATEGORIES:All,Community Raffles,Weekly Activities
ATTACH;FMTTYPE=image/jpeg:https://gympiersl.com.au/wp-content/uploads/2024/04/Gympie-RSL_Web-Featured_Community-Raffles.jpg
END:VEVENT
BEGIN:VEVENT
DTSTART;TZID=Australia/Brisbane:20271120T170000
DTEND;TZID=Australia/Brisbane:20271120T193000
DTSTAMP:20260421T084425
CREATED:20240425T234629Z
LAST-MODIFIED:20250210T011347Z
UID:10021791-1826730000-1826739000@gympiersl.com.au
SUMMARY:Community Raffles
DESCRIPTION:Support local groups at our Community Raffles! \nJoin us every Friday and Saturday evenings for a night of prizewinning fun\, with $500 worth of prizes to be won every session! \nTickets:\n$1 for 2 numbers\n$2 for 5 numbers\n$5 for 15 numbers \nTickets on sale from 5pm\, with draws beginning from 7pm.
URL:https://gympiersl.com.au/event/community-raffles/2027-11-20/
LOCATION:Atrium Bistro\, Gympie RSL\, 217 Mary Street\, Gympie\, QLD\, 4570\, Australia
CATEGORIES:All,Community Raffles,Weekly Activities
ATTACH;FMTTYPE=image/jpeg:https://gympiersl.com.au/wp-content/uploads/2024/04/Gympie-RSL_Web-Featured_Community-Raffles.jpg
END:VEVENT
BEGIN:VEVENT
DTSTART;TZID=Australia/Brisbane:20271126T170000
DTEND;TZID=Australia/Brisbane:20271126T193000
DTSTAMP:20260421T084425
CREATED:20240425T234629Z
LAST-MODIFIED:20250210T011347Z
UID:10021792-1827248400-1827257400@gympiersl.com.au
SUMMARY:Community Raffles
DESCRIPTION:Support local groups at our Community Raffles! \nJoin us every Friday and Saturday evenings for a night of prizewinning fun\, with $500 worth of prizes to be won every session! \nTickets:\n$1 for 2 numbers\n$2 for 5 numbers\n$5 for 15 numbers \nTickets on sale from 5pm\, with draws beginning from 7pm.
URL:https://gympiersl.com.au/event/community-raffles/2027-11-26/
LOCATION:Atrium Bistro\, Gympie RSL\, 217 Mary Street\, Gympie\, QLD\, 4570\, Australia
CATEGORIES:All,Community Raffles,Weekly Activities
ATTACH;FMTTYPE=image/jpeg:https://gympiersl.com.au/wp-content/uploads/2024/04/Gympie-RSL_Web-Featured_Community-Raffles.jpg
END:VEVENT
BEGIN:VEVENT
DTSTART;TZID=Australia/Brisbane:20271127T170000
DTEND;TZID=Australia/Brisbane:20271127T193000
DTSTAMP:20260421T084425
CREATED:20240425T234629Z
LAST-MODIFIED:20250210T011347Z
UID:10021793-1827334800-1827343800@gympiersl.com.au
SUMMARY:Community Raffles
DESCRIPTION:Support local groups at our Community Raffles! \nJoin us every Friday and Saturday evenings for a night of prizewinning fun\, with $500 worth of prizes to be won every session! \nTickets:\n$1 for 2 numbers\n$2 for 5 numbers\n$5 for 15 numbers \nTickets on sale from 5pm\, with draws beginning from 7pm.
URL:https://gympiersl.com.au/event/community-raffles/2027-11-27/
LOCATION:Atrium Bistro\, Gympie RSL\, 217 Mary Street\, Gympie\, QLD\, 4570\, Australia
CATEGORIES:All,Community Raffles,Weekly Activities
ATTACH;FMTTYPE=image/jpeg:https://gympiersl.com.au/wp-content/uploads/2024/04/Gympie-RSL_Web-Featured_Community-Raffles.jpg
END:VEVENT
BEGIN:VEVENT
DTSTART;TZID=Australia/Brisbane:20271203T170000
DTEND;TZID=Australia/Brisbane:20271203T193000
DTSTAMP:20260421T084425
CREATED:20240425T234629Z
LAST-MODIFIED:20250210T011347Z
UID:10021794-1827853200-1827862200@gympiersl.com.au
SUMMARY:Community Raffles
DESCRIPTION:Support local groups at our Community Raffles! \nJoin us every Friday and Saturday evenings for a night of prizewinning fun\, with $500 worth of prizes to be won every session! \nTickets:\n$1 for 2 numbers\n$2 for 5 numbers\n$5 for 15 numbers \nTickets on sale from 5pm\, with draws beginning from 7pm.
URL:https://gympiersl.com.au/event/community-raffles/2027-12-03/
LOCATION:Atrium Bistro\, Gympie RSL\, 217 Mary Street\, Gympie\, QLD\, 4570\, Australia
CATEGORIES:All,Community Raffles,Weekly Activities
ATTACH;FMTTYPE=image/jpeg:https://gympiersl.com.au/wp-content/uploads/2024/04/Gympie-RSL_Web-Featured_Community-Raffles.jpg
END:VEVENT
BEGIN:VEVENT
DTSTART;TZID=Australia/Brisbane:20271204T170000
DTEND;TZID=Australia/Brisbane:20271204T193000
DTSTAMP:20260421T084425
CREATED:20240425T234629Z
LAST-MODIFIED:20250210T011347Z
UID:10021795-1827939600-1827948600@gympiersl.com.au
SUMMARY:Community Raffles
DESCRIPTION:Support local groups at our Community Raffles! \nJoin us every Friday and Saturday evenings for a night of prizewinning fun\, with $500 worth of prizes to be won every session! \nTickets:\n$1 for 2 numbers\n$2 for 5 numbers\n$5 for 15 numbers \nTickets on sale from 5pm\, with draws beginning from 7pm.
URL:https://gympiersl.com.au/event/community-raffles/2027-12-04/
LOCATION:Atrium Bistro\, Gympie RSL\, 217 Mary Street\, Gympie\, QLD\, 4570\, Australia
CATEGORIES:All,Community Raffles,Weekly Activities
ATTACH;FMTTYPE=image/jpeg:https://gympiersl.com.au/wp-content/uploads/2024/04/Gympie-RSL_Web-Featured_Community-Raffles.jpg
END:VEVENT
BEGIN:VEVENT
DTSTART;TZID=Australia/Brisbane:20271210T170000
DTEND;TZID=Australia/Brisbane:20271210T193000
DTSTAMP:20260421T084425
CREATED:20240425T234629Z
LAST-MODIFIED:20250210T011347Z
UID:10021796-1828458000-1828467000@gympiersl.com.au
SUMMARY:Community Raffles
DESCRIPTION:Support local groups at our Community Raffles! \nJoin us every Friday and Saturday evenings for a night of prizewinning fun\, with $500 worth of prizes to be won every session! \nTickets:\n$1 for 2 numbers\n$2 for 5 numbers\n$5 for 15 numbers \nTickets on sale from 5pm\, with draws beginning from 7pm.
URL:https://gympiersl.com.au/event/community-raffles/2027-12-10/
LOCATION:Atrium Bistro\, Gympie RSL\, 217 Mary Street\, Gympie\, QLD\, 4570\, Australia
CATEGORIES:All,Community Raffles,Weekly Activities
ATTACH;FMTTYPE=image/jpeg:https://gympiersl.com.au/wp-content/uploads/2024/04/Gympie-RSL_Web-Featured_Community-Raffles.jpg
END:VEVENT
BEGIN:VEVENT
DTSTART;TZID=Australia/Brisbane:20271211T170000
DTEND;TZID=Australia/Brisbane:20271211T193000
DTSTAMP:20260421T084425
CREATED:20240425T234629Z
LAST-MODIFIED:20250210T011347Z
UID:10021797-1828544400-1828553400@gympiersl.com.au
SUMMARY:Community Raffles
DESCRIPTION:Support local groups at our Community Raffles! \nJoin us every Friday and Saturday evenings for a night of prizewinning fun\, with $500 worth of prizes to be won every session! \nTickets:\n$1 for 2 numbers\n$2 for 5 numbers\n$5 for 15 numbers \nTickets on sale from 5pm\, with draws beginning from 7pm.
URL:https://gympiersl.com.au/event/community-raffles/2027-12-11/
LOCATION:Atrium Bistro\, Gympie RSL\, 217 Mary Street\, Gympie\, QLD\, 4570\, Australia
CATEGORIES:All,Community Raffles,Weekly Activities
ATTACH;FMTTYPE=image/jpeg:https://gympiersl.com.au/wp-content/uploads/2024/04/Gympie-RSL_Web-Featured_Community-Raffles.jpg
END:VEVENT
BEGIN:VEVENT
DTSTART;TZID=Australia/Brisbane:20271217T170000
DTEND;TZID=Australia/Brisbane:20271217T193000
DTSTAMP:20260421T084425
CREATED:20240425T234629Z
LAST-MODIFIED:20250210T011347Z
UID:10021798-1829062800-1829071800@gympiersl.com.au
SUMMARY:Community Raffles
DESCRIPTION:Support local groups at our Community Raffles! \nJoin us every Friday and Saturday evenings for a night of prizewinning fun\, with $500 worth of prizes to be won every session! \nTickets:\n$1 for 2 numbers\n$2 for 5 numbers\n$5 for 15 numbers \nTickets on sale from 5pm\, with draws beginning from 7pm.
URL:https://gympiersl.com.au/event/community-raffles/2027-12-17/
LOCATION:Atrium Bistro\, Gympie RSL\, 217 Mary Street\, Gympie\, QLD\, 4570\, Australia
CATEGORIES:All,Community Raffles,Weekly Activities
ATTACH;FMTTYPE=image/jpeg:https://gympiersl.com.au/wp-content/uploads/2024/04/Gympie-RSL_Web-Featured_Community-Raffles.jpg
END:VEVENT
BEGIN:VEVENT
DTSTART;TZID=Australia/Brisbane:20271218T170000
DTEND;TZID=Australia/Brisbane:20271218T193000
DTSTAMP:20260421T084425
CREATED:20240425T234629Z
LAST-MODIFIED:20250210T011347Z
UID:10021799-1829149200-1829158200@gympiersl.com.au
SUMMARY:Community Raffles
DESCRIPTION:Support local groups at our Community Raffles! \nJoin us every Friday and Saturday evenings for a night of prizewinning fun\, with $500 worth of prizes to be won every session! \nTickets:\n$1 for 2 numbers\n$2 for 5 numbers\n$5 for 15 numbers \nTickets on sale from 5pm\, with draws beginning from 7pm.
URL:https://gympiersl.com.au/event/community-raffles/2027-12-18/
LOCATION:Atrium Bistro\, Gympie RSL\, 217 Mary Street\, Gympie\, QLD\, 4570\, Australia
CATEGORIES:All,Community Raffles,Weekly Activities
ATTACH;FMTTYPE=image/jpeg:https://gympiersl.com.au/wp-content/uploads/2024/04/Gympie-RSL_Web-Featured_Community-Raffles.jpg
END:VEVENT
BEGIN:VEVENT
DTSTART;TZID=Australia/Brisbane:20271224T170000
DTEND;TZID=Australia/Brisbane:20271224T193000
DTSTAMP:20260421T084425
CREATED:20240425T234629Z
LAST-MODIFIED:20250210T011347Z
UID:10021800-1829667600-1829676600@gympiersl.com.au
SUMMARY:Community Raffles
DESCRIPTION:Support local groups at our Community Raffles! \nJoin us every Friday and Saturday evenings for a night of prizewinning fun\, with $500 worth of prizes to be won every session! \nTickets:\n$1 for 2 numbers\n$2 for 5 numbers\n$5 for 15 numbers \nTickets on sale from 5pm\, with draws beginning from 7pm.
URL:https://gympiersl.com.au/event/community-raffles/2027-12-24/
LOCATION:Atrium Bistro\, Gympie RSL\, 217 Mary Street\, Gympie\, QLD\, 4570\, Australia
CATEGORIES:All,Community Raffles,Weekly Activities
ATTACH;FMTTYPE=image/jpeg:https://gympiersl.com.au/wp-content/uploads/2024/04/Gympie-RSL_Web-Featured_Community-Raffles.jpg
END:VEVENT
BEGIN:VEVENT
DTSTART;TZID=Australia/Brisbane:20271225T170000
DTEND;TZID=Australia/Brisbane:20271225T193000
DTSTAMP:20260421T084425
CREATED:20240425T234629Z
LAST-MODIFIED:20250210T011347Z
UID:10021801-1829754000-1829763000@gympiersl.com.au
SUMMARY:Community Raffles
DESCRIPTION:Support local groups at our Community Raffles! \nJoin us every Friday and Saturday evenings for a night of prizewinning fun\, with $500 worth of prizes to be won every session! \nTickets:\n$1 for 2 numbers\n$2 for 5 numbers\n$5 for 15 numbers \nTickets on sale from 5pm\, with draws beginning from 7pm.
URL:https://gympiersl.com.au/event/community-raffles/2027-12-25/
LOCATION:Atrium Bistro\, Gympie RSL\, 217 Mary Street\, Gympie\, QLD\, 4570\, Australia
CATEGORIES:All,Community Raffles,Weekly Activities
ATTACH;FMTTYPE=image/jpeg:https://gympiersl.com.au/wp-content/uploads/2024/04/Gympie-RSL_Web-Featured_Community-Raffles.jpg
END:VEVENT
BEGIN:VEVENT
DTSTART;TZID=Australia/Brisbane:20271231T170000
DTEND;TZID=Australia/Brisbane:20271231T193000
DTSTAMP:20260421T084425
CREATED:20240425T234629Z
LAST-MODIFIED:20250210T011347Z
UID:10021802-1830272400-1830281400@gympiersl.com.au
SUMMARY:Community Raffles
DESCRIPTION:Support local groups at our Community Raffles! \nJoin us every Friday and Saturday evenings for a night of prizewinning fun\, with $500 worth of prizes to be won every session! \nTickets:\n$1 for 2 numbers\n$2 for 5 numbers\n$5 for 15 numbers \nTickets on sale from 5pm\, with draws beginning from 7pm.
URL:https://gympiersl.com.au/event/community-raffles/2027-12-31/
LOCATION:Atrium Bistro\, Gympie RSL\, 217 Mary Street\, Gympie\, QLD\, 4570\, Australia
CATEGORIES:All,Community Raffles,Weekly Activities
ATTACH;FMTTYPE=image/jpeg:https://gympiersl.com.au/wp-content/uploads/2024/04/Gympie-RSL_Web-Featured_Community-Raffles.jpg
END:VEVENT
BEGIN:VEVENT
DTSTART;TZID=Australia/Brisbane:20280101T170000
DTEND;TZID=Australia/Brisbane:20280101T193000
DTSTAMP:20260421T084425
CREATED:20240425T234629Z
LAST-MODIFIED:20250210T011347Z
UID:10021803-1830358800-1830367800@gympiersl.com.au
SUMMARY:Community Raffles
DESCRIPTION:Support local groups at our Community Raffles! \nJoin us every Friday and Saturday evenings for a night of prizewinning fun\, with $500 worth of prizes to be won every session! \nTickets:\n$1 for 2 numbers\n$2 for 5 numbers\n$5 for 15 numbers \nTickets on sale from 5pm\, with draws beginning from 7pm.
URL:https://gympiersl.com.au/event/community-raffles/2028-01-01/
LOCATION:Atrium Bistro\, Gympie RSL\, 217 Mary Street\, Gympie\, QLD\, 4570\, Australia
CATEGORIES:All,Community Raffles,Weekly Activities
ATTACH;FMTTYPE=image/jpeg:https://gympiersl.com.au/wp-content/uploads/2024/04/Gympie-RSL_Web-Featured_Community-Raffles.jpg
END:VEVENT
BEGIN:VEVENT
DTSTART;TZID=Australia/Brisbane:20280107T170000
DTEND;TZID=Australia/Brisbane:20280107T193000
DTSTAMP:20260421T084425
CREATED:20240425T234629Z
LAST-MODIFIED:20250210T011347Z
UID:10021804-1830877200-1830886200@gympiersl.com.au
SUMMARY:Community Raffles
DESCRIPTION:Support local groups at our Community Raffles! \nJoin us every Friday and Saturday evenings for a night of prizewinning fun\, with $500 worth of prizes to be won every session! \nTickets:\n$1 for 2 numbers\n$2 for 5 numbers\n$5 for 15 numbers \nTickets on sale from 5pm\, with draws beginning from 7pm.
URL:https://gympiersl.com.au/event/community-raffles/2028-01-07/
LOCATION:Atrium Bistro\, Gympie RSL\, 217 Mary Street\, Gympie\, QLD\, 4570\, Australia
CATEGORIES:All,Community Raffles,Weekly Activities
ATTACH;FMTTYPE=image/jpeg:https://gympiersl.com.au/wp-content/uploads/2024/04/Gympie-RSL_Web-Featured_Community-Raffles.jpg
END:VEVENT
BEGIN:VEVENT
DTSTART;TZID=Australia/Brisbane:20280108T170000
DTEND;TZID=Australia/Brisbane:20280108T193000
DTSTAMP:20260421T084425
CREATED:20240425T234629Z
LAST-MODIFIED:20250210T011347Z
UID:10021805-1830963600-1830972600@gympiersl.com.au
SUMMARY:Community Raffles
DESCRIPTION:Support local groups at our Community Raffles! \nJoin us every Friday and Saturday evenings for a night of prizewinning fun\, with $500 worth of prizes to be won every session! \nTickets:\n$1 for 2 numbers\n$2 for 5 numbers\n$5 for 15 numbers \nTickets on sale from 5pm\, with draws beginning from 7pm.
URL:https://gympiersl.com.au/event/community-raffles/2028-01-08/
LOCATION:Atrium Bistro\, Gympie RSL\, 217 Mary Street\, Gympie\, QLD\, 4570\, Australia
CATEGORIES:All,Community Raffles,Weekly Activities
ATTACH;FMTTYPE=image/jpeg:https://gympiersl.com.au/wp-content/uploads/2024/04/Gympie-RSL_Web-Featured_Community-Raffles.jpg
END:VEVENT
BEGIN:VEVENT
DTSTART;TZID=Australia/Brisbane:20280114T170000
DTEND;TZID=Australia/Brisbane:20280114T193000
DTSTAMP:20260421T084425
CREATED:20240425T234629Z
LAST-MODIFIED:20250210T011347Z
UID:10021806-1831482000-1831491000@gympiersl.com.au
SUMMARY:Community Raffles
DESCRIPTION:Support local groups at our Community Raffles! \nJoin us every Friday and Saturday evenings for a night of prizewinning fun\, with $500 worth of prizes to be won every session! \nTickets:\n$1 for 2 numbers\n$2 for 5 numbers\n$5 for 15 numbers \nTickets on sale from 5pm\, with draws beginning from 7pm.
URL:https://gympiersl.com.au/event/community-raffles/2028-01-14/
LOCATION:Atrium Bistro\, Gympie RSL\, 217 Mary Street\, Gympie\, QLD\, 4570\, Australia
CATEGORIES:All,Community Raffles,Weekly Activities
ATTACH;FMTTYPE=image/jpeg:https://gympiersl.com.au/wp-content/uploads/2024/04/Gympie-RSL_Web-Featured_Community-Raffles.jpg
END:VEVENT
BEGIN:VEVENT
DTSTART;TZID=Australia/Brisbane:20280115T170000
DTEND;TZID=Australia/Brisbane:20280115T193000
DTSTAMP:20260421T084425
CREATED:20240425T234629Z
LAST-MODIFIED:20250210T011347Z
UID:10021807-1831568400-1831577400@gympiersl.com.au
SUMMARY:Community Raffles
DESCRIPTION:Support local groups at our Community Raffles! \nJoin us every Friday and Saturday evenings for a night of prizewinning fun\, with $500 worth of prizes to be won every session! \nTickets:\n$1 for 2 numbers\n$2 for 5 numbers\n$5 for 15 numbers \nTickets on sale from 5pm\, with draws beginning from 7pm.
URL:https://gympiersl.com.au/event/community-raffles/2028-01-15/
LOCATION:Atrium Bistro\, Gympie RSL\, 217 Mary Street\, Gympie\, QLD\, 4570\, Australia
CATEGORIES:All,Community Raffles,Weekly Activities
ATTACH;FMTTYPE=image/jpeg:https://gympiersl.com.au/wp-content/uploads/2024/04/Gympie-RSL_Web-Featured_Community-Raffles.jpg
END:VEVENT
BEGIN:VEVENT
DTSTART;TZID=Australia/Brisbane:20280121T170000
DTEND;TZID=Australia/Brisbane:20280121T193000
DTSTAMP:20260421T084425
CREATED:20240425T234629Z
LAST-MODIFIED:20250210T011347Z
UID:10021808-1832086800-1832095800@gympiersl.com.au
SUMMARY:Community Raffles
DESCRIPTION:Support local groups at our Community Raffles! \nJoin us every Friday and Saturday evenings for a night of prizewinning fun\, with $500 worth of prizes to be won every session! \nTickets:\n$1 for 2 numbers\n$2 for 5 numbers\n$5 for 15 numbers \nTickets on sale from 5pm\, with draws beginning from 7pm.
URL:https://gympiersl.com.au/event/community-raffles/2028-01-21/
LOCATION:Atrium Bistro\, Gympie RSL\, 217 Mary Street\, Gympie\, QLD\, 4570\, Australia
CATEGORIES:All,Community Raffles,Weekly Activities
ATTACH;FMTTYPE=image/jpeg:https://gympiersl.com.au/wp-content/uploads/2024/04/Gympie-RSL_Web-Featured_Community-Raffles.jpg
END:VEVENT
BEGIN:VEVENT
DTSTART;TZID=Australia/Brisbane:20280122T170000
DTEND;TZID=Australia/Brisbane:20280122T193000
DTSTAMP:20260421T084425
CREATED:20240425T234629Z
LAST-MODIFIED:20250210T011347Z
UID:10021809-1832173200-1832182200@gympiersl.com.au
SUMMARY:Community Raffles
DESCRIPTION:Support local groups at our Community Raffles! \nJoin us every Friday and Saturday evenings for a night of prizewinning fun\, with $500 worth of prizes to be won every session! \nTickets:\n$1 for 2 numbers\n$2 for 5 numbers\n$5 for 15 numbers \nTickets on sale from 5pm\, with draws beginning from 7pm.
URL:https://gympiersl.com.au/event/community-raffles/2028-01-22/
LOCATION:Atrium Bistro\, Gympie RSL\, 217 Mary Street\, Gympie\, QLD\, 4570\, Australia
CATEGORIES:All,Community Raffles,Weekly Activities
ATTACH;FMTTYPE=image/jpeg:https://gympiersl.com.au/wp-content/uploads/2024/04/Gympie-RSL_Web-Featured_Community-Raffles.jpg
END:VEVENT
BEGIN:VEVENT
DTSTART;TZID=Australia/Brisbane:20280128T170000
DTEND;TZID=Australia/Brisbane:20280128T193000
DTSTAMP:20260421T084425
CREATED:20240425T234629Z
LAST-MODIFIED:20250210T011347Z
UID:10021810-1832691600-1832700600@gympiersl.com.au
SUMMARY:Community Raffles
DESCRIPTION:Support local groups at our Community Raffles! \nJoin us every Friday and Saturday evenings for a night of prizewinning fun\, with $500 worth of prizes to be won every session! \nTickets:\n$1 for 2 numbers\n$2 for 5 numbers\n$5 for 15 numbers \nTickets on sale from 5pm\, with draws beginning from 7pm.
URL:https://gympiersl.com.au/event/community-raffles/2028-01-28/
LOCATION:Atrium Bistro\, Gympie RSL\, 217 Mary Street\, Gympie\, QLD\, 4570\, Australia
CATEGORIES:All,Community Raffles,Weekly Activities
ATTACH;FMTTYPE=image/jpeg:https://gympiersl.com.au/wp-content/uploads/2024/04/Gympie-RSL_Web-Featured_Community-Raffles.jpg
END:VEVENT
BEGIN:VEVENT
DTSTART;TZID=Australia/Brisbane:20280129T170000
DTEND;TZID=Australia/Brisbane:20280129T193000
DTSTAMP:20260421T084425
CREATED:20240425T234629Z
LAST-MODIFIED:20250210T011347Z
UID:10021811-1832778000-1832787000@gympiersl.com.au
SUMMARY:Community Raffles
DESCRIPTION:Support local groups at our Community Raffles! \nJoin us every Friday and Saturday evenings for a night of prizewinning fun\, with $500 worth of prizes to be won every session! \nTickets:\n$1 for 2 numbers\n$2 for 5 numbers\n$5 for 15 numbers \nTickets on sale from 5pm\, with draws beginning from 7pm.
URL:https://gympiersl.com.au/event/community-raffles/2028-01-29/
LOCATION:Atrium Bistro\, Gympie RSL\, 217 Mary Street\, Gympie\, QLD\, 4570\, Australia
CATEGORIES:All,Community Raffles,Weekly Activities
ATTACH;FMTTYPE=image/jpeg:https://gympiersl.com.au/wp-content/uploads/2024/04/Gympie-RSL_Web-Featured_Community-Raffles.jpg
END:VEVENT
END:VCALENDAR