BEGIN:VCALENDAR
VERSION:2.0
PRODID:-//Gympie RSL - ECPv6.15.20//NONSGML v1.0//EN
CALSCALE:GREGORIAN
METHOD:PUBLISH
X-ORIGINAL-URL:https://gympiersl.com.au
X-WR-CALDESC:Events for Gympie RSL
REFRESH-INTERVAL;VALUE=DURATION:PT1H
X-Robots-Tag:noindex
X-PUBLISHED-TTL:PT1H
BEGIN:VTIMEZONE
TZID:Australia/Brisbane
BEGIN:STANDARD
TZOFFSETFROM:+1000
TZOFFSETTO:+1000
TZNAME:AEST
DTSTART:20260101T000000
END:STANDARD
END:VTIMEZONE
BEGIN:VEVENT
DTSTART;TZID=Australia/Brisbane:20270205T170000
DTEND;TZID=Australia/Brisbane:20270205T193000
DTSTAMP:20260424T002521
CREATED:20240425T234629Z
LAST-MODIFIED:20250210T011347Z
UID:10021708-1801846800-1801855800@gympiersl.com.au
SUMMARY:Community Raffles
DESCRIPTION:Support local groups at our Community Raffles! \nJoin us every Friday and Saturday evenings for a night of prizewinning fun\, with $500 worth of prizes to be won every session! \nTickets:\n$1 for 2 numbers\n$2 for 5 numbers\n$5 for 15 numbers \nTickets on sale from 5pm\, with draws beginning from 7pm.
URL:https://gympiersl.com.au/event/community-raffles/2027-02-05/
LOCATION:Atrium Bistro\, Gympie RSL\, 217 Mary Street\, Gympie\, QLD\, 4570\, Australia
CATEGORIES:All,Community Raffles,Weekly Activities
ATTACH;FMTTYPE=image/jpeg:https://gympiersl.com.au/wp-content/uploads/2024/04/Gympie-RSL_Web-Featured_Community-Raffles.jpg
END:VEVENT
BEGIN:VEVENT
DTSTART;TZID=Australia/Brisbane:20270206T170000
DTEND;TZID=Australia/Brisbane:20270206T193000
DTSTAMP:20260424T002521
CREATED:20240425T234629Z
LAST-MODIFIED:20250210T011347Z
UID:10021709-1801933200-1801942200@gympiersl.com.au
SUMMARY:Community Raffles
DESCRIPTION:Support local groups at our Community Raffles! \nJoin us every Friday and Saturday evenings for a night of prizewinning fun\, with $500 worth of prizes to be won every session! \nTickets:\n$1 for 2 numbers\n$2 for 5 numbers\n$5 for 15 numbers \nTickets on sale from 5pm\, with draws beginning from 7pm.
URL:https://gympiersl.com.au/event/community-raffles/2027-02-06/
LOCATION:Atrium Bistro\, Gympie RSL\, 217 Mary Street\, Gympie\, QLD\, 4570\, Australia
CATEGORIES:All,Community Raffles,Weekly Activities
ATTACH;FMTTYPE=image/jpeg:https://gympiersl.com.au/wp-content/uploads/2024/04/Gympie-RSL_Web-Featured_Community-Raffles.jpg
END:VEVENT
BEGIN:VEVENT
DTSTART;TZID=Australia/Brisbane:20270212T170000
DTEND;TZID=Australia/Brisbane:20270212T193000
DTSTAMP:20260424T002521
CREATED:20240425T234629Z
LAST-MODIFIED:20250210T011347Z
UID:10021710-1802451600-1802460600@gympiersl.com.au
SUMMARY:Community Raffles
DESCRIPTION:Support local groups at our Community Raffles! \nJoin us every Friday and Saturday evenings for a night of prizewinning fun\, with $500 worth of prizes to be won every session! \nTickets:\n$1 for 2 numbers\n$2 for 5 numbers\n$5 for 15 numbers \nTickets on sale from 5pm\, with draws beginning from 7pm.
URL:https://gympiersl.com.au/event/community-raffles/2027-02-12/
LOCATION:Atrium Bistro\, Gympie RSL\, 217 Mary Street\, Gympie\, QLD\, 4570\, Australia
CATEGORIES:All,Community Raffles,Weekly Activities
ATTACH;FMTTYPE=image/jpeg:https://gympiersl.com.au/wp-content/uploads/2024/04/Gympie-RSL_Web-Featured_Community-Raffles.jpg
END:VEVENT
BEGIN:VEVENT
DTSTART;TZID=Australia/Brisbane:20270213T170000
DTEND;TZID=Australia/Brisbane:20270213T193000
DTSTAMP:20260424T002521
CREATED:20240425T234629Z
LAST-MODIFIED:20250210T011347Z
UID:10021711-1802538000-1802547000@gympiersl.com.au
SUMMARY:Community Raffles
DESCRIPTION:Support local groups at our Community Raffles! \nJoin us every Friday and Saturday evenings for a night of prizewinning fun\, with $500 worth of prizes to be won every session! \nTickets:\n$1 for 2 numbers\n$2 for 5 numbers\n$5 for 15 numbers \nTickets on sale from 5pm\, with draws beginning from 7pm.
URL:https://gympiersl.com.au/event/community-raffles/2027-02-13/
LOCATION:Atrium Bistro\, Gympie RSL\, 217 Mary Street\, Gympie\, QLD\, 4570\, Australia
CATEGORIES:All,Community Raffles,Weekly Activities
ATTACH;FMTTYPE=image/jpeg:https://gympiersl.com.au/wp-content/uploads/2024/04/Gympie-RSL_Web-Featured_Community-Raffles.jpg
END:VEVENT
BEGIN:VEVENT
DTSTART;TZID=Australia/Brisbane:20270219T170000
DTEND;TZID=Australia/Brisbane:20270219T193000
DTSTAMP:20260424T002521
CREATED:20240425T234629Z
LAST-MODIFIED:20250210T011347Z
UID:10021712-1803056400-1803065400@gympiersl.com.au
SUMMARY:Community Raffles
DESCRIPTION:Support local groups at our Community Raffles! \nJoin us every Friday and Saturday evenings for a night of prizewinning fun\, with $500 worth of prizes to be won every session! \nTickets:\n$1 for 2 numbers\n$2 for 5 numbers\n$5 for 15 numbers \nTickets on sale from 5pm\, with draws beginning from 7pm.
URL:https://gympiersl.com.au/event/community-raffles/2027-02-19/
LOCATION:Atrium Bistro\, Gympie RSL\, 217 Mary Street\, Gympie\, QLD\, 4570\, Australia
CATEGORIES:All,Community Raffles,Weekly Activities
ATTACH;FMTTYPE=image/jpeg:https://gympiersl.com.au/wp-content/uploads/2024/04/Gympie-RSL_Web-Featured_Community-Raffles.jpg
END:VEVENT
BEGIN:VEVENT
DTSTART;TZID=Australia/Brisbane:20270220T170000
DTEND;TZID=Australia/Brisbane:20270220T193000
DTSTAMP:20260424T002521
CREATED:20240425T234629Z
LAST-MODIFIED:20250210T011347Z
UID:10021713-1803142800-1803151800@gympiersl.com.au
SUMMARY:Community Raffles
DESCRIPTION:Support local groups at our Community Raffles! \nJoin us every Friday and Saturday evenings for a night of prizewinning fun\, with $500 worth of prizes to be won every session! \nTickets:\n$1 for 2 numbers\n$2 for 5 numbers\n$5 for 15 numbers \nTickets on sale from 5pm\, with draws beginning from 7pm.
URL:https://gympiersl.com.au/event/community-raffles/2027-02-20/
LOCATION:Atrium Bistro\, Gympie RSL\, 217 Mary Street\, Gympie\, QLD\, 4570\, Australia
CATEGORIES:All,Community Raffles,Weekly Activities
ATTACH;FMTTYPE=image/jpeg:https://gympiersl.com.au/wp-content/uploads/2024/04/Gympie-RSL_Web-Featured_Community-Raffles.jpg
END:VEVENT
BEGIN:VEVENT
DTSTART;TZID=Australia/Brisbane:20270226T170000
DTEND;TZID=Australia/Brisbane:20270226T193000
DTSTAMP:20260424T002521
CREATED:20240425T234629Z
LAST-MODIFIED:20250210T011347Z
UID:10021714-1803661200-1803670200@gympiersl.com.au
SUMMARY:Community Raffles
DESCRIPTION:Support local groups at our Community Raffles! \nJoin us every Friday and Saturday evenings for a night of prizewinning fun\, with $500 worth of prizes to be won every session! \nTickets:\n$1 for 2 numbers\n$2 for 5 numbers\n$5 for 15 numbers \nTickets on sale from 5pm\, with draws beginning from 7pm.
URL:https://gympiersl.com.au/event/community-raffles/2027-02-26/
LOCATION:Atrium Bistro\, Gympie RSL\, 217 Mary Street\, Gympie\, QLD\, 4570\, Australia
CATEGORIES:All,Community Raffles,Weekly Activities
ATTACH;FMTTYPE=image/jpeg:https://gympiersl.com.au/wp-content/uploads/2024/04/Gympie-RSL_Web-Featured_Community-Raffles.jpg
END:VEVENT
BEGIN:VEVENT
DTSTART;TZID=Australia/Brisbane:20270227T170000
DTEND;TZID=Australia/Brisbane:20270227T193000
DTSTAMP:20260424T002521
CREATED:20240425T234629Z
LAST-MODIFIED:20250210T011347Z
UID:10021715-1803747600-1803756600@gympiersl.com.au
SUMMARY:Community Raffles
DESCRIPTION:Support local groups at our Community Raffles! \nJoin us every Friday and Saturday evenings for a night of prizewinning fun\, with $500 worth of prizes to be won every session! \nTickets:\n$1 for 2 numbers\n$2 for 5 numbers\n$5 for 15 numbers \nTickets on sale from 5pm\, with draws beginning from 7pm.
URL:https://gympiersl.com.au/event/community-raffles/2027-02-27/
LOCATION:Atrium Bistro\, Gympie RSL\, 217 Mary Street\, Gympie\, QLD\, 4570\, Australia
CATEGORIES:All,Community Raffles,Weekly Activities
ATTACH;FMTTYPE=image/jpeg:https://gympiersl.com.au/wp-content/uploads/2024/04/Gympie-RSL_Web-Featured_Community-Raffles.jpg
END:VEVENT
END:VCALENDAR