BEGIN:VCALENDAR
VERSION:2.0
PRODID:-//Gympie RSL - ECPv6.15.20//NONSGML v1.0//EN
CALSCALE:GREGORIAN
METHOD:PUBLISH
X-ORIGINAL-URL:https://gympiersl.com.au
X-WR-CALDESC:Events for Gympie RSL
REFRESH-INTERVAL;VALUE=DURATION:PT1H
X-Robots-Tag:noindex
X-PUBLISHED-TTL:PT1H
BEGIN:VTIMEZONE
TZID:Australia/Brisbane
BEGIN:STANDARD
TZOFFSETFROM:+1000
TZOFFSETTO:+1000
TZNAME:AEST
DTSTART:20240101T000000
END:STANDARD
END:VTIMEZONE
BEGIN:VEVENT
DTSTART;TZID=Australia/Brisbane:20251101T170000
DTEND;TZID=Australia/Brisbane:20251101T193000
DTSTAMP:20260420T115953
CREATED:20240425T234629Z
LAST-MODIFIED:20250210T011347Z
UID:10021577-1762016400-1762025400@gympiersl.com.au
SUMMARY:Community Raffles
DESCRIPTION:Support local groups at our Community Raffles! \nJoin us every Friday and Saturday evenings for a night of prizewinning fun\, with $500 worth of prizes to be won every session! \nTickets:\n$1 for 2 numbers\n$2 for 5 numbers\n$5 for 15 numbers \nTickets on sale from 5pm\, with draws beginning from 7pm.
URL:https://gympiersl.com.au/event/community-raffles/2025-11-01/
LOCATION:Atrium Bistro\, Gympie RSL\, 217 Mary Street\, Gympie\, QLD\, 4570\, Australia
CATEGORIES:All,Community Raffles,Weekly Activities
ATTACH;FMTTYPE=image/jpeg:https://gympiersl.com.au/wp-content/uploads/2024/04/Gympie-RSL_Web-Featured_Community-Raffles.jpg
END:VEVENT
BEGIN:VEVENT
DTSTART;TZID=Australia/Brisbane:20251107T170000
DTEND;TZID=Australia/Brisbane:20251107T193000
DTSTAMP:20260420T115953
CREATED:20240425T234629Z
LAST-MODIFIED:20250210T011347Z
UID:10021578-1762534800-1762543800@gympiersl.com.au
SUMMARY:Community Raffles
DESCRIPTION:Support local groups at our Community Raffles! \nJoin us every Friday and Saturday evenings for a night of prizewinning fun\, with $500 worth of prizes to be won every session! \nTickets:\n$1 for 2 numbers\n$2 for 5 numbers\n$5 for 15 numbers \nTickets on sale from 5pm\, with draws beginning from 7pm.
URL:https://gympiersl.com.au/event/community-raffles/2025-11-07/
LOCATION:Atrium Bistro\, Gympie RSL\, 217 Mary Street\, Gympie\, QLD\, 4570\, Australia
CATEGORIES:All,Community Raffles,Weekly Activities
ATTACH;FMTTYPE=image/jpeg:https://gympiersl.com.au/wp-content/uploads/2024/04/Gympie-RSL_Web-Featured_Community-Raffles.jpg
END:VEVENT
BEGIN:VEVENT
DTSTART;TZID=Australia/Brisbane:20251108T170000
DTEND;TZID=Australia/Brisbane:20251108T193000
DTSTAMP:20260420T115953
CREATED:20240425T234629Z
LAST-MODIFIED:20250210T011347Z
UID:10021579-1762621200-1762630200@gympiersl.com.au
SUMMARY:Community Raffles
DESCRIPTION:Support local groups at our Community Raffles! \nJoin us every Friday and Saturday evenings for a night of prizewinning fun\, with $500 worth of prizes to be won every session! \nTickets:\n$1 for 2 numbers\n$2 for 5 numbers\n$5 for 15 numbers \nTickets on sale from 5pm\, with draws beginning from 7pm.
URL:https://gympiersl.com.au/event/community-raffles/2025-11-08/
LOCATION:Atrium Bistro\, Gympie RSL\, 217 Mary Street\, Gympie\, QLD\, 4570\, Australia
CATEGORIES:All,Community Raffles,Weekly Activities
ATTACH;FMTTYPE=image/jpeg:https://gympiersl.com.au/wp-content/uploads/2024/04/Gympie-RSL_Web-Featured_Community-Raffles.jpg
END:VEVENT
BEGIN:VEVENT
DTSTART;TZID=Australia/Brisbane:20251114T170000
DTEND;TZID=Australia/Brisbane:20251114T193000
DTSTAMP:20260420T115953
CREATED:20240425T234629Z
LAST-MODIFIED:20250210T011347Z
UID:10021580-1763139600-1763148600@gympiersl.com.au
SUMMARY:Community Raffles
DESCRIPTION:Support local groups at our Community Raffles! \nJoin us every Friday and Saturday evenings for a night of prizewinning fun\, with $500 worth of prizes to be won every session! \nTickets:\n$1 for 2 numbers\n$2 for 5 numbers\n$5 for 15 numbers \nTickets on sale from 5pm\, with draws beginning from 7pm.
URL:https://gympiersl.com.au/event/community-raffles/2025-11-14/
LOCATION:Atrium Bistro\, Gympie RSL\, 217 Mary Street\, Gympie\, QLD\, 4570\, Australia
CATEGORIES:All,Community Raffles,Weekly Activities
ATTACH;FMTTYPE=image/jpeg:https://gympiersl.com.au/wp-content/uploads/2024/04/Gympie-RSL_Web-Featured_Community-Raffles.jpg
END:VEVENT
BEGIN:VEVENT
DTSTART;TZID=Australia/Brisbane:20251115T170000
DTEND;TZID=Australia/Brisbane:20251115T193000
DTSTAMP:20260420T115953
CREATED:20240425T234629Z
LAST-MODIFIED:20250210T011347Z
UID:10021581-1763226000-1763235000@gympiersl.com.au
SUMMARY:Community Raffles
DESCRIPTION:Support local groups at our Community Raffles! \nJoin us every Friday and Saturday evenings for a night of prizewinning fun\, with $500 worth of prizes to be won every session! \nTickets:\n$1 for 2 numbers\n$2 for 5 numbers\n$5 for 15 numbers \nTickets on sale from 5pm\, with draws beginning from 7pm.
URL:https://gympiersl.com.au/event/community-raffles/2025-11-15/
LOCATION:Atrium Bistro\, Gympie RSL\, 217 Mary Street\, Gympie\, QLD\, 4570\, Australia
CATEGORIES:All,Community Raffles,Weekly Activities
ATTACH;FMTTYPE=image/jpeg:https://gympiersl.com.au/wp-content/uploads/2024/04/Gympie-RSL_Web-Featured_Community-Raffles.jpg
END:VEVENT
BEGIN:VEVENT
DTSTART;TZID=Australia/Brisbane:20251121T170000
DTEND;TZID=Australia/Brisbane:20251121T193000
DTSTAMP:20260420T115953
CREATED:20240425T234629Z
LAST-MODIFIED:20250210T011347Z
UID:10021582-1763744400-1763753400@gympiersl.com.au
SUMMARY:Community Raffles
DESCRIPTION:Support local groups at our Community Raffles! \nJoin us every Friday and Saturday evenings for a night of prizewinning fun\, with $500 worth of prizes to be won every session! \nTickets:\n$1 for 2 numbers\n$2 for 5 numbers\n$5 for 15 numbers \nTickets on sale from 5pm\, with draws beginning from 7pm.
URL:https://gympiersl.com.au/event/community-raffles/2025-11-21/
LOCATION:Atrium Bistro\, Gympie RSL\, 217 Mary Street\, Gympie\, QLD\, 4570\, Australia
CATEGORIES:All,Community Raffles,Weekly Activities
ATTACH;FMTTYPE=image/jpeg:https://gympiersl.com.au/wp-content/uploads/2024/04/Gympie-RSL_Web-Featured_Community-Raffles.jpg
END:VEVENT
BEGIN:VEVENT
DTSTART;TZID=Australia/Brisbane:20251122T170000
DTEND;TZID=Australia/Brisbane:20251122T193000
DTSTAMP:20260420T115953
CREATED:20240425T234629Z
LAST-MODIFIED:20250210T011347Z
UID:10021583-1763830800-1763839800@gympiersl.com.au
SUMMARY:Community Raffles
DESCRIPTION:Support local groups at our Community Raffles! \nJoin us every Friday and Saturday evenings for a night of prizewinning fun\, with $500 worth of prizes to be won every session! \nTickets:\n$1 for 2 numbers\n$2 for 5 numbers\n$5 for 15 numbers \nTickets on sale from 5pm\, with draws beginning from 7pm.
URL:https://gympiersl.com.au/event/community-raffles/2025-11-22/
LOCATION:Atrium Bistro\, Gympie RSL\, 217 Mary Street\, Gympie\, QLD\, 4570\, Australia
CATEGORIES:All,Community Raffles,Weekly Activities
ATTACH;FMTTYPE=image/jpeg:https://gympiersl.com.au/wp-content/uploads/2024/04/Gympie-RSL_Web-Featured_Community-Raffles.jpg
END:VEVENT
BEGIN:VEVENT
DTSTART;TZID=Australia/Brisbane:20251128T170000
DTEND;TZID=Australia/Brisbane:20251128T193000
DTSTAMP:20260420T115953
CREATED:20240425T234629Z
LAST-MODIFIED:20250210T011347Z
UID:10021584-1764349200-1764358200@gympiersl.com.au
SUMMARY:Community Raffles
DESCRIPTION:Support local groups at our Community Raffles! \nJoin us every Friday and Saturday evenings for a night of prizewinning fun\, with $500 worth of prizes to be won every session! \nTickets:\n$1 for 2 numbers\n$2 for 5 numbers\n$5 for 15 numbers \nTickets on sale from 5pm\, with draws beginning from 7pm.
URL:https://gympiersl.com.au/event/community-raffles/2025-11-28/
LOCATION:Atrium Bistro\, Gympie RSL\, 217 Mary Street\, Gympie\, QLD\, 4570\, Australia
CATEGORIES:All,Community Raffles,Weekly Activities
ATTACH;FMTTYPE=image/jpeg:https://gympiersl.com.au/wp-content/uploads/2024/04/Gympie-RSL_Web-Featured_Community-Raffles.jpg
END:VEVENT
BEGIN:VEVENT
DTSTART;TZID=Australia/Brisbane:20251129T170000
DTEND;TZID=Australia/Brisbane:20251129T193000
DTSTAMP:20260420T115953
CREATED:20240425T234629Z
LAST-MODIFIED:20250210T011347Z
UID:10021585-1764435600-1764444600@gympiersl.com.au
SUMMARY:Community Raffles
DESCRIPTION:Support local groups at our Community Raffles! \nJoin us every Friday and Saturday evenings for a night of prizewinning fun\, with $500 worth of prizes to be won every session! \nTickets:\n$1 for 2 numbers\n$2 for 5 numbers\n$5 for 15 numbers \nTickets on sale from 5pm\, with draws beginning from 7pm.
URL:https://gympiersl.com.au/event/community-raffles/2025-11-29/
LOCATION:Atrium Bistro\, Gympie RSL\, 217 Mary Street\, Gympie\, QLD\, 4570\, Australia
CATEGORIES:All,Community Raffles,Weekly Activities
ATTACH;FMTTYPE=image/jpeg:https://gympiersl.com.au/wp-content/uploads/2024/04/Gympie-RSL_Web-Featured_Community-Raffles.jpg
END:VEVENT
END:VCALENDAR