BEGIN:VCALENDAR
VERSION:2.0
PRODID:-//Gympie RSL - ECPv6.15.20//NONSGML v1.0//EN
CALSCALE:GREGORIAN
METHOD:PUBLISH
X-ORIGINAL-URL:https://gympiersl.com.au
X-WR-CALDESC:Events for Gympie RSL
REFRESH-INTERVAL;VALUE=DURATION:PT1H
X-Robots-Tag:noindex
X-PUBLISHED-TTL:PT1H
BEGIN:VTIMEZONE
TZID:Australia/Brisbane
BEGIN:STANDARD
TZOFFSETFROM:+1000
TZOFFSETTO:+1000
TZNAME:AEST
DTSTART:20240101T000000
END:STANDARD
END:VTIMEZONE
BEGIN:VEVENT
DTSTART;TZID=Australia/Brisbane:20250201T130000
DTEND;TZID=Australia/Brisbane:20250201T170000
DTSTAMP:20260423T135107
CREATED:20240412T000258Z
LAST-MODIFIED:20240429T050541Z
UID:10008857-1738414800-1738429200@gympiersl.com.au
SUMMARY:The Big Spin
DESCRIPTION:Spin to WIN!\nSpin the big wheel every Saturday at Gympie RSL for your chance to win up to $200 cash! \n6 x lucky members will be drawn to play The Big Spin from 2pm. \nPLUS… bonuses for Double Diamond\, Diamond\, Sapphire & Emerald members! \nEnter every Saturday from 1pm with every $5 play on the gaming machines with your membership card inserted. \nTerms and Conditions apply.
URL:https://gympiersl.com.au/event/the-big-spin/2025-02-01/
LOCATION:Gympie RSL
CATEGORIES:All,Promotions,Weekly Promotions
ATTACH;FMTTYPE=image/jpeg:https://gympiersl.com.au/wp-content/uploads/2024/04/Gympie-RSL_Web-Featured_The-Big-Spin.jpg
END:VEVENT
BEGIN:VEVENT
DTSTART;TZID=Australia/Brisbane:20250202T140000
DTEND;TZID=Australia/Brisbane:20250202T163000
DTSTAMP:20260423T135107
CREATED:20241206T050600Z
LAST-MODIFIED:20250129T000754Z
UID:10020988-1738504800-1738513800@gympiersl.com.au
SUMMARY:Rainbow Riches
DESCRIPTION:Get ready for an exciting promotion at Gympie RSL! From Tuesday\, 28th January to Sunday\, 30th March\, you could uncover Rainbow Riches and take home incredible prizes. \nEach week\, 6 lucky members will win up to $750 cash each\, with draws held every Sunday from 2pm – 4.30pm. Plus\, if you find one or more rainbows\, you’ll score a $250 bonus! \nWeekly Draws:  \nSunday 2nd February \nSunday 9th February \nSunday 16th February \nSunday 23rd February \nSunday 2nd March \nSunday 9th March \nSunday 16th March \nSunday 23rd March \nSunday 30th March \nEarn entries by spending $10 on gaming play or spending $5 on food and beverages. \nDon’t miss your opportunity to discover Rainbow Riches and win big at Gympie RSL.
URL:https://gympiersl.com.au/event/rainbow-riches/2025-02-02/
CATEGORIES:All,Promotions,Weekly Promotions
ATTACH;FMTTYPE=image/jpeg:https://gympiersl.com.au/wp-content/uploads/2024/12/Gympie-RSL-Rainbow-Riches_Website-Event-featured-image.jpg
END:VEVENT
BEGIN:VEVENT
DTSTART;TZID=Australia/Brisbane:20250204T120000
DTEND;TZID=Australia/Brisbane:20250204T143000
DTSTAMP:20260423T135107
CREATED:20240715T000349Z
LAST-MODIFIED:20260116T035914Z
UID:10018713-1738670400-1738679400@gympiersl.com.au
SUMMARY:Winning Wheels
DESCRIPTION:Join us every Tuesday from 12pm for our new weekly gaming promotion\, Winning Wheels! \nEvery Tuesday\, 6 x members will have the chance to win up to $350 cash each. \nIn this interactive game\, members will choose three carriages from the game board to collect their cash prizes. Find a train carriage with golden wheels\, and you’ll get to pick an extra card for each one found. \nEnter with $5 play on the gaming machines from 11am every Tuesday.
URL:https://gympiersl.com.au/event/winning-wheels/2025-02-04/
LOCATION:Gympie RSL
CATEGORIES:Promotions,Weekly Promotions
ATTACH;FMTTYPE=image/jpeg:https://gympiersl.com.au/wp-content/uploads/2024/07/Gympie-RSL-Winning-Wheels_Website-Event-featured-image.jpg
END:VEVENT
BEGIN:VEVENT
DTSTART;TZID=Australia/Brisbane:20250205T133000
DTEND;TZID=Australia/Brisbane:20250205T153000
DTSTAMP:20260423T135107
CREATED:20240425T232257Z
LAST-MODIFIED:20240429T045456Z
UID:10010943-1738762200-1738769400@gympiersl.com.au
SUMMARY:Grocery Grab
DESCRIPTION:Grab your groceries for the week at Gympie RSL!\nJoin us every Wednesday for our Grocery Grab promotion! \n12 x members will be drawn to choose from $500 worth of groceries and cash! \nAt each draw\, a random number will be drawn. If a member is playing the corresponding gaming machine with credits\, they will be announced a winner! \nWinners will choose anywhere up to 8 grocery items + cash\, depending on their draw time*. The final winner of the day will win all remaining grocery items and $50 cash! \nEnter every Wednesday from 1:30pm by playing the gaming machines with membership card inserted. \nDraws every 10 minutes from 1:30pm. \nT&C’s apply. Gamble Responsibly. \n*Prizes corresponding with draw times can be viewed in the T&C’s on display at the time and place of the Grocery Grab draws.
URL:https://gympiersl.com.au/event/grocery-grab/2025-02-05/
LOCATION:Veteran Services Centre\, 39 Monkland Street\, Gympie\, QLD\, 4570\, Australia
CATEGORIES:All,Promotions,Weekly Promotions
ATTACH;FMTTYPE=image/jpeg:https://gympiersl.com.au/wp-content/uploads/2024/04/Gympie-RSL_Web-Featured_Grocery-Grab.jpg
END:VEVENT
BEGIN:VEVENT
DTSTART;TZID=Australia/Brisbane:20250205T184500
DTEND;TZID=Australia/Brisbane:20250205T200000
DTSTAMP:20260423T135107
CREATED:20240425T233223Z
LAST-MODIFIED:20240429T050639Z
UID:10011204-1738781100-1738785600@gympiersl.com.au
SUMMARY:Members Cash Draw
DESCRIPTION:Join us every Wednesday for our Members Cash Draws! \nEvery Wednesday night we’re drawing one lucky members for our major jackpot starting at $500 and increasing by $100 each week\, if not won! \nDraws start at 6:45pm with 2 consolation draws each week for a $50 gift card. \nThe perfect midweek celebration at Gympie RSL! \nSwipe at kiosks for free entry. \nT&C’s apply.
URL:https://gympiersl.com.au/event/members-cash-draw/2025-02-05/
LOCATION:Gympie RSL
CATEGORIES:All,Members Draws,Promotions,Weekly Promotions
ATTACH;FMTTYPE=image/jpeg:https://gympiersl.com.au/wp-content/uploads/2024/04/Gympie-RSL_Web-Featured_Members-Cash-Draw.jpg
END:VEVENT
BEGIN:VEVENT
DTSTART;TZID=Australia/Brisbane:20250207T120000
DTEND;TZID=Australia/Brisbane:20250207T143000
DTSTAMP:20260423T135107
CREATED:20240714T234928Z
LAST-MODIFIED:20260116T035717Z
UID:10018455-1738929600-1738938600@gympiersl.com.au
SUMMARY:Dice Dash
DESCRIPTION:Join us every Friday from 12pm for our exciting new weekly gaming promotion\, Dice Dash! \nEvery Friday\, 6 x members will have the chance to play for up to $200 cash each. \nIn this interactive game\, members will place six (6) game cards on the game board next to the sides of the dice before they roll. \nAfter rolling the dice\, see what cash prize corresponds to your roll. Roll the same number again\, to win a $50 jackpot on top of your winnings. \nEnter with $5 play on the gaming machines from 11am every Friday.
URL:https://gympiersl.com.au/event/dice-dash/2025-02-07/
LOCATION:Gympie RSL
CATEGORIES:Promotions,Weekly Promotions
ATTACH;FMTTYPE=image/jpeg:https://gympiersl.com.au/wp-content/uploads/2024/07/Gympie-RSL-Dice-Dash_Website-Event-featured-image.jpg
END:VEVENT
BEGIN:VEVENT
DTSTART;TZID=Australia/Brisbane:20250208T130000
DTEND;TZID=Australia/Brisbane:20250208T170000
DTSTAMP:20260423T135107
CREATED:20240412T000258Z
LAST-MODIFIED:20240429T050541Z
UID:10008858-1739019600-1739034000@gympiersl.com.au
SUMMARY:The Big Spin
DESCRIPTION:Spin to WIN!\nSpin the big wheel every Saturday at Gympie RSL for your chance to win up to $200 cash! \n6 x lucky members will be drawn to play The Big Spin from 2pm. \nPLUS… bonuses for Double Diamond\, Diamond\, Sapphire & Emerald members! \nEnter every Saturday from 1pm with every $5 play on the gaming machines with your membership card inserted. \nTerms and Conditions apply.
URL:https://gympiersl.com.au/event/the-big-spin/2025-02-08/
LOCATION:Gympie RSL
CATEGORIES:All,Promotions,Weekly Promotions
ATTACH;FMTTYPE=image/jpeg:https://gympiersl.com.au/wp-content/uploads/2024/04/Gympie-RSL_Web-Featured_The-Big-Spin.jpg
END:VEVENT
BEGIN:VEVENT
DTSTART;TZID=Australia/Brisbane:20250209T140000
DTEND;TZID=Australia/Brisbane:20250209T163000
DTSTAMP:20260423T135107
CREATED:20241206T050600Z
LAST-MODIFIED:20250129T000754Z
UID:10020989-1739109600-1739118600@gympiersl.com.au
SUMMARY:Rainbow Riches
DESCRIPTION:Get ready for an exciting promotion at Gympie RSL! From Tuesday\, 28th January to Sunday\, 30th March\, you could uncover Rainbow Riches and take home incredible prizes. \nEach week\, 6 lucky members will win up to $750 cash each\, with draws held every Sunday from 2pm – 4.30pm. Plus\, if you find one or more rainbows\, you’ll score a $250 bonus! \nWeekly Draws:  \nSunday 2nd February \nSunday 9th February \nSunday 16th February \nSunday 23rd February \nSunday 2nd March \nSunday 9th March \nSunday 16th March \nSunday 23rd March \nSunday 30th March \nEarn entries by spending $10 on gaming play or spending $5 on food and beverages. \nDon’t miss your opportunity to discover Rainbow Riches and win big at Gympie RSL.
URL:https://gympiersl.com.au/event/rainbow-riches/2025-02-09/
CATEGORIES:All,Promotions,Weekly Promotions
ATTACH;FMTTYPE=image/jpeg:https://gympiersl.com.au/wp-content/uploads/2024/12/Gympie-RSL-Rainbow-Riches_Website-Event-featured-image.jpg
END:VEVENT
BEGIN:VEVENT
DTSTART;TZID=Australia/Brisbane:20250211T120000
DTEND;TZID=Australia/Brisbane:20250211T143000
DTSTAMP:20260423T135107
CREATED:20240715T000349Z
LAST-MODIFIED:20260116T035914Z
UID:10018714-1739275200-1739284200@gympiersl.com.au
SUMMARY:Winning Wheels
DESCRIPTION:Join us every Tuesday from 12pm for our new weekly gaming promotion\, Winning Wheels! \nEvery Tuesday\, 6 x members will have the chance to win up to $350 cash each. \nIn this interactive game\, members will choose three carriages from the game board to collect their cash prizes. Find a train carriage with golden wheels\, and you’ll get to pick an extra card for each one found. \nEnter with $5 play on the gaming machines from 11am every Tuesday.
URL:https://gympiersl.com.au/event/winning-wheels/2025-02-11/
LOCATION:Gympie RSL
CATEGORIES:Promotions,Weekly Promotions
ATTACH;FMTTYPE=image/jpeg:https://gympiersl.com.au/wp-content/uploads/2024/07/Gympie-RSL-Winning-Wheels_Website-Event-featured-image.jpg
END:VEVENT
BEGIN:VEVENT
DTSTART;TZID=Australia/Brisbane:20250212T133000
DTEND;TZID=Australia/Brisbane:20250212T153000
DTSTAMP:20260423T135107
CREATED:20240425T232257Z
LAST-MODIFIED:20240429T045456Z
UID:10010944-1739367000-1739374200@gympiersl.com.au
SUMMARY:Grocery Grab
DESCRIPTION:Grab your groceries for the week at Gympie RSL!\nJoin us every Wednesday for our Grocery Grab promotion! \n12 x members will be drawn to choose from $500 worth of groceries and cash! \nAt each draw\, a random number will be drawn. If a member is playing the corresponding gaming machine with credits\, they will be announced a winner! \nWinners will choose anywhere up to 8 grocery items + cash\, depending on their draw time*. The final winner of the day will win all remaining grocery items and $50 cash! \nEnter every Wednesday from 1:30pm by playing the gaming machines with membership card inserted. \nDraws every 10 minutes from 1:30pm. \nT&C’s apply. Gamble Responsibly. \n*Prizes corresponding with draw times can be viewed in the T&C’s on display at the time and place of the Grocery Grab draws.
URL:https://gympiersl.com.au/event/grocery-grab/2025-02-12/
LOCATION:Veteran Services Centre\, 39 Monkland Street\, Gympie\, QLD\, 4570\, Australia
CATEGORIES:All,Promotions,Weekly Promotions
ATTACH;FMTTYPE=image/jpeg:https://gympiersl.com.au/wp-content/uploads/2024/04/Gympie-RSL_Web-Featured_Grocery-Grab.jpg
END:VEVENT
BEGIN:VEVENT
DTSTART;TZID=Australia/Brisbane:20250212T184500
DTEND;TZID=Australia/Brisbane:20250212T200000
DTSTAMP:20260423T135107
CREATED:20240425T233223Z
LAST-MODIFIED:20240429T050639Z
UID:10011205-1739385900-1739390400@gympiersl.com.au
SUMMARY:Members Cash Draw
DESCRIPTION:Join us every Wednesday for our Members Cash Draws! \nEvery Wednesday night we’re drawing one lucky members for our major jackpot starting at $500 and increasing by $100 each week\, if not won! \nDraws start at 6:45pm with 2 consolation draws each week for a $50 gift card. \nThe perfect midweek celebration at Gympie RSL! \nSwipe at kiosks for free entry. \nT&C’s apply.
URL:https://gympiersl.com.au/event/members-cash-draw/2025-02-12/
LOCATION:Gympie RSL
CATEGORIES:All,Members Draws,Promotions,Weekly Promotions
ATTACH;FMTTYPE=image/jpeg:https://gympiersl.com.au/wp-content/uploads/2024/04/Gympie-RSL_Web-Featured_Members-Cash-Draw.jpg
END:VEVENT
BEGIN:VEVENT
DTSTART;TZID=Australia/Brisbane:20250214T120000
DTEND;TZID=Australia/Brisbane:20250214T143000
DTSTAMP:20260423T135107
CREATED:20240714T234928Z
LAST-MODIFIED:20260116T035717Z
UID:10018456-1739534400-1739543400@gympiersl.com.au
SUMMARY:Dice Dash
DESCRIPTION:Join us every Friday from 12pm for our exciting new weekly gaming promotion\, Dice Dash! \nEvery Friday\, 6 x members will have the chance to play for up to $200 cash each. \nIn this interactive game\, members will place six (6) game cards on the game board next to the sides of the dice before they roll. \nAfter rolling the dice\, see what cash prize corresponds to your roll. Roll the same number again\, to win a $50 jackpot on top of your winnings. \nEnter with $5 play on the gaming machines from 11am every Friday.
URL:https://gympiersl.com.au/event/dice-dash/2025-02-14/
LOCATION:Gympie RSL
CATEGORIES:Promotions,Weekly Promotions
ATTACH;FMTTYPE=image/jpeg:https://gympiersl.com.au/wp-content/uploads/2024/07/Gympie-RSL-Dice-Dash_Website-Event-featured-image.jpg
END:VEVENT
BEGIN:VEVENT
DTSTART;TZID=Australia/Brisbane:20250215T130000
DTEND;TZID=Australia/Brisbane:20250215T170000
DTSTAMP:20260423T135107
CREATED:20240412T000258Z
LAST-MODIFIED:20240429T050541Z
UID:10008859-1739624400-1739638800@gympiersl.com.au
SUMMARY:The Big Spin
DESCRIPTION:Spin to WIN!\nSpin the big wheel every Saturday at Gympie RSL for your chance to win up to $200 cash! \n6 x lucky members will be drawn to play The Big Spin from 2pm. \nPLUS… bonuses for Double Diamond\, Diamond\, Sapphire & Emerald members! \nEnter every Saturday from 1pm with every $5 play on the gaming machines with your membership card inserted. \nTerms and Conditions apply.
URL:https://gympiersl.com.au/event/the-big-spin/2025-02-15/
LOCATION:Gympie RSL
CATEGORIES:All,Promotions,Weekly Promotions
ATTACH;FMTTYPE=image/jpeg:https://gympiersl.com.au/wp-content/uploads/2024/04/Gympie-RSL_Web-Featured_The-Big-Spin.jpg
END:VEVENT
BEGIN:VEVENT
DTSTART;TZID=Australia/Brisbane:20250216T140000
DTEND;TZID=Australia/Brisbane:20250216T163000
DTSTAMP:20260423T135107
CREATED:20241206T050600Z
LAST-MODIFIED:20250129T000754Z
UID:10020990-1739714400-1739723400@gympiersl.com.au
SUMMARY:Rainbow Riches
DESCRIPTION:Get ready for an exciting promotion at Gympie RSL! From Tuesday\, 28th January to Sunday\, 30th March\, you could uncover Rainbow Riches and take home incredible prizes. \nEach week\, 6 lucky members will win up to $750 cash each\, with draws held every Sunday from 2pm – 4.30pm. Plus\, if you find one or more rainbows\, you’ll score a $250 bonus! \nWeekly Draws:  \nSunday 2nd February \nSunday 9th February \nSunday 16th February \nSunday 23rd February \nSunday 2nd March \nSunday 9th March \nSunday 16th March \nSunday 23rd March \nSunday 30th March \nEarn entries by spending $10 on gaming play or spending $5 on food and beverages. \nDon’t miss your opportunity to discover Rainbow Riches and win big at Gympie RSL.
URL:https://gympiersl.com.au/event/rainbow-riches/2025-02-16/
CATEGORIES:All,Promotions,Weekly Promotions
ATTACH;FMTTYPE=image/jpeg:https://gympiersl.com.au/wp-content/uploads/2024/12/Gympie-RSL-Rainbow-Riches_Website-Event-featured-image.jpg
END:VEVENT
BEGIN:VEVENT
DTSTART;TZID=Australia/Brisbane:20250218T120000
DTEND;TZID=Australia/Brisbane:20250218T143000
DTSTAMP:20260423T135107
CREATED:20240715T000349Z
LAST-MODIFIED:20260116T035914Z
UID:10018715-1739880000-1739889000@gympiersl.com.au
SUMMARY:Winning Wheels
DESCRIPTION:Join us every Tuesday from 12pm for our new weekly gaming promotion\, Winning Wheels! \nEvery Tuesday\, 6 x members will have the chance to win up to $350 cash each. \nIn this interactive game\, members will choose three carriages from the game board to collect their cash prizes. Find a train carriage with golden wheels\, and you’ll get to pick an extra card for each one found. \nEnter with $5 play on the gaming machines from 11am every Tuesday.
URL:https://gympiersl.com.au/event/winning-wheels/2025-02-18/
LOCATION:Gympie RSL
CATEGORIES:Promotions,Weekly Promotions
ATTACH;FMTTYPE=image/jpeg:https://gympiersl.com.au/wp-content/uploads/2024/07/Gympie-RSL-Winning-Wheels_Website-Event-featured-image.jpg
END:VEVENT
BEGIN:VEVENT
DTSTART;TZID=Australia/Brisbane:20250219T133000
DTEND;TZID=Australia/Brisbane:20250219T153000
DTSTAMP:20260423T135107
CREATED:20240425T232257Z
LAST-MODIFIED:20240429T045456Z
UID:10010945-1739971800-1739979000@gympiersl.com.au
SUMMARY:Grocery Grab
DESCRIPTION:Grab your groceries for the week at Gympie RSL!\nJoin us every Wednesday for our Grocery Grab promotion! \n12 x members will be drawn to choose from $500 worth of groceries and cash! \nAt each draw\, a random number will be drawn. If a member is playing the corresponding gaming machine with credits\, they will be announced a winner! \nWinners will choose anywhere up to 8 grocery items + cash\, depending on their draw time*. The final winner of the day will win all remaining grocery items and $50 cash! \nEnter every Wednesday from 1:30pm by playing the gaming machines with membership card inserted. \nDraws every 10 minutes from 1:30pm. \nT&C’s apply. Gamble Responsibly. \n*Prizes corresponding with draw times can be viewed in the T&C’s on display at the time and place of the Grocery Grab draws.
URL:https://gympiersl.com.au/event/grocery-grab/2025-02-19/
LOCATION:Veteran Services Centre\, 39 Monkland Street\, Gympie\, QLD\, 4570\, Australia
CATEGORIES:All,Promotions,Weekly Promotions
ATTACH;FMTTYPE=image/jpeg:https://gympiersl.com.au/wp-content/uploads/2024/04/Gympie-RSL_Web-Featured_Grocery-Grab.jpg
END:VEVENT
BEGIN:VEVENT
DTSTART;TZID=Australia/Brisbane:20250219T184500
DTEND;TZID=Australia/Brisbane:20250219T200000
DTSTAMP:20260423T135107
CREATED:20240425T233223Z
LAST-MODIFIED:20240429T050639Z
UID:10011206-1739990700-1739995200@gympiersl.com.au
SUMMARY:Members Cash Draw
DESCRIPTION:Join us every Wednesday for our Members Cash Draws! \nEvery Wednesday night we’re drawing one lucky members for our major jackpot starting at $500 and increasing by $100 each week\, if not won! \nDraws start at 6:45pm with 2 consolation draws each week for a $50 gift card. \nThe perfect midweek celebration at Gympie RSL! \nSwipe at kiosks for free entry. \nT&C’s apply.
URL:https://gympiersl.com.au/event/members-cash-draw/2025-02-19/
LOCATION:Gympie RSL
CATEGORIES:All,Members Draws,Promotions,Weekly Promotions
ATTACH;FMTTYPE=image/jpeg:https://gympiersl.com.au/wp-content/uploads/2024/04/Gympie-RSL_Web-Featured_Members-Cash-Draw.jpg
END:VEVENT
BEGIN:VEVENT
DTSTART;TZID=Australia/Brisbane:20250221T120000
DTEND;TZID=Australia/Brisbane:20250221T143000
DTSTAMP:20260423T135107
CREATED:20240714T234928Z
LAST-MODIFIED:20260116T035717Z
UID:10018457-1740139200-1740148200@gympiersl.com.au
SUMMARY:Dice Dash
DESCRIPTION:Join us every Friday from 12pm for our exciting new weekly gaming promotion\, Dice Dash! \nEvery Friday\, 6 x members will have the chance to play for up to $200 cash each. \nIn this interactive game\, members will place six (6) game cards on the game board next to the sides of the dice before they roll. \nAfter rolling the dice\, see what cash prize corresponds to your roll. Roll the same number again\, to win a $50 jackpot on top of your winnings. \nEnter with $5 play on the gaming machines from 11am every Friday.
URL:https://gympiersl.com.au/event/dice-dash/2025-02-21/
LOCATION:Gympie RSL
CATEGORIES:Promotions,Weekly Promotions
ATTACH;FMTTYPE=image/jpeg:https://gympiersl.com.au/wp-content/uploads/2024/07/Gympie-RSL-Dice-Dash_Website-Event-featured-image.jpg
END:VEVENT
BEGIN:VEVENT
DTSTART;TZID=Australia/Brisbane:20250222T130000
DTEND;TZID=Australia/Brisbane:20250222T170000
DTSTAMP:20260423T135107
CREATED:20240412T000258Z
LAST-MODIFIED:20240429T050541Z
UID:10008860-1740229200-1740243600@gympiersl.com.au
SUMMARY:The Big Spin
DESCRIPTION:Spin to WIN!\nSpin the big wheel every Saturday at Gympie RSL for your chance to win up to $200 cash! \n6 x lucky members will be drawn to play The Big Spin from 2pm. \nPLUS… bonuses for Double Diamond\, Diamond\, Sapphire & Emerald members! \nEnter every Saturday from 1pm with every $5 play on the gaming machines with your membership card inserted. \nTerms and Conditions apply.
URL:https://gympiersl.com.au/event/the-big-spin/2025-02-22/
LOCATION:Gympie RSL
CATEGORIES:All,Promotions,Weekly Promotions
ATTACH;FMTTYPE=image/jpeg:https://gympiersl.com.au/wp-content/uploads/2024/04/Gympie-RSL_Web-Featured_The-Big-Spin.jpg
END:VEVENT
BEGIN:VEVENT
DTSTART;TZID=Australia/Brisbane:20250223T140000
DTEND;TZID=Australia/Brisbane:20250223T163000
DTSTAMP:20260423T135107
CREATED:20241206T050600Z
LAST-MODIFIED:20250129T000754Z
UID:10020991-1740319200-1740328200@gympiersl.com.au
SUMMARY:Rainbow Riches
DESCRIPTION:Get ready for an exciting promotion at Gympie RSL! From Tuesday\, 28th January to Sunday\, 30th March\, you could uncover Rainbow Riches and take home incredible prizes. \nEach week\, 6 lucky members will win up to $750 cash each\, with draws held every Sunday from 2pm – 4.30pm. Plus\, if you find one or more rainbows\, you’ll score a $250 bonus! \nWeekly Draws:  \nSunday 2nd February \nSunday 9th February \nSunday 16th February \nSunday 23rd February \nSunday 2nd March \nSunday 9th March \nSunday 16th March \nSunday 23rd March \nSunday 30th March \nEarn entries by spending $10 on gaming play or spending $5 on food and beverages. \nDon’t miss your opportunity to discover Rainbow Riches and win big at Gympie RSL.
URL:https://gympiersl.com.au/event/rainbow-riches/2025-02-23/
CATEGORIES:All,Promotions,Weekly Promotions
ATTACH;FMTTYPE=image/jpeg:https://gympiersl.com.au/wp-content/uploads/2024/12/Gympie-RSL-Rainbow-Riches_Website-Event-featured-image.jpg
END:VEVENT
BEGIN:VEVENT
DTSTART;TZID=Australia/Brisbane:20250224T183000
DTEND;TZID=Australia/Brisbane:20250224T200000
DTSTAMP:20260423T135107
CREATED:20240426T000708Z
LAST-MODIFIED:20251210T063904Z
UID:10012477-1740421800-1740427200@gympiersl.com.au
SUMMARY:Birthday Draws
DESCRIPTION:Happy Birthday from Gympie RSL! \nJoin us on the last Monday of the month for our birthday draws where 4 members are guaranteed to win a share in $500! \nSimply swipe your card at the kiosk to gain an entry\, all members born in the month of the draws are eligible. \nWe can’t wait to celebrate with you!
URL:https://gympiersl.com.au/event/birthday-draws/2025-02-24/
CATEGORIES:All,Birthday Draws,Promotions,Weekly Promotions
ATTACH;FMTTYPE=image/jpeg:https://gympiersl.com.au/wp-content/uploads/2024/04/Gympie-RSL_Web-Featured_Birthday-Draw.jpg
END:VEVENT
BEGIN:VEVENT
DTSTART;TZID=Australia/Brisbane:20250225T120000
DTEND;TZID=Australia/Brisbane:20250225T143000
DTSTAMP:20260423T135107
CREATED:20240715T000349Z
LAST-MODIFIED:20260116T035914Z
UID:10018716-1740484800-1740493800@gympiersl.com.au
SUMMARY:Winning Wheels
DESCRIPTION:Join us every Tuesday from 12pm for our new weekly gaming promotion\, Winning Wheels! \nEvery Tuesday\, 6 x members will have the chance to win up to $350 cash each. \nIn this interactive game\, members will choose three carriages from the game board to collect their cash prizes. Find a train carriage with golden wheels\, and you’ll get to pick an extra card for each one found. \nEnter with $5 play on the gaming machines from 11am every Tuesday.
URL:https://gympiersl.com.au/event/winning-wheels/2025-02-25/
LOCATION:Gympie RSL
CATEGORIES:Promotions,Weekly Promotions
ATTACH;FMTTYPE=image/jpeg:https://gympiersl.com.au/wp-content/uploads/2024/07/Gympie-RSL-Winning-Wheels_Website-Event-featured-image.jpg
END:VEVENT
BEGIN:VEVENT
DTSTART;TZID=Australia/Brisbane:20250226T133000
DTEND;TZID=Australia/Brisbane:20250226T153000
DTSTAMP:20260423T135107
CREATED:20240425T232257Z
LAST-MODIFIED:20240429T045456Z
UID:10010946-1740576600-1740583800@gympiersl.com.au
SUMMARY:Grocery Grab
DESCRIPTION:Grab your groceries for the week at Gympie RSL!\nJoin us every Wednesday for our Grocery Grab promotion! \n12 x members will be drawn to choose from $500 worth of groceries and cash! \nAt each draw\, a random number will be drawn. If a member is playing the corresponding gaming machine with credits\, they will be announced a winner! \nWinners will choose anywhere up to 8 grocery items + cash\, depending on their draw time*. The final winner of the day will win all remaining grocery items and $50 cash! \nEnter every Wednesday from 1:30pm by playing the gaming machines with membership card inserted. \nDraws every 10 minutes from 1:30pm. \nT&C’s apply. Gamble Responsibly. \n*Prizes corresponding with draw times can be viewed in the T&C’s on display at the time and place of the Grocery Grab draws.
URL:https://gympiersl.com.au/event/grocery-grab/2025-02-26/
LOCATION:Veteran Services Centre\, 39 Monkland Street\, Gympie\, QLD\, 4570\, Australia
CATEGORIES:All,Promotions,Weekly Promotions
ATTACH;FMTTYPE=image/jpeg:https://gympiersl.com.au/wp-content/uploads/2024/04/Gympie-RSL_Web-Featured_Grocery-Grab.jpg
END:VEVENT
BEGIN:VEVENT
DTSTART;TZID=Australia/Brisbane:20250226T184500
DTEND;TZID=Australia/Brisbane:20250226T200000
DTSTAMP:20260423T135107
CREATED:20240425T233223Z
LAST-MODIFIED:20240429T050639Z
UID:10011207-1740595500-1740600000@gympiersl.com.au
SUMMARY:Members Cash Draw
DESCRIPTION:Join us every Wednesday for our Members Cash Draws! \nEvery Wednesday night we’re drawing one lucky members for our major jackpot starting at $500 and increasing by $100 each week\, if not won! \nDraws start at 6:45pm with 2 consolation draws each week for a $50 gift card. \nThe perfect midweek celebration at Gympie RSL! \nSwipe at kiosks for free entry. \nT&C’s apply.
URL:https://gympiersl.com.au/event/members-cash-draw/2025-02-26/
LOCATION:Gympie RSL
CATEGORIES:All,Members Draws,Promotions,Weekly Promotions
ATTACH;FMTTYPE=image/jpeg:https://gympiersl.com.au/wp-content/uploads/2024/04/Gympie-RSL_Web-Featured_Members-Cash-Draw.jpg
END:VEVENT
BEGIN:VEVENT
DTSTART;TZID=Australia/Brisbane:20250228T120000
DTEND;TZID=Australia/Brisbane:20250228T143000
DTSTAMP:20260423T135107
CREATED:20240714T234928Z
LAST-MODIFIED:20260116T035717Z
UID:10018458-1740744000-1740753000@gympiersl.com.au
SUMMARY:Dice Dash
DESCRIPTION:Join us every Friday from 12pm for our exciting new weekly gaming promotion\, Dice Dash! \nEvery Friday\, 6 x members will have the chance to play for up to $200 cash each. \nIn this interactive game\, members will place six (6) game cards on the game board next to the sides of the dice before they roll. \nAfter rolling the dice\, see what cash prize corresponds to your roll. Roll the same number again\, to win a $50 jackpot on top of your winnings. \nEnter with $5 play on the gaming machines from 11am every Friday.
URL:https://gympiersl.com.au/event/dice-dash/2025-02-28/
LOCATION:Gympie RSL
CATEGORIES:Promotions,Weekly Promotions
ATTACH;FMTTYPE=image/jpeg:https://gympiersl.com.au/wp-content/uploads/2024/07/Gympie-RSL-Dice-Dash_Website-Event-featured-image.jpg
END:VEVENT
END:VCALENDAR