BEGIN:VCALENDAR
VERSION:2.0
PRODID:-//Gympie RSL - ECPv6.15.20//NONSGML v1.0//EN
CALSCALE:GREGORIAN
METHOD:PUBLISH
X-WR-CALNAME:Gympie RSL
X-ORIGINAL-URL:https://gympiersl.com.au
X-WR-CALDESC:Events for Gympie RSL
REFRESH-INTERVAL;VALUE=DURATION:PT1H
X-Robots-Tag:noindex
X-PUBLISHED-TTL:PT1H
BEGIN:VTIMEZONE
TZID:Australia/Brisbane
BEGIN:STANDARD
TZOFFSETFROM:+1000
TZOFFSETTO:+1000
TZNAME:AEST
DTSTART:20230101T000000
END:STANDARD
END:VTIMEZONE
BEGIN:VEVENT
DTSTART;TZID=Australia/Brisbane:20241001T120000
DTEND;TZID=Australia/Brisbane:20241001T143000
DTSTAMP:20260423T200600
CREATED:20240715T000349Z
LAST-MODIFIED:20260116T035914Z
UID:10018695-1727784000-1727793000@gympiersl.com.au
SUMMARY:Winning Wheels
DESCRIPTION:Join us every Tuesday from 12pm for our new weekly gaming promotion\, Winning Wheels! \nEvery Tuesday\, 6 x members will have the chance to win up to $350 cash each. \nIn this interactive game\, members will choose three carriages from the game board to collect their cash prizes. Find a train carriage with golden wheels\, and you’ll get to pick an extra card for each one found. \nEnter with $5 play on the gaming machines from 11am every Tuesday.
URL:https://gympiersl.com.au/event/winning-wheels/2024-10-01/
LOCATION:Gympie RSL
CATEGORIES:Promotions,Weekly Promotions
ATTACH;FMTTYPE=image/jpeg:https://gympiersl.com.au/wp-content/uploads/2024/07/Gympie-RSL-Winning-Wheels_Website-Event-featured-image.jpg
END:VEVENT
BEGIN:VEVENT
DTSTART;TZID=Australia/Brisbane:20241002T133000
DTEND;TZID=Australia/Brisbane:20241002T153000
DTSTAMP:20260423T200600
CREATED:20240425T232257Z
LAST-MODIFIED:20240429T045456Z
UID:10010925-1727875800-1727883000@gympiersl.com.au
SUMMARY:Grocery Grab
DESCRIPTION:Grab your groceries for the week at Gympie RSL!\nJoin us every Wednesday for our Grocery Grab promotion! \n12 x members will be drawn to choose from $500 worth of groceries and cash! \nAt each draw\, a random number will be drawn. If a member is playing the corresponding gaming machine with credits\, they will be announced a winner! \nWinners will choose anywhere up to 8 grocery items + cash\, depending on their draw time*. The final winner of the day will win all remaining grocery items and $50 cash! \nEnter every Wednesday from 1:30pm by playing the gaming machines with membership card inserted. \nDraws every 10 minutes from 1:30pm. \nT&C’s apply. Gamble Responsibly. \n*Prizes corresponding with draw times can be viewed in the T&C’s on display at the time and place of the Grocery Grab draws.
URL:https://gympiersl.com.au/event/grocery-grab/2024-10-02/
LOCATION:Veteran Services Centre\, 39 Monkland Street\, Gympie\, QLD\, 4570\, Australia
CATEGORIES:All,Promotions,Weekly Promotions
ATTACH;FMTTYPE=image/jpeg:https://gympiersl.com.au/wp-content/uploads/2024/04/Gympie-RSL_Web-Featured_Grocery-Grab.jpg
END:VEVENT
BEGIN:VEVENT
DTSTART;TZID=Australia/Brisbane:20241002T184500
DTEND;TZID=Australia/Brisbane:20241002T200000
DTSTAMP:20260423T200600
CREATED:20240425T233223Z
LAST-MODIFIED:20240429T050639Z
UID:10011186-1727894700-1727899200@gympiersl.com.au
SUMMARY:Members Cash Draw
DESCRIPTION:Join us every Wednesday for our Members Cash Draws! \nEvery Wednesday night we’re drawing one lucky members for our major jackpot starting at $500 and increasing by $100 each week\, if not won! \nDraws start at 6:45pm with 2 consolation draws each week for a $50 gift card. \nThe perfect midweek celebration at Gympie RSL! \nSwipe at kiosks for free entry. \nT&C’s apply.
URL:https://gympiersl.com.au/event/members-cash-draw/2024-10-02/
LOCATION:Gympie RSL
CATEGORIES:All,Members Draws,Promotions,Weekly Promotions
ATTACH;FMTTYPE=image/jpeg:https://gympiersl.com.au/wp-content/uploads/2024/04/Gympie-RSL_Web-Featured_Members-Cash-Draw.jpg
END:VEVENT
BEGIN:VEVENT
DTSTART;TZID=Australia/Brisbane:20241004T120000
DTEND;TZID=Australia/Brisbane:20241004T143000
DTSTAMP:20260423T200600
CREATED:20240714T234928Z
LAST-MODIFIED:20260116T035717Z
UID:10018437-1728043200-1728052200@gympiersl.com.au
SUMMARY:Dice Dash
DESCRIPTION:Join us every Friday from 12pm for our exciting new weekly gaming promotion\, Dice Dash! \nEvery Friday\, 6 x members will have the chance to play for up to $200 cash each. \nIn this interactive game\, members will place six (6) game cards on the game board next to the sides of the dice before they roll. \nAfter rolling the dice\, see what cash prize corresponds to your roll. Roll the same number again\, to win a $50 jackpot on top of your winnings. \nEnter with $5 play on the gaming machines from 11am every Friday.
URL:https://gympiersl.com.au/event/dice-dash/2024-10-04/
LOCATION:Gympie RSL
CATEGORIES:Promotions,Weekly Promotions
ATTACH;FMTTYPE=image/jpeg:https://gympiersl.com.au/wp-content/uploads/2024/07/Gympie-RSL-Dice-Dash_Website-Event-featured-image.jpg
END:VEVENT
BEGIN:VEVENT
DTSTART;TZID=Australia/Brisbane:20241005T130000
DTEND;TZID=Australia/Brisbane:20241005T170000
DTSTAMP:20260423T200600
CREATED:20240412T000258Z
LAST-MODIFIED:20240429T050541Z
UID:10008840-1728133200-1728147600@gympiersl.com.au
SUMMARY:The Big Spin
DESCRIPTION:Spin to WIN!\nSpin the big wheel every Saturday at Gympie RSL for your chance to win up to $200 cash! \n6 x lucky members will be drawn to play The Big Spin from 2pm. \nPLUS… bonuses for Double Diamond\, Diamond\, Sapphire & Emerald members! \nEnter every Saturday from 1pm with every $5 play on the gaming machines with your membership card inserted. \nTerms and Conditions apply.
URL:https://gympiersl.com.au/event/the-big-spin/2024-10-05/
LOCATION:Gympie RSL
CATEGORIES:All,Promotions,Weekly Promotions
ATTACH;FMTTYPE=image/jpeg:https://gympiersl.com.au/wp-content/uploads/2024/04/Gympie-RSL_Web-Featured_The-Big-Spin.jpg
END:VEVENT
BEGIN:VEVENT
DTSTART;TZID=Australia/Brisbane:20241008T120000
DTEND;TZID=Australia/Brisbane:20241008T143000
DTSTAMP:20260423T200600
CREATED:20240715T000349Z
LAST-MODIFIED:20260116T035914Z
UID:10018696-1728388800-1728397800@gympiersl.com.au
SUMMARY:Winning Wheels
DESCRIPTION:Join us every Tuesday from 12pm for our new weekly gaming promotion\, Winning Wheels! \nEvery Tuesday\, 6 x members will have the chance to win up to $350 cash each. \nIn this interactive game\, members will choose three carriages from the game board to collect their cash prizes. Find a train carriage with golden wheels\, and you’ll get to pick an extra card for each one found. \nEnter with $5 play on the gaming machines from 11am every Tuesday.
URL:https://gympiersl.com.au/event/winning-wheels/2024-10-08/
LOCATION:Gympie RSL
CATEGORIES:Promotions,Weekly Promotions
ATTACH;FMTTYPE=image/jpeg:https://gympiersl.com.au/wp-content/uploads/2024/07/Gympie-RSL-Winning-Wheels_Website-Event-featured-image.jpg
END:VEVENT
BEGIN:VEVENT
DTSTART;TZID=Australia/Brisbane:20241009T133000
DTEND;TZID=Australia/Brisbane:20241009T153000
DTSTAMP:20260423T200600
CREATED:20240425T232257Z
LAST-MODIFIED:20240429T045456Z
UID:10010926-1728480600-1728487800@gympiersl.com.au
SUMMARY:Grocery Grab
DESCRIPTION:Grab your groceries for the week at Gympie RSL!\nJoin us every Wednesday for our Grocery Grab promotion! \n12 x members will be drawn to choose from $500 worth of groceries and cash! \nAt each draw\, a random number will be drawn. If a member is playing the corresponding gaming machine with credits\, they will be announced a winner! \nWinners will choose anywhere up to 8 grocery items + cash\, depending on their draw time*. The final winner of the day will win all remaining grocery items and $50 cash! \nEnter every Wednesday from 1:30pm by playing the gaming machines with membership card inserted. \nDraws every 10 minutes from 1:30pm. \nT&C’s apply. Gamble Responsibly. \n*Prizes corresponding with draw times can be viewed in the T&C’s on display at the time and place of the Grocery Grab draws.
URL:https://gympiersl.com.au/event/grocery-grab/2024-10-09/
LOCATION:Veteran Services Centre\, 39 Monkland Street\, Gympie\, QLD\, 4570\, Australia
CATEGORIES:All,Promotions,Weekly Promotions
ATTACH;FMTTYPE=image/jpeg:https://gympiersl.com.au/wp-content/uploads/2024/04/Gympie-RSL_Web-Featured_Grocery-Grab.jpg
END:VEVENT
BEGIN:VEVENT
DTSTART;TZID=Australia/Brisbane:20241009T184500
DTEND;TZID=Australia/Brisbane:20241009T200000
DTSTAMP:20260423T200600
CREATED:20240425T233223Z
LAST-MODIFIED:20240429T050639Z
UID:10011187-1728499500-1728504000@gympiersl.com.au
SUMMARY:Members Cash Draw
DESCRIPTION:Join us every Wednesday for our Members Cash Draws! \nEvery Wednesday night we’re drawing one lucky members for our major jackpot starting at $500 and increasing by $100 each week\, if not won! \nDraws start at 6:45pm with 2 consolation draws each week for a $50 gift card. \nThe perfect midweek celebration at Gympie RSL! \nSwipe at kiosks for free entry. \nT&C’s apply.
URL:https://gympiersl.com.au/event/members-cash-draw/2024-10-09/
LOCATION:Gympie RSL
CATEGORIES:All,Members Draws,Promotions,Weekly Promotions
ATTACH;FMTTYPE=image/jpeg:https://gympiersl.com.au/wp-content/uploads/2024/04/Gympie-RSL_Web-Featured_Members-Cash-Draw.jpg
END:VEVENT
BEGIN:VEVENT
DTSTART;TZID=Australia/Brisbane:20241011T120000
DTEND;TZID=Australia/Brisbane:20241011T143000
DTSTAMP:20260423T200600
CREATED:20240714T234928Z
LAST-MODIFIED:20260116T035717Z
UID:10018438-1728648000-1728657000@gympiersl.com.au
SUMMARY:Dice Dash
DESCRIPTION:Join us every Friday from 12pm for our exciting new weekly gaming promotion\, Dice Dash! \nEvery Friday\, 6 x members will have the chance to play for up to $200 cash each. \nIn this interactive game\, members will place six (6) game cards on the game board next to the sides of the dice before they roll. \nAfter rolling the dice\, see what cash prize corresponds to your roll. Roll the same number again\, to win a $50 jackpot on top of your winnings. \nEnter with $5 play on the gaming machines from 11am every Friday.
URL:https://gympiersl.com.au/event/dice-dash/2024-10-11/
LOCATION:Gympie RSL
CATEGORIES:Promotions,Weekly Promotions
ATTACH;FMTTYPE=image/jpeg:https://gympiersl.com.au/wp-content/uploads/2024/07/Gympie-RSL-Dice-Dash_Website-Event-featured-image.jpg
END:VEVENT
BEGIN:VEVENT
DTSTART;TZID=Australia/Brisbane:20241012T130000
DTEND;TZID=Australia/Brisbane:20241012T170000
DTSTAMP:20260423T200600
CREATED:20240412T000258Z
LAST-MODIFIED:20240429T050541Z
UID:10008841-1728738000-1728752400@gympiersl.com.au
SUMMARY:The Big Spin
DESCRIPTION:Spin to WIN!\nSpin the big wheel every Saturday at Gympie RSL for your chance to win up to $200 cash! \n6 x lucky members will be drawn to play The Big Spin from 2pm. \nPLUS… bonuses for Double Diamond\, Diamond\, Sapphire & Emerald members! \nEnter every Saturday from 1pm with every $5 play on the gaming machines with your membership card inserted. \nTerms and Conditions apply.
URL:https://gympiersl.com.au/event/the-big-spin/2024-10-12/
LOCATION:Gympie RSL
CATEGORIES:All,Promotions,Weekly Promotions
ATTACH;FMTTYPE=image/jpeg:https://gympiersl.com.au/wp-content/uploads/2024/04/Gympie-RSL_Web-Featured_The-Big-Spin.jpg
END:VEVENT
BEGIN:VEVENT
DTSTART;TZID=Australia/Brisbane:20241015T120000
DTEND;TZID=Australia/Brisbane:20241015T143000
DTSTAMP:20260423T200600
CREATED:20240715T000349Z
LAST-MODIFIED:20260116T035914Z
UID:10018697-1728993600-1729002600@gympiersl.com.au
SUMMARY:Winning Wheels
DESCRIPTION:Join us every Tuesday from 12pm for our new weekly gaming promotion\, Winning Wheels! \nEvery Tuesday\, 6 x members will have the chance to win up to $350 cash each. \nIn this interactive game\, members will choose three carriages from the game board to collect their cash prizes. Find a train carriage with golden wheels\, and you’ll get to pick an extra card for each one found. \nEnter with $5 play on the gaming machines from 11am every Tuesday.
URL:https://gympiersl.com.au/event/winning-wheels/2024-10-15/
LOCATION:Gympie RSL
CATEGORIES:Promotions,Weekly Promotions
ATTACH;FMTTYPE=image/jpeg:https://gympiersl.com.au/wp-content/uploads/2024/07/Gympie-RSL-Winning-Wheels_Website-Event-featured-image.jpg
END:VEVENT
BEGIN:VEVENT
DTSTART;TZID=Australia/Brisbane:20241016T133000
DTEND;TZID=Australia/Brisbane:20241016T153000
DTSTAMP:20260423T200600
CREATED:20240425T232257Z
LAST-MODIFIED:20240429T045456Z
UID:10010927-1729085400-1729092600@gympiersl.com.au
SUMMARY:Grocery Grab
DESCRIPTION:Grab your groceries for the week at Gympie RSL!\nJoin us every Wednesday for our Grocery Grab promotion! \n12 x members will be drawn to choose from $500 worth of groceries and cash! \nAt each draw\, a random number will be drawn. If a member is playing the corresponding gaming machine with credits\, they will be announced a winner! \nWinners will choose anywhere up to 8 grocery items + cash\, depending on their draw time*. The final winner of the day will win all remaining grocery items and $50 cash! \nEnter every Wednesday from 1:30pm by playing the gaming machines with membership card inserted. \nDraws every 10 minutes from 1:30pm. \nT&C’s apply. Gamble Responsibly. \n*Prizes corresponding with draw times can be viewed in the T&C’s on display at the time and place of the Grocery Grab draws.
URL:https://gympiersl.com.au/event/grocery-grab/2024-10-16/
LOCATION:Veteran Services Centre\, 39 Monkland Street\, Gympie\, QLD\, 4570\, Australia
CATEGORIES:All,Promotions,Weekly Promotions
ATTACH;FMTTYPE=image/jpeg:https://gympiersl.com.au/wp-content/uploads/2024/04/Gympie-RSL_Web-Featured_Grocery-Grab.jpg
END:VEVENT
BEGIN:VEVENT
DTSTART;TZID=Australia/Brisbane:20241016T184500
DTEND;TZID=Australia/Brisbane:20241016T200000
DTSTAMP:20260423T200601
CREATED:20240425T233223Z
LAST-MODIFIED:20240429T050639Z
UID:10011188-1729104300-1729108800@gympiersl.com.au
SUMMARY:Members Cash Draw
DESCRIPTION:Join us every Wednesday for our Members Cash Draws! \nEvery Wednesday night we’re drawing one lucky members for our major jackpot starting at $500 and increasing by $100 each week\, if not won! \nDraws start at 6:45pm with 2 consolation draws each week for a $50 gift card. \nThe perfect midweek celebration at Gympie RSL! \nSwipe at kiosks for free entry. \nT&C’s apply.
URL:https://gympiersl.com.au/event/members-cash-draw/2024-10-16/
LOCATION:Gympie RSL
CATEGORIES:All,Members Draws,Promotions,Weekly Promotions
ATTACH;FMTTYPE=image/jpeg:https://gympiersl.com.au/wp-content/uploads/2024/04/Gympie-RSL_Web-Featured_Members-Cash-Draw.jpg
END:VEVENT
BEGIN:VEVENT
DTSTART;TZID=Australia/Brisbane:20241018T120000
DTEND;TZID=Australia/Brisbane:20241018T143000
DTSTAMP:20260423T200601
CREATED:20240714T234928Z
LAST-MODIFIED:20260116T035717Z
UID:10018439-1729252800-1729261800@gympiersl.com.au
SUMMARY:Dice Dash
DESCRIPTION:Join us every Friday from 12pm for our exciting new weekly gaming promotion\, Dice Dash! \nEvery Friday\, 6 x members will have the chance to play for up to $200 cash each. \nIn this interactive game\, members will place six (6) game cards on the game board next to the sides of the dice before they roll. \nAfter rolling the dice\, see what cash prize corresponds to your roll. Roll the same number again\, to win a $50 jackpot on top of your winnings. \nEnter with $5 play on the gaming machines from 11am every Friday.
URL:https://gympiersl.com.au/event/dice-dash/2024-10-18/
LOCATION:Gympie RSL
CATEGORIES:Promotions,Weekly Promotions
ATTACH;FMTTYPE=image/jpeg:https://gympiersl.com.au/wp-content/uploads/2024/07/Gympie-RSL-Dice-Dash_Website-Event-featured-image.jpg
END:VEVENT
BEGIN:VEVENT
DTSTART;TZID=Australia/Brisbane:20241019T130000
DTEND;TZID=Australia/Brisbane:20241019T170000
DTSTAMP:20260423T200601
CREATED:20240412T000258Z
LAST-MODIFIED:20240429T050541Z
UID:10008842-1729342800-1729357200@gympiersl.com.au
SUMMARY:The Big Spin
DESCRIPTION:Spin to WIN!\nSpin the big wheel every Saturday at Gympie RSL for your chance to win up to $200 cash! \n6 x lucky members will be drawn to play The Big Spin from 2pm. \nPLUS… bonuses for Double Diamond\, Diamond\, Sapphire & Emerald members! \nEnter every Saturday from 1pm with every $5 play on the gaming machines with your membership card inserted. \nTerms and Conditions apply.
URL:https://gympiersl.com.au/event/the-big-spin/2024-10-19/
LOCATION:Gympie RSL
CATEGORIES:All,Promotions,Weekly Promotions
ATTACH;FMTTYPE=image/jpeg:https://gympiersl.com.au/wp-content/uploads/2024/04/Gympie-RSL_Web-Featured_The-Big-Spin.jpg
END:VEVENT
BEGIN:VEVENT
DTSTART;TZID=Australia/Brisbane:20241022T120000
DTEND;TZID=Australia/Brisbane:20241022T143000
DTSTAMP:20260423T200601
CREATED:20240715T000349Z
LAST-MODIFIED:20260116T035914Z
UID:10018698-1729598400-1729607400@gympiersl.com.au
SUMMARY:Winning Wheels
DESCRIPTION:Join us every Tuesday from 12pm for our new weekly gaming promotion\, Winning Wheels! \nEvery Tuesday\, 6 x members will have the chance to win up to $350 cash each. \nIn this interactive game\, members will choose three carriages from the game board to collect their cash prizes. Find a train carriage with golden wheels\, and you’ll get to pick an extra card for each one found. \nEnter with $5 play on the gaming machines from 11am every Tuesday.
URL:https://gympiersl.com.au/event/winning-wheels/2024-10-22/
LOCATION:Gympie RSL
CATEGORIES:Promotions,Weekly Promotions
ATTACH;FMTTYPE=image/jpeg:https://gympiersl.com.au/wp-content/uploads/2024/07/Gympie-RSL-Winning-Wheels_Website-Event-featured-image.jpg
END:VEVENT
BEGIN:VEVENT
DTSTART;TZID=Australia/Brisbane:20241023T133000
DTEND;TZID=Australia/Brisbane:20241023T153000
DTSTAMP:20260423T200601
CREATED:20240425T232257Z
LAST-MODIFIED:20240429T045456Z
UID:10010928-1729690200-1729697400@gympiersl.com.au
SUMMARY:Grocery Grab
DESCRIPTION:Grab your groceries for the week at Gympie RSL!\nJoin us every Wednesday for our Grocery Grab promotion! \n12 x members will be drawn to choose from $500 worth of groceries and cash! \nAt each draw\, a random number will be drawn. If a member is playing the corresponding gaming machine with credits\, they will be announced a winner! \nWinners will choose anywhere up to 8 grocery items + cash\, depending on their draw time*. The final winner of the day will win all remaining grocery items and $50 cash! \nEnter every Wednesday from 1:30pm by playing the gaming machines with membership card inserted. \nDraws every 10 minutes from 1:30pm. \nT&C’s apply. Gamble Responsibly. \n*Prizes corresponding with draw times can be viewed in the T&C’s on display at the time and place of the Grocery Grab draws.
URL:https://gympiersl.com.au/event/grocery-grab/2024-10-23/
LOCATION:Veteran Services Centre\, 39 Monkland Street\, Gympie\, QLD\, 4570\, Australia
CATEGORIES:All,Promotions,Weekly Promotions
ATTACH;FMTTYPE=image/jpeg:https://gympiersl.com.au/wp-content/uploads/2024/04/Gympie-RSL_Web-Featured_Grocery-Grab.jpg
END:VEVENT
BEGIN:VEVENT
DTSTART;TZID=Australia/Brisbane:20241023T184500
DTEND;TZID=Australia/Brisbane:20241023T200000
DTSTAMP:20260423T200601
CREATED:20240425T233223Z
LAST-MODIFIED:20240429T050639Z
UID:10011189-1729709100-1729713600@gympiersl.com.au
SUMMARY:Members Cash Draw
DESCRIPTION:Join us every Wednesday for our Members Cash Draws! \nEvery Wednesday night we’re drawing one lucky members for our major jackpot starting at $500 and increasing by $100 each week\, if not won! \nDraws start at 6:45pm with 2 consolation draws each week for a $50 gift card. \nThe perfect midweek celebration at Gympie RSL! \nSwipe at kiosks for free entry. \nT&C’s apply.
URL:https://gympiersl.com.au/event/members-cash-draw/2024-10-23/
LOCATION:Gympie RSL
CATEGORIES:All,Members Draws,Promotions,Weekly Promotions
ATTACH;FMTTYPE=image/jpeg:https://gympiersl.com.au/wp-content/uploads/2024/04/Gympie-RSL_Web-Featured_Members-Cash-Draw.jpg
END:VEVENT
BEGIN:VEVENT
DTSTART;TZID=Australia/Brisbane:20241025T120000
DTEND;TZID=Australia/Brisbane:20241025T143000
DTSTAMP:20260423T200601
CREATED:20240714T234928Z
LAST-MODIFIED:20260116T035717Z
UID:10018440-1729857600-1729866600@gympiersl.com.au
SUMMARY:Dice Dash
DESCRIPTION:Join us every Friday from 12pm for our exciting new weekly gaming promotion\, Dice Dash! \nEvery Friday\, 6 x members will have the chance to play for up to $200 cash each. \nIn this interactive game\, members will place six (6) game cards on the game board next to the sides of the dice before they roll. \nAfter rolling the dice\, see what cash prize corresponds to your roll. Roll the same number again\, to win a $50 jackpot on top of your winnings. \nEnter with $5 play on the gaming machines from 11am every Friday.
URL:https://gympiersl.com.au/event/dice-dash/2024-10-25/
LOCATION:Gympie RSL
CATEGORIES:Promotions,Weekly Promotions
ATTACH;FMTTYPE=image/jpeg:https://gympiersl.com.au/wp-content/uploads/2024/07/Gympie-RSL-Dice-Dash_Website-Event-featured-image.jpg
END:VEVENT
BEGIN:VEVENT
DTSTART;TZID=Australia/Brisbane:20241026T130000
DTEND;TZID=Australia/Brisbane:20241026T170000
DTSTAMP:20260423T200601
CREATED:20240412T000258Z
LAST-MODIFIED:20240429T050541Z
UID:10008843-1729947600-1729962000@gympiersl.com.au
SUMMARY:The Big Spin
DESCRIPTION:Spin to WIN!\nSpin the big wheel every Saturday at Gympie RSL for your chance to win up to $200 cash! \n6 x lucky members will be drawn to play The Big Spin from 2pm. \nPLUS… bonuses for Double Diamond\, Diamond\, Sapphire & Emerald members! \nEnter every Saturday from 1pm with every $5 play on the gaming machines with your membership card inserted. \nTerms and Conditions apply.
URL:https://gympiersl.com.au/event/the-big-spin/2024-10-26/
LOCATION:Gympie RSL
CATEGORIES:All,Promotions,Weekly Promotions
ATTACH;FMTTYPE=image/jpeg:https://gympiersl.com.au/wp-content/uploads/2024/04/Gympie-RSL_Web-Featured_The-Big-Spin.jpg
END:VEVENT
BEGIN:VEVENT
DTSTART;TZID=Australia/Brisbane:20241028T183000
DTEND;TZID=Australia/Brisbane:20241028T200000
DTSTAMP:20260423T200601
CREATED:20240426T000708Z
LAST-MODIFIED:20251210T063904Z
UID:10012473-1730140200-1730145600@gympiersl.com.au
SUMMARY:Birthday Draws
DESCRIPTION:Happy Birthday from Gympie RSL! \nJoin us on the last Monday of the month for our birthday draws where 4 members are guaranteed to win a share in $500! \nSimply swipe your card at the kiosk to gain an entry\, all members born in the month of the draws are eligible. \nWe can’t wait to celebrate with you!
URL:https://gympiersl.com.au/event/birthday-draws/2024-10-28/
CATEGORIES:All,Birthday Draws,Promotions,Weekly Promotions
ATTACH;FMTTYPE=image/jpeg:https://gympiersl.com.au/wp-content/uploads/2024/04/Gympie-RSL_Web-Featured_Birthday-Draw.jpg
END:VEVENT
BEGIN:VEVENT
DTSTART;TZID=Australia/Brisbane:20241029T120000
DTEND;TZID=Australia/Brisbane:20241029T143000
DTSTAMP:20260423T200601
CREATED:20240715T000349Z
LAST-MODIFIED:20260116T035914Z
UID:10018699-1730203200-1730212200@gympiersl.com.au
SUMMARY:Winning Wheels
DESCRIPTION:Join us every Tuesday from 12pm for our new weekly gaming promotion\, Winning Wheels! \nEvery Tuesday\, 6 x members will have the chance to win up to $350 cash each. \nIn this interactive game\, members will choose three carriages from the game board to collect their cash prizes. Find a train carriage with golden wheels\, and you’ll get to pick an extra card for each one found. \nEnter with $5 play on the gaming machines from 11am every Tuesday.
URL:https://gympiersl.com.au/event/winning-wheels/2024-10-29/
LOCATION:Gympie RSL
CATEGORIES:Promotions,Weekly Promotions
ATTACH;FMTTYPE=image/jpeg:https://gympiersl.com.au/wp-content/uploads/2024/07/Gympie-RSL-Winning-Wheels_Website-Event-featured-image.jpg
END:VEVENT
BEGIN:VEVENT
DTSTART;TZID=Australia/Brisbane:20241030T133000
DTEND;TZID=Australia/Brisbane:20241030T153000
DTSTAMP:20260423T200601
CREATED:20240425T232257Z
LAST-MODIFIED:20240429T045456Z
UID:10010929-1730295000-1730302200@gympiersl.com.au
SUMMARY:Grocery Grab
DESCRIPTION:Grab your groceries for the week at Gympie RSL!\nJoin us every Wednesday for our Grocery Grab promotion! \n12 x members will be drawn to choose from $500 worth of groceries and cash! \nAt each draw\, a random number will be drawn. If a member is playing the corresponding gaming machine with credits\, they will be announced a winner! \nWinners will choose anywhere up to 8 grocery items + cash\, depending on their draw time*. The final winner of the day will win all remaining grocery items and $50 cash! \nEnter every Wednesday from 1:30pm by playing the gaming machines with membership card inserted. \nDraws every 10 minutes from 1:30pm. \nT&C’s apply. Gamble Responsibly. \n*Prizes corresponding with draw times can be viewed in the T&C’s on display at the time and place of the Grocery Grab draws.
URL:https://gympiersl.com.au/event/grocery-grab/2024-10-30/
LOCATION:Veteran Services Centre\, 39 Monkland Street\, Gympie\, QLD\, 4570\, Australia
CATEGORIES:All,Promotions,Weekly Promotions
ATTACH;FMTTYPE=image/jpeg:https://gympiersl.com.au/wp-content/uploads/2024/04/Gympie-RSL_Web-Featured_Grocery-Grab.jpg
END:VEVENT
BEGIN:VEVENT
DTSTART;TZID=Australia/Brisbane:20241030T184500
DTEND;TZID=Australia/Brisbane:20241030T200000
DTSTAMP:20260423T200601
CREATED:20240425T233223Z
LAST-MODIFIED:20240429T050639Z
UID:10011190-1730313900-1730318400@gympiersl.com.au
SUMMARY:Members Cash Draw
DESCRIPTION:Join us every Wednesday for our Members Cash Draws! \nEvery Wednesday night we’re drawing one lucky members for our major jackpot starting at $500 and increasing by $100 each week\, if not won! \nDraws start at 6:45pm with 2 consolation draws each week for a $50 gift card. \nThe perfect midweek celebration at Gympie RSL! \nSwipe at kiosks for free entry. \nT&C’s apply.
URL:https://gympiersl.com.au/event/members-cash-draw/2024-10-30/
LOCATION:Gympie RSL
CATEGORIES:All,Members Draws,Promotions,Weekly Promotions
ATTACH;FMTTYPE=image/jpeg:https://gympiersl.com.au/wp-content/uploads/2024/04/Gympie-RSL_Web-Featured_Members-Cash-Draw.jpg
END:VEVENT
END:VCALENDAR