BEGIN:VCALENDAR
VERSION:2.0
PRODID:-//Gympie RSL - ECPv6.15.20//NONSGML v1.0//EN
CALSCALE:GREGORIAN
METHOD:PUBLISH
X-WR-CALNAME:Gympie RSL
X-ORIGINAL-URL:https://gympiersl.com.au
X-WR-CALDESC:Events for Gympie RSL
REFRESH-INTERVAL;VALUE=DURATION:PT1H
X-Robots-Tag:noindex
X-PUBLISHED-TTL:PT1H
BEGIN:VTIMEZONE
TZID:Australia/Brisbane
BEGIN:STANDARD
TZOFFSETFROM:+1000
TZOFFSETTO:+1000
TZNAME:AEST
DTSTART:20230101T000000
END:STANDARD
END:VTIMEZONE
BEGIN:VEVENT
DTSTART;TZID=Australia/Brisbane:20241013T140000
DTEND;TZID=Australia/Brisbane:20241013T163000
DTSTAMP:20260421T132213
CREATED:20240912T234737Z
LAST-MODIFIED:20240915T234437Z
UID:10020410-1728828000-1728837000@gympiersl.com.au
SUMMARY:Jackpot Jamboree
DESCRIPTION:Get ready for Gympie RSL’s new promotion\, the $20K Jackpot Jamboree! From Tuesday 8th October to Sunday 24th November\, you have the chance to win big. \nJoin us every Sunday from 2PM to 4:30PM for weekly draws\, starting on Sunday 13th October and continuing until Sunday 17th November. \nDuring these draws\, 6 lucky members will have the chance to win up to $500 in cash. The excitement builds to the Major Draws on Sunday 24th November\, where from 11AM to 4:30PM\, 12 members will share in the remaining jackpot\, with all remaining prize money up to $20\,000 in cash prizes on offer! \nTo enter\, simply play from Tuesday 8th October. For every $10 spent on gaming or $5 spent on food and beverages\, you’ll earn an entry. \nDon’t miss your chance to be one of the big winners at Gympie RSL’s Jackpot Jamboree!
URL:https://gympiersl.com.au/event/jackpot-jamboree-2/
CATEGORIES:Major Promotions,Promotions
ATTACH;FMTTYPE=image/jpeg:https://gympiersl.com.au/wp-content/uploads/2024/09/Gympie-RSL-20K-Jackpot-Jamboree_Website-Event-featured-image.jpg
END:VEVENT
BEGIN:VEVENT
DTSTART;TZID=Australia/Brisbane:20241007T130000
DTEND;TZID=Australia/Brisbane:20241007T163000
DTSTAMP:20260421T132213
CREATED:20240913T005923Z
LAST-MODIFIED:20240913T005923Z
UID:10020417-1728306000-1728318600@gympiersl.com.au
SUMMARY:King's Coinage
DESCRIPTION:Join us at Gympie RSL on Monday\, 7th October\, for King’s Coinage in celebration of the King’s Birthday! \nFrom 1pm\, eight lucky members will have the chance to win up to $500 in cash each.  \nTo enter\, simply play $10 on gaming machines from 10am on the day. \nPlus\, enjoy double entries between 10am and 1pm.  \nDon’t miss out on your chance to win big!
URL:https://gympiersl.com.au/event/kings-coinage/
CATEGORIES:Major Promotions,Promotions
ATTACH;FMTTYPE=image/jpeg:https://gympiersl.com.au/wp-content/uploads/2024/09/Gympie-RSL-Kings-Coinage_Website-Event-featured-image.jpg
END:VEVENT
BEGIN:VEVENT
DTSTART;TZID=Australia/Brisbane:20240929T140000
DTEND;TZID=Australia/Brisbane:20240929T163000
DTSTAMP:20260421T132213
CREATED:20240904T044335Z
LAST-MODIFIED:20240904T044418Z
UID:10020407-1727618400-1727627400@gympiersl.com.au
SUMMARY:Cold Hard Cash
DESCRIPTION:Get ready for our Cold Hard Cash Major Promotion at Gympie RSL\, running from Monday\, 2nd September to Sunday\, 29th September! \nEvery week\, six lucky members will have the chance to win up to $500 in cash. \nDraws will be held on Sunday 22nd September from 2pm – 4.30pm with six winners – \nTo enter\, simply play $10 on gaming machines or spend $5 on food and beverages. \nDon’t miss out on your shot at some serious cash! \n 
URL:https://gympiersl.com.au/event/cold-hard-cash-29/
LOCATION:Gympie RSL
CATEGORIES:Major Promotions,Promotions
ATTACH;FMTTYPE=image/jpeg:https://gympiersl.com.au/wp-content/uploads/2024/08/Gympie-RSL-Cold-Hard-Cash_Website-Event-featured-image.jpg
END:VEVENT
BEGIN:VEVENT
DTSTART;TZID=Australia/Brisbane:20240929T140000
DTEND;TZID=Australia/Brisbane:20240929T163000
DTSTAMP:20260421T132213
CREATED:20240809T013139Z
LAST-MODIFIED:20240909T050710Z
UID:10020408-1727618400-1727627400@gympiersl.com.au
SUMMARY:Cold Hard Cash
DESCRIPTION:Get ready for our NEW Cold Hard Cash Major Promotion at Gympie RSL\, running from Monday\, 2nd September to Sunday\, 29th September! \nEvery week\, six lucky members will have the chance to win up to $500 in cash. \nDraws will be held on Sunday 22nd September from 2pm – 4.30pm with six winners – \nTo enter\, simply play $10 on gaming machines or spend $5 on food and beverages. \nDon’t miss out on your shot at some serious cash! \n 
URL:https://gympiersl.com.au/event/cold-hard-cash/
LOCATION:Gympie RSL
CATEGORIES:Major Promotions,Promotions
ATTACH;FMTTYPE=image/jpeg:https://gympiersl.com.au/wp-content/uploads/2024/08/Gympie-RSL-Cold-Hard-Cash_Website-Event-featured-image.jpg
END:VEVENT
BEGIN:VEVENT
DTSTART;TZID=Australia/Brisbane:20240922T140000
DTEND;TZID=Australia/Brisbane:20240922T163000
DTSTAMP:20260421T132213
CREATED:20240904T044218Z
LAST-MODIFIED:20240904T044325Z
UID:10020406-1727013600-1727022600@gympiersl.com.au
SUMMARY:Cold Hard Cash
DESCRIPTION:Get ready for our Cold Hard Cash Major Promotion at Gympie RSL\, running from Monday\, 2nd September to Sunday\, 29th September! \nEvery week\, six lucky members will have the chance to win up to $500 in cash. \nDraws will be held on Sunday 22nd September from 2pm – 4.30pm with six winners – \nTo enter\, simply play $10 on gaming machines or spend $5 on food and beverages. \nDon’t miss out on your shot at some serious cash! \n 
URL:https://gympiersl.com.au/event/cold-hard-cash-2/
LOCATION:Gympie RSL
CATEGORIES:Major Promotions,Promotions
ATTACH;FMTTYPE=image/jpeg:https://gympiersl.com.au/wp-content/uploads/2024/08/Gympie-RSL-Cold-Hard-Cash_Website-Event-featured-image.jpg
END:VEVENT
BEGIN:VEVENT
DTSTART;TZID=Australia/Brisbane:20240915T140000
DTEND;TZID=Australia/Brisbane:20240915T163000
DTSTAMP:20260421T132213
CREATED:20240904T043910Z
LAST-MODIFIED:20240904T044205Z
UID:10020405-1726408800-1726417800@gympiersl.com.au
SUMMARY:Cold Hard Cash
DESCRIPTION:Get ready for our Cold Hard Cash Major Promotion at Gympie RSL\, running from Monday\, 2nd September to Sunday\, 29th September! \nEvery week\, six lucky members will have the chance to win up to $500 in cash. \nDraws will be held on Sunday 22nd September from 2pm – 4.30pm with six winners – \nTo enter\, simply play $10 on gaming machines or spend $5 on food and beverages. \nDon’t miss out on your shot at some serious cash! \n 
URL:https://gympiersl.com.au/event/cold-hard-cash-15/
LOCATION:Gympie RSL
CATEGORIES:Major Promotions,Promotions
ATTACH;FMTTYPE=image/jpeg:https://gympiersl.com.au/wp-content/uploads/2024/08/Gympie-RSL-Cold-Hard-Cash_Website-Event-featured-image.jpg
END:VEVENT
BEGIN:VEVENT
DTSTART;TZID=Australia/Brisbane:20240908T140000
DTEND;TZID=Australia/Brisbane:20240908T163000
DTSTAMP:20260421T132213
CREATED:20240904T043644Z
LAST-MODIFIED:20240904T044108Z
UID:10020404-1725804000-1725813000@gympiersl.com.au
SUMMARY:Cold Hard Cash
DESCRIPTION:Get ready for our Cold Hard Cash Major Promotion at Gympie RSL\, running from Monday\, 2nd September to Sunday\, 29th September! \nEvery week\, six lucky members will have the chance to win up to $500 in cash. \nDraws will be held on Sunday 22nd September from 2pm – 4.30pm with six winners – \nTo enter\, simply play $10 on gaming machines or spend $5 on food and beverages. \nDon’t miss out on your shot at some serious cash! \n 
URL:https://gympiersl.com.au/event/cold-hard-cash-08/
LOCATION:Gympie RSL
CATEGORIES:Major Promotions,Promotions
ATTACH;FMTTYPE=image/jpeg:https://gympiersl.com.au/wp-content/uploads/2024/08/Gympie-RSL-Cold-Hard-Cash_Website-Event-featured-image.jpg
END:VEVENT
END:VCALENDAR