BEGIN:VCALENDAR
VERSION:2.0
PRODID:-//Gympie RSL - ECPv6.15.20//NONSGML v1.0//EN
CALSCALE:GREGORIAN
METHOD:PUBLISH
X-ORIGINAL-URL:https://gympiersl.com.au
X-WR-CALDESC:Events for Gympie RSL
REFRESH-INTERVAL;VALUE=DURATION:PT1H
X-Robots-Tag:noindex
X-PUBLISHED-TTL:PT1H
BEGIN:VTIMEZONE
TZID:Australia/Brisbane
BEGIN:STANDARD
TZOFFSETFROM:+1000
TZOFFSETTO:+1000
TZNAME:AEST
DTSTART:20250101T000000
END:STANDARD
END:VTIMEZONE
BEGIN:VEVENT
DTSTART;TZID=Australia/Brisbane:20260426T100000
DTEND;TZID=Australia/Brisbane:20260426T160000
DTSTAMP:20260420T203449
CREATED:20260313T034416Z
LAST-MODIFIED:20260313T034416Z
UID:10029306-1777197600-1777219200@gympiersl.com.au
SUMMARY:$20K Bankroll Boost
DESCRIPTION:💵 Get ready for big weekly winnings with our $20K Bankroll Boost promotion from Tuesday 7th April – Sunday 31st May! \n⭐ Weekly Prizes \nEach week\, 6x lucky members will win up to $500 cash each. \n🕒 Draw Time \nEvery Sunday from 2pm \n🎟 How to Enter \nEarn entries with every $10 gaming play\, or every $5 spent on food & beverage from 10am on Tuesday 7 April. \nPlay\, dine\, and boost your bankroll with exciting weekly cash draws!
URL:https://gympiersl.com.au/event/20k-bankroll-boost/2026-04-26/
LOCATION:Gympie RSL
CATEGORIES:All,Major Promotions,Promotions
ATTACH;FMTTYPE=image/jpeg:https://gympiersl.com.au/wp-content/uploads/2026/03/13032026032802-GympieRSL-20KBankrollBoost_WebsiteEventfeaturedimage.jpg
END:VEVENT
END:VCALENDAR