BEGIN:VCALENDAR
VERSION:2.0
PRODID:-//Gympie RSL - ECPv6.15.20//NONSGML v1.0//EN
CALSCALE:GREGORIAN
METHOD:PUBLISH
X-WR-CALNAME:Gympie RSL
X-ORIGINAL-URL:https://gympiersl.com.au
X-WR-CALDESC:Events for Gympie RSL
REFRESH-INTERVAL;VALUE=DURATION:PT1H
X-Robots-Tag:noindex
X-PUBLISHED-TTL:PT1H
BEGIN:VTIMEZONE
TZID:Australia/Brisbane
BEGIN:STANDARD
TZOFFSETFROM:+1000
TZOFFSETTO:+1000
TZNAME:AEST
DTSTART:20250101T000000
END:STANDARD
END:VTIMEZONE
BEGIN:VEVENT
DTSTART;TZID=Australia/Brisbane:20260301T140000
DTEND;TZID=Australia/Brisbane:20260301T163000
DTSTAMP:20260420T222513
CREATED:20260107T014109Z
LAST-MODIFIED:20260201T234236Z
UID:10029030-1772373600-1772382600@gympiersl.com.au
SUMMARY:Cash Clovers
DESCRIPTION:Get lucky with Cash Clovers! From from Monday 26th January – Sunday 22nd March\, 6x members will win up to $600 cash every Sunday! \n⭐ Weekly Wins \nEach week\, 6x members will win up to $600 cash each. \n🕒 Draw Times \n2pm  |  2:30pm \n3pm  |  3:30pm \n4pm  |  4:30pm \n🍀 Burst Bonus \nThe last winner of each day will score an extra $250 bonus cash! \n🎟 How to Enter \nEarn entries with every $10 gaming play\, or $5 spent on food & beverage from 10am on Monday 26th January. \nDon’t miss your chance to turn everyday play and dining into lucky cash wins!
URL:https://gympiersl.com.au/event/cash-clovers/2026-03-01/
LOCATION:Gympie RSL
CATEGORIES:All,Major Promotions,Promotions
ATTACH;FMTTYPE=image/jpeg:https://gympiersl.com.au/wp-content/uploads/2026/01/05012026232916-GympieRSL-CashClovers_WebsiteEventfeaturedimage.jpg
END:VEVENT
BEGIN:VEVENT
DTSTART;TZID=Australia/Brisbane:20260308T140000
DTEND;TZID=Australia/Brisbane:20260308T163000
DTSTAMP:20260420T222513
CREATED:20260107T014109Z
LAST-MODIFIED:20260201T234236Z
UID:10029031-1772978400-1772987400@gympiersl.com.au
SUMMARY:Cash Clovers
DESCRIPTION:Get lucky with Cash Clovers! From from Monday 26th January – Sunday 22nd March\, 6x members will win up to $600 cash every Sunday! \n⭐ Weekly Wins \nEach week\, 6x members will win up to $600 cash each. \n🕒 Draw Times \n2pm  |  2:30pm \n3pm  |  3:30pm \n4pm  |  4:30pm \n🍀 Burst Bonus \nThe last winner of each day will score an extra $250 bonus cash! \n🎟 How to Enter \nEarn entries with every $10 gaming play\, or $5 spent on food & beverage from 10am on Monday 26th January. \nDon’t miss your chance to turn everyday play and dining into lucky cash wins!
URL:https://gympiersl.com.au/event/cash-clovers/2026-03-08/
LOCATION:Gympie RSL
CATEGORIES:All,Major Promotions,Promotions
ATTACH;FMTTYPE=image/jpeg:https://gympiersl.com.au/wp-content/uploads/2026/01/05012026232916-GympieRSL-CashClovers_WebsiteEventfeaturedimage.jpg
END:VEVENT
BEGIN:VEVENT
DTSTART;TZID=Australia/Brisbane:20260315T140000
DTEND;TZID=Australia/Brisbane:20260315T163000
DTSTAMP:20260420T222513
CREATED:20260107T014109Z
LAST-MODIFIED:20260201T234236Z
UID:10029032-1773583200-1773592200@gympiersl.com.au
SUMMARY:Cash Clovers
DESCRIPTION:Get lucky with Cash Clovers! From from Monday 26th January – Sunday 22nd March\, 6x members will win up to $600 cash every Sunday! \n⭐ Weekly Wins \nEach week\, 6x members will win up to $600 cash each. \n🕒 Draw Times \n2pm  |  2:30pm \n3pm  |  3:30pm \n4pm  |  4:30pm \n🍀 Burst Bonus \nThe last winner of each day will score an extra $250 bonus cash! \n🎟 How to Enter \nEarn entries with every $10 gaming play\, or $5 spent on food & beverage from 10am on Monday 26th January. \nDon’t miss your chance to turn everyday play and dining into lucky cash wins!
URL:https://gympiersl.com.au/event/cash-clovers/2026-03-15/
LOCATION:Gympie RSL
CATEGORIES:All,Major Promotions,Promotions
ATTACH;FMTTYPE=image/jpeg:https://gympiersl.com.au/wp-content/uploads/2026/01/05012026232916-GympieRSL-CashClovers_WebsiteEventfeaturedimage.jpg
END:VEVENT
BEGIN:VEVENT
DTSTART;TZID=Australia/Brisbane:20260322T140000
DTEND;TZID=Australia/Brisbane:20260322T163000
DTSTAMP:20260420T222513
CREATED:20260107T014109Z
LAST-MODIFIED:20260201T234236Z
UID:10029033-1774188000-1774197000@gympiersl.com.au
SUMMARY:Cash Clovers
DESCRIPTION:Get lucky with Cash Clovers! From from Monday 26th January – Sunday 22nd March\, 6x members will win up to $600 cash every Sunday! \n⭐ Weekly Wins \nEach week\, 6x members will win up to $600 cash each. \n🕒 Draw Times \n2pm  |  2:30pm \n3pm  |  3:30pm \n4pm  |  4:30pm \n🍀 Burst Bonus \nThe last winner of each day will score an extra $250 bonus cash! \n🎟 How to Enter \nEarn entries with every $10 gaming play\, or $5 spent on food & beverage from 10am on Monday 26th January. \nDon’t miss your chance to turn everyday play and dining into lucky cash wins!
URL:https://gympiersl.com.au/event/cash-clovers/2026-03-22/
LOCATION:Gympie RSL
CATEGORIES:All,Major Promotions,Promotions
ATTACH;FMTTYPE=image/jpeg:https://gympiersl.com.au/wp-content/uploads/2026/01/05012026232916-GympieRSL-CashClovers_WebsiteEventfeaturedimage.jpg
END:VEVENT
END:VCALENDAR