BEGIN:VCALENDAR
VERSION:2.0
PRODID:-//Gympie RSL - ECPv6.15.20//NONSGML v1.0//EN
CALSCALE:GREGORIAN
METHOD:PUBLISH
X-ORIGINAL-URL:https://gympiersl.com.au
X-WR-CALDESC:Events for Gympie RSL
REFRESH-INTERVAL;VALUE=DURATION:PT1H
X-Robots-Tag:noindex
X-PUBLISHED-TTL:PT1H
BEGIN:VTIMEZONE
TZID:Australia/Brisbane
BEGIN:STANDARD
TZOFFSETFROM:+1000
TZOFFSETTO:+1000
TZNAME:AEST
DTSTART:20240101T000000
END:STANDARD
END:VTIMEZONE
BEGIN:VEVENT
DTSTART;TZID=Australia/Brisbane:20251104T143000
DTEND;TZID=Australia/Brisbane:20251104T171500
DTSTAMP:20260421T094302
CREATED:20251017T005355Z
LAST-MODIFIED:20251017T005522Z
UID:10027560-1762266600-1762276500@gympiersl.com.au
SUMMARY:Spring Carnival
DESCRIPTION:Celebrate the joy of Melbourne Cup with Spring Carnival at Gympie RSL – a fun-filled afternoon of prizes\, cash draws\, and sparkling surprises! \n📅 Tuesday 4th November – Melbourne Cup🕝 Draws every 15 minutes | 2:30PM – 5:15PM \nTwelve lucky members will be drawn to play for up to $375 cash! \nPlus\, keep an eye out for our hidden Flowerpots – find one to win a $100 Jackpot and a bottle of French sparkling wine! \nEarn an entry from 10AM on the day with every $10 spent on gaming play\, or $5 spent on food and beverage. \nJoin us for a festive afternoon of colour\, excitement\, and springtime cheer – it’s your chance to play\, win\, and celebrate in style! 🌷💸✨ \nTerms and conditions apply. Gamble responsibly.
URL:https://gympiersl.com.au/event/spring-carnival-2/
LOCATION:Gympie RSL
CATEGORIES:All,Major Promotions,Promotions
ATTACH;FMTTYPE=image/jpeg:https://gympiersl.com.au/wp-content/uploads/2025/10/Gympie-RSL-Spring-Carnival-2025_Website-Event-featured-image.jpg
END:VEVENT
END:VCALENDAR