BEGIN:VCALENDAR
VERSION:2.0
PRODID:-//Gympie RSL - ECPv6.15.20//NONSGML v1.0//EN
CALSCALE:GREGORIAN
METHOD:PUBLISH
X-ORIGINAL-URL:https://gympiersl.com.au
X-WR-CALDESC:Events for Gympie RSL
REFRESH-INTERVAL;VALUE=DURATION:PT1H
X-Robots-Tag:noindex
X-PUBLISHED-TTL:PT1H
BEGIN:VTIMEZONE
TZID:Australia/Brisbane
BEGIN:STANDARD
TZOFFSETFROM:+1000
TZOFFSETTO:+1000
TZNAME:AEST
DTSTART:20240101T000000
END:STANDARD
END:VTIMEZONE
BEGIN:VEVENT
DTSTART;TZID=Australia/Brisbane:20250803T140000
DTEND;TZID=Australia/Brisbane:20250803T163000
DTSTAMP:20260421T191549
CREATED:20250523T045302Z
LAST-MODIFIED:20250606T010211Z
UID:10025904-1754229600-1754238600@gympiersl.com.au
SUMMARY:Cruise or $15K Cash?
DESCRIPTION:Get ready for the ultimate winter promotion at Gympie RSL! From 10AM on Monday 2nd June\, you’ll earn entries into our massive Cruise or Cash giveaway every time you play or dine with us. \nEnter with every $10 play on the gaming machines or every $5 spend on food and beverages\, you’ll receive an entry into our weekly and major prize draws. \nJoin us every Sunday between 2:00PM and 4:30PM for our weekly draws. Each week\, six lucky members will play for the chance to win up to $750 in cash and score a ticket into the major draw. \nThen\, don’t miss the Major Draw on Sunday 31st August at 5:00PM. One lucky winner will choose between a luxurious cruise valued at $15\,000 or $15\,000 in cold\, hard cash! \nThis is your chance to sail away or take the money and run – the choice is yours. \nTerms and conditions apply. Gamble responsibly.
URL:https://gympiersl.com.au/event/cruise-or-15k-cash/2025-08-03/
LOCATION:Gympie RSL
CATEGORIES:All,Major Promotions,Promotions
ATTACH;FMTTYPE=image/jpeg:https://gympiersl.com.au/wp-content/uploads/2025/05/Gympie-RSL-Cruise-or-Cash_Website-Event-featured-image.jpg
END:VEVENT
BEGIN:VEVENT
DTSTART;TZID=Australia/Brisbane:20250810T140000
DTEND;TZID=Australia/Brisbane:20250810T163000
DTSTAMP:20260421T191549
CREATED:20250523T045302Z
LAST-MODIFIED:20250606T010211Z
UID:10025905-1754834400-1754843400@gympiersl.com.au
SUMMARY:Cruise or $15K Cash?
DESCRIPTION:Get ready for the ultimate winter promotion at Gympie RSL! From 10AM on Monday 2nd June\, you’ll earn entries into our massive Cruise or Cash giveaway every time you play or dine with us. \nEnter with every $10 play on the gaming machines or every $5 spend on food and beverages\, you’ll receive an entry into our weekly and major prize draws. \nJoin us every Sunday between 2:00PM and 4:30PM for our weekly draws. Each week\, six lucky members will play for the chance to win up to $750 in cash and score a ticket into the major draw. \nThen\, don’t miss the Major Draw on Sunday 31st August at 5:00PM. One lucky winner will choose between a luxurious cruise valued at $15\,000 or $15\,000 in cold\, hard cash! \nThis is your chance to sail away or take the money and run – the choice is yours. \nTerms and conditions apply. Gamble responsibly.
URL:https://gympiersl.com.au/event/cruise-or-15k-cash/2025-08-10/
LOCATION:Gympie RSL
CATEGORIES:All,Major Promotions,Promotions
ATTACH;FMTTYPE=image/jpeg:https://gympiersl.com.au/wp-content/uploads/2025/05/Gympie-RSL-Cruise-or-Cash_Website-Event-featured-image.jpg
END:VEVENT
BEGIN:VEVENT
DTSTART;TZID=Australia/Brisbane:20250817T140000
DTEND;TZID=Australia/Brisbane:20250817T163000
DTSTAMP:20260421T191549
CREATED:20250523T045302Z
LAST-MODIFIED:20250606T010211Z
UID:10025906-1755439200-1755448200@gympiersl.com.au
SUMMARY:Cruise or $15K Cash?
DESCRIPTION:Get ready for the ultimate winter promotion at Gympie RSL! From 10AM on Monday 2nd June\, you’ll earn entries into our massive Cruise or Cash giveaway every time you play or dine with us. \nEnter with every $10 play on the gaming machines or every $5 spend on food and beverages\, you’ll receive an entry into our weekly and major prize draws. \nJoin us every Sunday between 2:00PM and 4:30PM for our weekly draws. Each week\, six lucky members will play for the chance to win up to $750 in cash and score a ticket into the major draw. \nThen\, don’t miss the Major Draw on Sunday 31st August at 5:00PM. One lucky winner will choose between a luxurious cruise valued at $15\,000 or $15\,000 in cold\, hard cash! \nThis is your chance to sail away or take the money and run – the choice is yours. \nTerms and conditions apply. Gamble responsibly.
URL:https://gympiersl.com.au/event/cruise-or-15k-cash/2025-08-17/
LOCATION:Gympie RSL
CATEGORIES:All,Major Promotions,Promotions
ATTACH;FMTTYPE=image/jpeg:https://gympiersl.com.au/wp-content/uploads/2025/05/Gympie-RSL-Cruise-or-Cash_Website-Event-featured-image.jpg
END:VEVENT
BEGIN:VEVENT
DTSTART;TZID=Australia/Brisbane:20250824T140000
DTEND;TZID=Australia/Brisbane:20250824T163000
DTSTAMP:20260421T191549
CREATED:20250523T045302Z
LAST-MODIFIED:20250606T010211Z
UID:10025907-1756044000-1756053000@gympiersl.com.au
SUMMARY:Cruise or $15K Cash?
DESCRIPTION:Get ready for the ultimate winter promotion at Gympie RSL! From 10AM on Monday 2nd June\, you’ll earn entries into our massive Cruise or Cash giveaway every time you play or dine with us. \nEnter with every $10 play on the gaming machines or every $5 spend on food and beverages\, you’ll receive an entry into our weekly and major prize draws. \nJoin us every Sunday between 2:00PM and 4:30PM for our weekly draws. Each week\, six lucky members will play for the chance to win up to $750 in cash and score a ticket into the major draw. \nThen\, don’t miss the Major Draw on Sunday 31st August at 5:00PM. One lucky winner will choose between a luxurious cruise valued at $15\,000 or $15\,000 in cold\, hard cash! \nThis is your chance to sail away or take the money and run – the choice is yours. \nTerms and conditions apply. Gamble responsibly.
URL:https://gympiersl.com.au/event/cruise-or-15k-cash/2025-08-24/
LOCATION:Gympie RSL
CATEGORIES:All,Major Promotions,Promotions
ATTACH;FMTTYPE=image/jpeg:https://gympiersl.com.au/wp-content/uploads/2025/05/Gympie-RSL-Cruise-or-Cash_Website-Event-featured-image.jpg
END:VEVENT
BEGIN:VEVENT
DTSTART;TZID=Australia/Brisbane:20250831T140000
DTEND;TZID=Australia/Brisbane:20250831T163000
DTSTAMP:20260421T191549
CREATED:20250523T045302Z
LAST-MODIFIED:20250606T010211Z
UID:10025908-1756648800-1756657800@gympiersl.com.au
SUMMARY:Cruise or $15K Cash?
DESCRIPTION:Get ready for the ultimate winter promotion at Gympie RSL! From 10AM on Monday 2nd June\, you’ll earn entries into our massive Cruise or Cash giveaway every time you play or dine with us. \nEnter with every $10 play on the gaming machines or every $5 spend on food and beverages\, you’ll receive an entry into our weekly and major prize draws. \nJoin us every Sunday between 2:00PM and 4:30PM for our weekly draws. Each week\, six lucky members will play for the chance to win up to $750 in cash and score a ticket into the major draw. \nThen\, don’t miss the Major Draw on Sunday 31st August at 5:00PM. One lucky winner will choose between a luxurious cruise valued at $15\,000 or $15\,000 in cold\, hard cash! \nThis is your chance to sail away or take the money and run – the choice is yours. \nTerms and conditions apply. Gamble responsibly.
URL:https://gympiersl.com.au/event/cruise-or-15k-cash/2025-08-31/
LOCATION:Gympie RSL
CATEGORIES:All,Major Promotions,Promotions
ATTACH;FMTTYPE=image/jpeg:https://gympiersl.com.au/wp-content/uploads/2025/05/Gympie-RSL-Cruise-or-Cash_Website-Event-featured-image.jpg
END:VEVENT
END:VCALENDAR