BEGIN:VCALENDAR
VERSION:2.0
PRODID:-//Gympie RSL - ECPv6.15.20//NONSGML v1.0//EN
CALSCALE:GREGORIAN
METHOD:PUBLISH
X-WR-CALNAME:Gympie RSL
X-ORIGINAL-URL:https://gympiersl.com.au
X-WR-CALDESC:Events for Gympie RSL
REFRESH-INTERVAL;VALUE=DURATION:PT1H
X-Robots-Tag:noindex
X-PUBLISHED-TTL:PT1H
BEGIN:VTIMEZONE
TZID:Australia/Brisbane
BEGIN:STANDARD
TZOFFSETFROM:+1000
TZOFFSETTO:+1000
TZNAME:AEST
DTSTART:20240101T000000
END:STANDARD
END:VTIMEZONE
BEGIN:VEVENT
DTSTART;TZID=Australia/Brisbane:20250706T140000
DTEND;TZID=Australia/Brisbane:20250706T163000
DTSTAMP:20260421T225932
CREATED:20250523T045302Z
LAST-MODIFIED:20250606T010211Z
UID:10025900-1751810400-1751819400@gympiersl.com.au
SUMMARY:Cruise or $15K Cash?
DESCRIPTION:Get ready for the ultimate winter promotion at Gympie RSL! From 10AM on Monday 2nd June\, you’ll earn entries into our massive Cruise or Cash giveaway every time you play or dine with us. \nEnter with every $10 play on the gaming machines or every $5 spend on food and beverages\, you’ll receive an entry into our weekly and major prize draws. \nJoin us every Sunday between 2:00PM and 4:30PM for our weekly draws. Each week\, six lucky members will play for the chance to win up to $750 in cash and score a ticket into the major draw. \nThen\, don’t miss the Major Draw on Sunday 31st August at 5:00PM. One lucky winner will choose between a luxurious cruise valued at $15\,000 or $15\,000 in cold\, hard cash! \nThis is your chance to sail away or take the money and run – the choice is yours. \nTerms and conditions apply. Gamble responsibly.
URL:https://gympiersl.com.au/event/cruise-or-15k-cash/2025-07-06/
LOCATION:Gympie RSL
CATEGORIES:All,Major Promotions,Promotions
ATTACH;FMTTYPE=image/jpeg:https://gympiersl.com.au/wp-content/uploads/2025/05/Gympie-RSL-Cruise-or-Cash_Website-Event-featured-image.jpg
END:VEVENT
BEGIN:VEVENT
DTSTART;TZID=Australia/Brisbane:20250710T090000
DTEND;TZID=Australia/Brisbane:20250710T103000
DTSTAMP:20260421T225932
CREATED:20250523T043232Z
LAST-MODIFIED:20250613T000657Z
UID:10023525-1752138000-1752143400@gympiersl.com.au
SUMMARY:School Holiday Fun at Gympie RSL!
DESCRIPTION:Kids Bingo\nJoin us for a fun-filled morning of Kids Bingo at the Atrium Bistro these school holidays! It’s the perfect way to keep the kids entertained in a safe\, family-friendly environment. Great prizes up for grabs and plenty of fun for everyone. \n📅 Date: Thursday\, 10th July 2025\nDoors Open: 9:00 AM\nEyes Down: 9:30 AM\n📍 Location: Atrium Bistro\, Gympie RSL🎟️ Tickets: $10 per child (FREE for kids under 3)Limited tickets available – Book online or at reception from 12th June! \n🎮 Monthly Giveaway:Buy any kids meal during July to enter the draw for a $100 PlayBack Gympie arcade voucher!Drawn on the last day of the month. \n🎉 Major Prize Draw:WIN A PLAYSTATION 5 a $200 EB Games VoucherDrawn after Kids Bingo on the 10th of July.Already entered the arcade voucher draw? You’re automatically in the draw for the PlayStation 5!
URL:https://gympiersl.com.au/event/school-holiday-fun-at-gympie-rsl/
LOCATION:Gympie RSL
CATEGORIES:All,Major Promotions,Weekly Promotions
ATTACH;FMTTYPE=image/jpeg:https://gympiersl.com.au/wp-content/uploads/2025/05/Gympie-RSL-Kids-Bingo-PlayStation-Draw_Web-Event-featured-image.jpg
END:VEVENT
BEGIN:VEVENT
DTSTART;TZID=Australia/Brisbane:20250713T140000
DTEND;TZID=Australia/Brisbane:20250713T163000
DTSTAMP:20260421T225932
CREATED:20250523T045302Z
LAST-MODIFIED:20250606T010211Z
UID:10025901-1752415200-1752424200@gympiersl.com.au
SUMMARY:Cruise or $15K Cash?
DESCRIPTION:Get ready for the ultimate winter promotion at Gympie RSL! From 10AM on Monday 2nd June\, you’ll earn entries into our massive Cruise or Cash giveaway every time you play or dine with us. \nEnter with every $10 play on the gaming machines or every $5 spend on food and beverages\, you’ll receive an entry into our weekly and major prize draws. \nJoin us every Sunday between 2:00PM and 4:30PM for our weekly draws. Each week\, six lucky members will play for the chance to win up to $750 in cash and score a ticket into the major draw. \nThen\, don’t miss the Major Draw on Sunday 31st August at 5:00PM. One lucky winner will choose between a luxurious cruise valued at $15\,000 or $15\,000 in cold\, hard cash! \nThis is your chance to sail away or take the money and run – the choice is yours. \nTerms and conditions apply. Gamble responsibly.
URL:https://gympiersl.com.au/event/cruise-or-15k-cash/2025-07-13/
LOCATION:Gympie RSL
CATEGORIES:All,Major Promotions,Promotions
ATTACH;FMTTYPE=image/jpeg:https://gympiersl.com.au/wp-content/uploads/2025/05/Gympie-RSL-Cruise-or-Cash_Website-Event-featured-image.jpg
END:VEVENT
BEGIN:VEVENT
DTSTART;TZID=Australia/Brisbane:20250720T140000
DTEND;TZID=Australia/Brisbane:20250720T163000
DTSTAMP:20260421T225932
CREATED:20250523T045302Z
LAST-MODIFIED:20250606T010211Z
UID:10025902-1753020000-1753029000@gympiersl.com.au
SUMMARY:Cruise or $15K Cash?
DESCRIPTION:Get ready for the ultimate winter promotion at Gympie RSL! From 10AM on Monday 2nd June\, you’ll earn entries into our massive Cruise or Cash giveaway every time you play or dine with us. \nEnter with every $10 play on the gaming machines or every $5 spend on food and beverages\, you’ll receive an entry into our weekly and major prize draws. \nJoin us every Sunday between 2:00PM and 4:30PM for our weekly draws. Each week\, six lucky members will play for the chance to win up to $750 in cash and score a ticket into the major draw. \nThen\, don’t miss the Major Draw on Sunday 31st August at 5:00PM. One lucky winner will choose between a luxurious cruise valued at $15\,000 or $15\,000 in cold\, hard cash! \nThis is your chance to sail away or take the money and run – the choice is yours. \nTerms and conditions apply. Gamble responsibly.
URL:https://gympiersl.com.au/event/cruise-or-15k-cash/2025-07-20/
LOCATION:Gympie RSL
CATEGORIES:All,Major Promotions,Promotions
ATTACH;FMTTYPE=image/jpeg:https://gympiersl.com.au/wp-content/uploads/2025/05/Gympie-RSL-Cruise-or-Cash_Website-Event-featured-image.jpg
END:VEVENT
BEGIN:VEVENT
DTSTART;TZID=Australia/Brisbane:20250727T140000
DTEND;TZID=Australia/Brisbane:20250727T163000
DTSTAMP:20260421T225932
CREATED:20250523T045302Z
LAST-MODIFIED:20250606T010211Z
UID:10025903-1753624800-1753633800@gympiersl.com.au
SUMMARY:Cruise or $15K Cash?
DESCRIPTION:Get ready for the ultimate winter promotion at Gympie RSL! From 10AM on Monday 2nd June\, you’ll earn entries into our massive Cruise or Cash giveaway every time you play or dine with us. \nEnter with every $10 play on the gaming machines or every $5 spend on food and beverages\, you’ll receive an entry into our weekly and major prize draws. \nJoin us every Sunday between 2:00PM and 4:30PM for our weekly draws. Each week\, six lucky members will play for the chance to win up to $750 in cash and score a ticket into the major draw. \nThen\, don’t miss the Major Draw on Sunday 31st August at 5:00PM. One lucky winner will choose between a luxurious cruise valued at $15\,000 or $15\,000 in cold\, hard cash! \nThis is your chance to sail away or take the money and run – the choice is yours. \nTerms and conditions apply. Gamble responsibly.
URL:https://gympiersl.com.au/event/cruise-or-15k-cash/2025-07-27/
LOCATION:Gympie RSL
CATEGORIES:All,Major Promotions,Promotions
ATTACH;FMTTYPE=image/jpeg:https://gympiersl.com.au/wp-content/uploads/2025/05/Gympie-RSL-Cruise-or-Cash_Website-Event-featured-image.jpg
END:VEVENT
END:VCALENDAR