BEGIN:VCALENDAR
VERSION:2.0
PRODID:-//Gympie RSL - ECPv6.15.20//NONSGML v1.0//EN
CALSCALE:GREGORIAN
METHOD:PUBLISH
X-ORIGINAL-URL:https://gympiersl.com.au
X-WR-CALDESC:Events for Gympie RSL
REFRESH-INTERVAL;VALUE=DURATION:PT1H
X-Robots-Tag:noindex
X-PUBLISHED-TTL:PT1H
BEGIN:VTIMEZONE
TZID:Australia/Brisbane
BEGIN:STANDARD
TZOFFSETFROM:+1000
TZOFFSETTO:+1000
TZNAME:AEST
DTSTART:20240101T000000
END:STANDARD
END:VTIMEZONE
BEGIN:VEVENT
DTSTART;TZID=Australia/Brisbane:20250516T170000
DTEND;TZID=Australia/Brisbane:20250516T193000
DTSTAMP:20260422T114904
CREATED:20250131T010510Z
LAST-MODIFIED:20250311T034527Z
UID:10021403-1747414800-1747423800@gympiersl.com.au
SUMMARY:Show(day) Me the Money – Gympie Show Holiday
DESCRIPTION:Celebrate the Gympie Show Holiday with our Show(day) Me the Money promotion on Friday\, 16th May! \nWith draws every 30 minutes from 5pm – 7:30pm\, six lucky members will get the chance to play for a showbag and a share in $1\,500 cash! \n\n\n\n\nEnter from 10am on Friday 16th May with every $10 gaming play\, and earn double entries from 1pm – 5pm! \n\n\n\n\nDon’t miss your chance to win big and enjoy the excitement this Show Holiday at Gympie RSL!
URL:https://gympiersl.com.au/event/showday-me-the-money-gympie-show-holiday/
LOCATION:Gympie RSL
CATEGORIES:Major Promotions,Promotions
ATTACH;FMTTYPE=image/jpeg:https://gympiersl.com.au/wp-content/uploads/2025/01/Gympie-RSL-Showday-Me-the-Money_Website-Event-featured-image.jpg
END:VEVENT
END:VCALENDAR