BEGIN:VCALENDAR
VERSION:2.0
PRODID:-//Gympie RSL - ECPv6.15.20//NONSGML v1.0//EN
CALSCALE:GREGORIAN
METHOD:PUBLISH
X-ORIGINAL-URL:https://gympiersl.com.au
X-WR-CALDESC:Events for Gympie RSL
REFRESH-INTERVAL;VALUE=DURATION:PT1H
X-Robots-Tag:noindex
X-PUBLISHED-TTL:PT1H
BEGIN:VTIMEZONE
TZID:Australia/Brisbane
BEGIN:STANDARD
TZOFFSETFROM:+1000
TZOFFSETTO:+1000
TZNAME:AEST
DTSTART:20240101T000000
END:STANDARD
END:VTIMEZONE
BEGIN:VEVENT
DTSTART;TZID=Australia/Brisbane:20250105T140000
DTEND;TZID=Australia/Brisbane:20250105T163000
DTSTAMP:20260423T040328
CREATED:20241117T231408Z
LAST-MODIFIED:20241118T003657Z
UID:10020776-1736085600-1736094600@gympiersl.com.au
SUMMARY:Summer Spins
DESCRIPTION:Your Chance to Win Big! \nFrom Monday 25th November to Sunday 19th January\, we’re turning up the heat with our Summer Spins promotion! Each week\, six lucky members will have the chance to win up to $2\,000 in cash. \nBut that’s not all\, if you land on a pair of sunglasses when you spin the wheel\, you’ll double your winnings\, making this summer even more rewarding. \nDraws will be held every Sunday at 2pm on the following dates: \n1st December \n8th December \n15th December \n22nd December \n29th December \n5th January \n12th January \n19th January \nEarn entries by spending $10 on gaming play or $5 on food and beverages. \nDon’t miss your opportunity to make this summer unforgettable. Start earning entries today and get ready to spin your way to cash prizes!
URL:https://gympiersl.com.au/event/summer-spins/2025-01-05/
CATEGORIES:Major Promotions,Promotions,Weekly Promotions
ATTACH;FMTTYPE=image/jpeg:https://gympiersl.com.au/wp-content/uploads/2024/11/Gympie-RSL-Summer-Spins_Website-Event-featured-image.jpg
END:VEVENT
BEGIN:VEVENT
DTSTART;VALUE=DATE:20250109
DTEND;VALUE=DATE:20250110
DTSTAMP:20260423T040328
CREATED:20241101T050418Z
LAST-MODIFIED:20241211T035024Z
UID:10020768-1736380800-1736467199@gympiersl.com.au
SUMMARY:Win a PlayStation!
DESCRIPTION:Get ready for Gympie RSL’s major prize draw for a chance to win a brand-new PlayStation!\n\n\n\n\n\n\n\n\n\n\n\nIf you purchased a kid’s meal between November 30th and December 31st\, you’re automatically entered into the draw. \nThe winner will be announced at the Kids Disco on January 9th\, adding to the excitement of the night! \n\n\n\n\nDon’t miss out on an extra chance to win! If you’re the lucky winner and attend the Kids Disco on January 9th from 10am to 1pm\, you’ll also receive a bonus $200 EB Games voucher!
URL:https://gympiersl.com.au/event/win-a-playstation/
CATEGORIES:Major Promotions,Weekly Promotions
ATTACH;FMTTYPE=image/jpeg:https://gympiersl.com.au/wp-content/uploads/2024/11/Gympie-RSL-Playback-Vouchers_Web-Event-featured-image.jpg
END:VEVENT
BEGIN:VEVENT
DTSTART;TZID=Australia/Brisbane:20250110T180000
DTEND;TZID=Australia/Brisbane:20250110T211000
DTSTAMP:20260423T040328
CREATED:20241201T221351Z
LAST-MODIFIED:20241211T034357Z
UID:10020780-1736532000-1736543400@gympiersl.com.au
SUMMARY:Dollar Dash
DESCRIPTION:Introducing Dollar Dash! Do you want the chance to share in $2\,000 cash?! On Friday 10th January\, enter from 10am with every $10 gaming play to be in the running. \nDraws every 10 minutes from 6pm – 9.10pm so don’t miss out! 20 x members will share in $2\,000 cash! \nStick around for our Keno Major Draw at 9.30pm where 1 lucky winner will take home $2\,000 cash. \nFor more information click here. \nWe hope to see you at the club on this special day!
URL:https://gympiersl.com.au/event/dollar-dash/
CATEGORIES:Major Promotions,Weekly Promotions
ATTACH;FMTTYPE=image/jpeg:https://gympiersl.com.au/wp-content/uploads/2024/12/Gympie-RSL-Dollar-Dash_Website-Event-featured-image.jpg
END:VEVENT
BEGIN:VEVENT
DTSTART;TZID=Australia/Brisbane:20250112T140000
DTEND;TZID=Australia/Brisbane:20250112T163000
DTSTAMP:20260423T040328
CREATED:20241117T231408Z
LAST-MODIFIED:20241118T003657Z
UID:10020777-1736690400-1736699400@gympiersl.com.au
SUMMARY:Summer Spins
DESCRIPTION:Your Chance to Win Big! \nFrom Monday 25th November to Sunday 19th January\, we’re turning up the heat with our Summer Spins promotion! Each week\, six lucky members will have the chance to win up to $2\,000 in cash. \nBut that’s not all\, if you land on a pair of sunglasses when you spin the wheel\, you’ll double your winnings\, making this summer even more rewarding. \nDraws will be held every Sunday at 2pm on the following dates: \n1st December \n8th December \n15th December \n22nd December \n29th December \n5th January \n12th January \n19th January \nEarn entries by spending $10 on gaming play or $5 on food and beverages. \nDon’t miss your opportunity to make this summer unforgettable. Start earning entries today and get ready to spin your way to cash prizes!
URL:https://gympiersl.com.au/event/summer-spins/2025-01-12/
CATEGORIES:Major Promotions,Promotions,Weekly Promotions
ATTACH;FMTTYPE=image/jpeg:https://gympiersl.com.au/wp-content/uploads/2024/11/Gympie-RSL-Summer-Spins_Website-Event-featured-image.jpg
END:VEVENT
BEGIN:VEVENT
DTSTART;TZID=Australia/Brisbane:20250119T140000
DTEND;TZID=Australia/Brisbane:20250119T163000
DTSTAMP:20260423T040328
CREATED:20241117T231408Z
LAST-MODIFIED:20241118T003657Z
UID:10020778-1737295200-1737304200@gympiersl.com.au
SUMMARY:Summer Spins
DESCRIPTION:Your Chance to Win Big! \nFrom Monday 25th November to Sunday 19th January\, we’re turning up the heat with our Summer Spins promotion! Each week\, six lucky members will have the chance to win up to $2\,000 in cash. \nBut that’s not all\, if you land on a pair of sunglasses when you spin the wheel\, you’ll double your winnings\, making this summer even more rewarding. \nDraws will be held every Sunday at 2pm on the following dates: \n1st December \n8th December \n15th December \n22nd December \n29th December \n5th January \n12th January \n19th January \nEarn entries by spending $10 on gaming play or $5 on food and beverages. \nDon’t miss your opportunity to make this summer unforgettable. Start earning entries today and get ready to spin your way to cash prizes!
URL:https://gympiersl.com.au/event/summer-spins/2025-01-19/
CATEGORIES:Major Promotions,Promotions,Weekly Promotions
ATTACH;FMTTYPE=image/jpeg:https://gympiersl.com.au/wp-content/uploads/2024/11/Gympie-RSL-Summer-Spins_Website-Event-featured-image.jpg
END:VEVENT
BEGIN:VEVENT
DTSTART;TZID=Australia/Brisbane:20250126T140000
DTEND;TZID=Australia/Brisbane:20250126T162000
DTSTAMP:20260423T040328
CREATED:20241201T231021Z
LAST-MODIFIED:20250129T000812Z
UID:10020781-1737900000-1737908400@gympiersl.com.au
SUMMARY:Down Under Dollars
DESCRIPTION:Gympie get ready for Down Under Dollars! This Australia Day you have the chance to share in $1\,500 cash! \nEnter from 10am on Sunday 26th January – Australia Day with every $10 gaming play for your chance to win! \nDraws every 10 minutes from 2pm – 4.20pm\, 15 x members will share in $1\,500 cash. \nPlus… did you renew your membership in 2024?! Stick around for our early bird renewals Major Draw at 4.30pm\, where 1 lucky winner will take home a 75-inch TV! \nWe hope to see you at the club!
URL:https://gympiersl.com.au/event/down-under-dollars/
CATEGORIES:All,Major Promotions,Members Draws
ATTACH;FMTTYPE=image/jpeg:https://gympiersl.com.au/wp-content/uploads/2024/12/Gympie-RSL-Down-Under-Dollars_Website-Event-featured-image.jpg
END:VEVENT
BEGIN:VEVENT
DTSTART;TZID=Australia/Brisbane:20250127T130000
DTEND;TZID=Australia/Brisbane:20250127T163000
DTSTAMP:20260423T040328
CREATED:20241213T030821Z
LAST-MODIFIED:20250129T000800Z
UID:10021087-1737982800-1737995400@gympiersl.com.au
SUMMARY:Crocodiles and Cash
DESCRIPTION:Celebrate Australia Day with our Crocodiles & Cash event on Monday\, January 27th! \nFrom 1:00PM to 4:30PM\, we’ll be drawing every 30 minutes\, giving 8 lucky members the chance to win a share of $1\,500 cash. \nEarn double entries from 10:00AM to 1:00PM by playing on the gaming machines\, and for every $10 you play\, you’ll get one entry into the draw. \nDon’t miss out on your chance to win big this public holiday! \nTerms & conditions apply. Gamble responsibly.
URL:https://gympiersl.com.au/event/crocodiles-and-cash/
CATEGORIES:All,Major Promotions,Promotions
ATTACH;FMTTYPE=image/jpeg:https://gympiersl.com.au/wp-content/uploads/2024/12/Gympie-RSL-Crocodiles-and-Cash_Website-Page-Banner.jpg
END:VEVENT
END:VCALENDAR