BEGIN:VCALENDAR
VERSION:2.0
PRODID:-//Gympie RSL - ECPv6.15.20//NONSGML v1.0//EN
CALSCALE:GREGORIAN
METHOD:PUBLISH
X-ORIGINAL-URL:https://gympiersl.com.au
X-WR-CALDESC:Events for Gympie RSL
REFRESH-INTERVAL;VALUE=DURATION:PT1H
X-Robots-Tag:noindex
X-PUBLISHED-TTL:PT1H
BEGIN:VTIMEZONE
TZID:Australia/Brisbane
BEGIN:STANDARD
TZOFFSETFROM:+1000
TZOFFSETTO:+1000
TZNAME:AEST
DTSTART:20230101T000000
END:STANDARD
END:VTIMEZONE
BEGIN:VEVENT
DTSTART;TZID=Australia/Brisbane:20241201T140000
DTEND;TZID=Australia/Brisbane:20241201T163000
DTSTAMP:20260423T091459
CREATED:20241117T231408Z
LAST-MODIFIED:20241118T003657Z
UID:10020771-1733061600-1733070600@gympiersl.com.au
SUMMARY:Summer Spins
DESCRIPTION:Your Chance to Win Big! \nFrom Monday 25th November to Sunday 19th January\, we’re turning up the heat with our Summer Spins promotion! Each week\, six lucky members will have the chance to win up to $2\,000 in cash. \nBut that’s not all\, if you land on a pair of sunglasses when you spin the wheel\, you’ll double your winnings\, making this summer even more rewarding. \nDraws will be held every Sunday at 2pm on the following dates: \n1st December \n8th December \n15th December \n22nd December \n29th December \n5th January \n12th January \n19th January \nEarn entries by spending $10 on gaming play or $5 on food and beverages. \nDon’t miss your opportunity to make this summer unforgettable. Start earning entries today and get ready to spin your way to cash prizes!
URL:https://gympiersl.com.au/event/summer-spins/2024-12-01/
CATEGORIES:Major Promotions,Promotions,Weekly Promotions
ATTACH;FMTTYPE=image/jpeg:https://gympiersl.com.au/wp-content/uploads/2024/11/Gympie-RSL-Summer-Spins_Website-Event-featured-image.jpg
END:VEVENT
BEGIN:VEVENT
DTSTART;TZID=Australia/Brisbane:20241208T140000
DTEND;TZID=Australia/Brisbane:20241208T163000
DTSTAMP:20260423T091459
CREATED:20241117T231408Z
LAST-MODIFIED:20241118T003657Z
UID:10020772-1733666400-1733675400@gympiersl.com.au
SUMMARY:Summer Spins
DESCRIPTION:Your Chance to Win Big! \nFrom Monday 25th November to Sunday 19th January\, we’re turning up the heat with our Summer Spins promotion! Each week\, six lucky members will have the chance to win up to $2\,000 in cash. \nBut that’s not all\, if you land on a pair of sunglasses when you spin the wheel\, you’ll double your winnings\, making this summer even more rewarding. \nDraws will be held every Sunday at 2pm on the following dates: \n1st December \n8th December \n15th December \n22nd December \n29th December \n5th January \n12th January \n19th January \nEarn entries by spending $10 on gaming play or $5 on food and beverages. \nDon’t miss your opportunity to make this summer unforgettable. Start earning entries today and get ready to spin your way to cash prizes!
URL:https://gympiersl.com.au/event/summer-spins/2024-12-08/
CATEGORIES:Major Promotions,Promotions,Weekly Promotions
ATTACH;FMTTYPE=image/jpeg:https://gympiersl.com.au/wp-content/uploads/2024/11/Gympie-RSL-Summer-Spins_Website-Event-featured-image.jpg
END:VEVENT
BEGIN:VEVENT
DTSTART;TZID=Australia/Brisbane:20241215T140000
DTEND;TZID=Australia/Brisbane:20241215T163000
DTSTAMP:20260423T091459
CREATED:20241117T231408Z
LAST-MODIFIED:20241118T003657Z
UID:10020773-1734271200-1734280200@gympiersl.com.au
SUMMARY:Summer Spins
DESCRIPTION:Your Chance to Win Big! \nFrom Monday 25th November to Sunday 19th January\, we’re turning up the heat with our Summer Spins promotion! Each week\, six lucky members will have the chance to win up to $2\,000 in cash. \nBut that’s not all\, if you land on a pair of sunglasses when you spin the wheel\, you’ll double your winnings\, making this summer even more rewarding. \nDraws will be held every Sunday at 2pm on the following dates: \n1st December \n8th December \n15th December \n22nd December \n29th December \n5th January \n12th January \n19th January \nEarn entries by spending $10 on gaming play or $5 on food and beverages. \nDon’t miss your opportunity to make this summer unforgettable. Start earning entries today and get ready to spin your way to cash prizes!
URL:https://gympiersl.com.au/event/summer-spins/2024-12-15/
CATEGORIES:Major Promotions,Promotions,Weekly Promotions
ATTACH;FMTTYPE=image/jpeg:https://gympiersl.com.au/wp-content/uploads/2024/11/Gympie-RSL-Summer-Spins_Website-Event-featured-image.jpg
END:VEVENT
BEGIN:VEVENT
DTSTART;TZID=Australia/Brisbane:20241222T140000
DTEND;TZID=Australia/Brisbane:20241222T163000
DTSTAMP:20260423T091459
CREATED:20241117T231408Z
LAST-MODIFIED:20241118T003657Z
UID:10020774-1734876000-1734885000@gympiersl.com.au
SUMMARY:Summer Spins
DESCRIPTION:Your Chance to Win Big! \nFrom Monday 25th November to Sunday 19th January\, we’re turning up the heat with our Summer Spins promotion! Each week\, six lucky members will have the chance to win up to $2\,000 in cash. \nBut that’s not all\, if you land on a pair of sunglasses when you spin the wheel\, you’ll double your winnings\, making this summer even more rewarding. \nDraws will be held every Sunday at 2pm on the following dates: \n1st December \n8th December \n15th December \n22nd December \n29th December \n5th January \n12th January \n19th January \nEarn entries by spending $10 on gaming play or $5 on food and beverages. \nDon’t miss your opportunity to make this summer unforgettable. Start earning entries today and get ready to spin your way to cash prizes!
URL:https://gympiersl.com.au/event/summer-spins/2024-12-22/
CATEGORIES:Major Promotions,Promotions,Weekly Promotions
ATTACH;FMTTYPE=image/jpeg:https://gympiersl.com.au/wp-content/uploads/2024/11/Gympie-RSL-Summer-Spins_Website-Event-featured-image.jpg
END:VEVENT
BEGIN:VEVENT
DTSTART;TZID=Australia/Brisbane:20241229T140000
DTEND;TZID=Australia/Brisbane:20241229T163000
DTSTAMP:20260423T091459
CREATED:20241117T231408Z
LAST-MODIFIED:20241118T003657Z
UID:10020775-1735480800-1735489800@gympiersl.com.au
SUMMARY:Summer Spins
DESCRIPTION:Your Chance to Win Big! \nFrom Monday 25th November to Sunday 19th January\, we’re turning up the heat with our Summer Spins promotion! Each week\, six lucky members will have the chance to win up to $2\,000 in cash. \nBut that’s not all\, if you land on a pair of sunglasses when you spin the wheel\, you’ll double your winnings\, making this summer even more rewarding. \nDraws will be held every Sunday at 2pm on the following dates: \n1st December \n8th December \n15th December \n22nd December \n29th December \n5th January \n12th January \n19th January \nEarn entries by spending $10 on gaming play or $5 on food and beverages. \nDon’t miss your opportunity to make this summer unforgettable. Start earning entries today and get ready to spin your way to cash prizes!
URL:https://gympiersl.com.au/event/summer-spins/2024-12-29/
CATEGORIES:Major Promotions,Promotions,Weekly Promotions
ATTACH;FMTTYPE=image/jpeg:https://gympiersl.com.au/wp-content/uploads/2024/11/Gympie-RSL-Summer-Spins_Website-Event-featured-image.jpg
END:VEVENT
END:VCALENDAR