BEGIN:VCALENDAR
VERSION:2.0
PRODID:-//Gympie RSL - ECPv6.15.20//NONSGML v1.0//EN
CALSCALE:GREGORIAN
METHOD:PUBLISH
X-ORIGINAL-URL:https://gympiersl.com.au
X-WR-CALDESC:Events for Gympie RSL
REFRESH-INTERVAL;VALUE=DURATION:PT1H
X-Robots-Tag:noindex
X-PUBLISHED-TTL:PT1H
BEGIN:VTIMEZONE
TZID:Australia/Brisbane
BEGIN:STANDARD
TZOFFSETFROM:+1000
TZOFFSETTO:+1000
TZNAME:AEST
DTSTART:20240101T000000
END:STANDARD
END:VTIMEZONE
BEGIN:VEVENT
DTSTART;TZID=Australia/Brisbane:20251231T203000
DTEND;TZID=Australia/Brisbane:20260101T003000
DTSTAMP:20260422T230154
CREATED:20251127T000802Z
LAST-MODIFIED:20251127T001129Z
UID:10027951-1767213000-1767227400@gympiersl.com.au
SUMMARY:NYE Party
DESCRIPTION:Celebrate 2025 in Style!🎆\nWednesday 31st December 20258:30pm – 12:30am | Rhythm Bar\, Gympie RSL \nCelebrate the new year with a huge night of live music and festive energy! Join us at the Rhythm Bar for an unforgettable NYE celebration. \n🎶Live Entertainment \nEnjoy an incredible lineup of live acts: \nPity Vincent \nOceans for Sirius \nThank You Please \nFour hours of music to keep the party going right through to midnight! \n⭐FREE EVENT \nSimply come along and enjoy the celebration! \nBring your friends\, enjoy the atmosphere\, and ring in 2026 in style at the Gympie RSL.
URL:https://gympiersl.com.au/event/nye-party/
LOCATION:Gympie RSL
CATEGORIES:All,Entertainment,Live Music,Promotions,Special Events
ATTACH;FMTTYPE=image/jpeg:https://gympiersl.com.au/wp-content/uploads/2025/11/26112025233322-GympieRSL-NYEParty2025_WebsiteEventfeaturedimage.jpg
END:VEVENT
BEGIN:VEVENT
DTSTART;TZID=Australia/Brisbane:20260117T100000
DTEND;TZID=Australia/Brisbane:20260117T140000
DTSTAMP:20260422T230154
CREATED:20251216T053818Z
LAST-MODIFIED:20251216T053818Z
UID:10028306-1768644000-1768658400@gympiersl.com.au
SUMMARY:Community Day
DESCRIPTION:🎉Fun for the Whole Family \nJoin us for a fantastic Community Day on Saturday 17th January from 10am – 2pm at Nelson Reserve Park! Enjoy a day packed with fun\, food\, and entertainment for all ages! Bring the family along and enjoy a relaxed day out celebrating our local community. \n🎶 What’s On: \n-Delicious food & market stalls \n-Live music throughout the day \n-Face painting \n-Jumping castle \n-Petting zoo \n-Balloon twisting \n-Special visit from the Gympie Fire Station firefighters \nSet in the beautiful Nelson Reserve Park\, it’s the perfect way to spend a summer Saturday with friends\, neighbours\, and family.
URL:https://gympiersl.com.au/event/community-day/
LOCATION:Gympie RSL
CATEGORIES:All,Special Events,Welfare,Welfare Featured
ATTACH;FMTTYPE=image/jpeg:https://gympiersl.com.au/wp-content/uploads/2025/12/16122025012220-GympieRSL-CommunityDay_WebsiteEventfeaturedimage.jpg
END:VEVENT
BEGIN:VEVENT
DTSTART;TZID=Australia/Brisbane:20260122T093000
DTEND;TZID=Australia/Brisbane:20260122T130000
DTSTAMP:20260422T230154
CREATED:20251211T011839Z
LAST-MODIFIED:20251211T015805Z
UID:10027974-1769074200-1769086800@gympiersl.com.au
SUMMARY:Kids Bingo
DESCRIPTION:Join us on Thursday 22nd January 2026 in the Atrium Bistro for a fun-filled morning at our Kids Bingo event! Perfect for the school holidays with exciting prizes and a family-friendly atmosphere\, it’s an event the kids will love.🎁 \n🕒 Event Details \nDoors open: 9:30am \nEyes down: 10:00am \nEntry: $10 per child \nKids under 3: FREE \n🎟Book Online \nLimited tickets available — book online* or at reception. \n*Online booking fees apply. All children must be accompanied by a parent or legal guardian at all times. This is a non-alcoholic event.
URL:https://gympiersl.com.au/event/kids-bingo-3/
LOCATION:Gympie RSL
CATEGORIES:All,Bingo,Entertainment,Special Events
ATTACH;FMTTYPE=image/jpeg:https://gympiersl.com.au/wp-content/uploads/2025/12/11122025015611-GympieRSL-KidsBingoJanuary2026_websitefeaturedimage.jpg
END:VEVENT
END:VCALENDAR