BEGIN:VCALENDAR
VERSION:2.0
PRODID:-//Gympie RSL - ECPv6.15.20//NONSGML v1.0//EN
CALSCALE:GREGORIAN
METHOD:PUBLISH
X-ORIGINAL-URL:https://gympiersl.com.au
X-WR-CALDESC:Events for Gympie RSL
REFRESH-INTERVAL;VALUE=DURATION:PT1H
X-Robots-Tag:noindex
X-PUBLISHED-TTL:PT1H
BEGIN:VTIMEZONE
TZID:Australia/Brisbane
BEGIN:STANDARD
TZOFFSETFROM:+1000
TZOFFSETTO:+1000
TZNAME:AEST
DTSTART:20240101T000000
END:STANDARD
END:VTIMEZONE
BEGIN:VEVENT
DTSTART;TZID=Australia/Brisbane:20250709T160000
DTEND;TZID=Australia/Brisbane:20250709T220000
DTSTAMP:20260423T212101
CREATED:20250612T235821Z
LAST-MODIFIED:20250612T235821Z
UID:10025922-1752076800-1752098400@gympiersl.com.au
SUMMARY:State of Origin - Game 3
DESCRIPTION:State of Origin – Game 3 at the Gympie RSL!Get ready for the biggest rivalry in rugby league as Game 3 of the 2025 State of Origin kicks off at the Rhythm Bar\, Gympie RSL! \n🔥 Food & Beverage Specials from 4pm–8pm to fuel your game-day hunger🏉 Catch every heart-pounding moment live on our massive screen — it’s the next best thing to being at Accor Stadium!🍻 Buy any XXXX product and receive a scratch card for your chance to win some epic prizes! \nRound up your mates\, throw on your team colours\, and make Gympie RSL your home of State of Origin 2025!
URL:https://gympiersl.com.au/event/state-of-origin-game-3/
LOCATION:Rhythm Sports Bar\, 217 Mary Street\, Gympie\, QLD\, 4570
CATEGORIES:All,Entertainment,Special Events
END:VEVENT
BEGIN:VEVENT
DTSTART;TZID=Australia/Brisbane:20250724T170000
DTEND;TZID=Australia/Brisbane:20250724T190000
DTSTAMP:20260423T212101
CREATED:20250603T235309Z
LAST-MODIFIED:20250603T235341Z
UID:10025894-1753376400-1753383600@gympiersl.com.au
SUMMARY:Xmas in July Bingo
DESCRIPTION:Thursday 24th July | Gympie RSL \nCelebrate the festive season early with a night of cheer\, great food\, and exciting bingo at Gympie RSL! Join us on Thursday\, 24th July for our special Xmas in July Bingo! \n✨ What’s Happening: \nDoors Open: 5:00pm\nFestive Dinner Served: 5:30pm\nEyes Down for Bingo: 7:00pm \nRaffles & Lucky Door Prizes throughout the night \n🍽️ Enjoy a Festive 2-Course Meal!Pre-book for just $15 or pay $20 on the night. \nChoose from:\nRoast of the DayBeer Battered Fish with Chips & Salad\nFollowed by a delicious Christmas dessert! \n📍 Where: Gympie RSL\, 217 Mary Street\, Gympie🎟️ Bookings Essential – Visit Reception or Call (07) 5482 1018 \nDon’t miss this fun-filled night of festive cheer\, tasty food\, and great prizes. Book now to secure your seat!
URL:https://gympiersl.com.au/event/xmas-in-july-bingo/
LOCATION:Gympie RSL
CATEGORIES:All,Entertainment,Meal Specials,Special Events
ATTACH;FMTTYPE=image/jpeg:https://gympiersl.com.au/wp-content/uploads/2025/06/Gympie-RSL-Xmas-in-July-Bingo-Roast_Website-Event-featured-image.jpg
END:VEVENT
END:VCALENDAR