BEGIN:VCALENDAR
VERSION:2.0
PRODID:-//Gympie RSL - ECPv6.15.20//NONSGML v1.0//EN
CALSCALE:GREGORIAN
METHOD:PUBLISH
X-WR-CALNAME:Gympie RSL
X-ORIGINAL-URL:https://gympiersl.com.au
X-WR-CALDESC:Events for Gympie RSL
REFRESH-INTERVAL;VALUE=DURATION:PT1H
X-Robots-Tag:noindex
X-PUBLISHED-TTL:PT1H
BEGIN:VTIMEZONE
TZID:Australia/Brisbane
BEGIN:STANDARD
TZOFFSETFROM:+1000
TZOFFSETTO:+1000
TZNAME:AEST
DTSTART:20240101T000000
END:STANDARD
END:VTIMEZONE
BEGIN:VEVENT
DTSTART;TZID=Australia/Brisbane:20250510T190000
DTEND;TZID=Australia/Brisbane:20250510T213000
DTSTAMP:20260424T010711
CREATED:20250409T011450Z
LAST-MODIFIED:20250409T013249Z
UID:10023084-1746903600-1746912600@gympiersl.com.au
SUMMARY:Mother's Day - Elvis Tribute
DESCRIPTION:  \n \n  \n🌟 A Dazzling Mother’s Day Elvis Tribute Show in Gympie! 🌟\nThis Mother’s Day weekend\, give Mum the royal treatment with an unforgettable evening of glitz\, glamour\, and rock ‘n’ roll magic! The sensational Doug Charles\, award-winning Elvis Tribute Artist\, returns to Gympie for one night only—bringing the electrifying spirit of Elvis Presley back to life in a show that’ll leave hearts racing and hips shaking. \n  \n💃 BUT HURRY—ONLY 80 TICKETS AVAILABLE! This is an intimate\, limited-seating event and it will sell out fast! \nStep into a world of rhinestone jumpsuits\, powerhouse vocals\, and the timeless hits of The King. With a massive 3-metre cinema screen showcasing rare Elvis footage\, you’ll be swept away in a full-scale\, immersive experience that feels like Elvis himself is in the room. \n  \n💐 Special Surprises Just for Mum!\nFrom exclusive prizes to heartfelt moments\, we’re pulling out all the stops to make Mum feel like the queen she is. Whether you’re coming with family or friends\, expect 2.5 hours of high-octane entertainment\, emotional ballads\, and irresistible energy. \n  \n✨ More Than a Tribute—It’s a Theatrical Spectacle!\nThis isn’t your average tribute show. With an open dance floor\, interactive moments\, and a full stage production\, get ready to sing\, sway\, and celebrate the music that defined a generation. \n  \n🔹 Meet Doug Charles – The Real Deal\n2023 Parkes Elvis Festival “Tribute to the King” Champion and standout performer at Australia’s Ultimate Elvis Tribute events in both Parkes and Cooly Rocks On. \n  \n🎟 Tickets: Just $30 Per Person\n🚪 Rhythm Bar opens at 6:30 PM (unreserved seating)\n🍽 Dinner available from 5:00 PM – Bookings essential Via RSL!\n🍹 Full bar service during the show \n💥 This is an 80-seat exclusive event—don’t miss your chance!\n👉 Book Your Tickets Now   \nhttps://tinyurl.com/GympieRSLMum \n  \n💖 “Wise men say… only fools rush in…” —but trust us\, you’ll want to rush for these tickets! \n🎶 Thank you… thank you very much! 🎶
URL:https://gympiersl.com.au/event/mothers-day-elvis-tribute/
LOCATION:Rhythm Sports Bar\, 217 Mary Street\, Gympie\, QLD\, 4570
CATEGORIES:All,Entertainment,Live Music,Special Events
ATTACH;FMTTYPE=image/jpeg:https://gympiersl.com.au/wp-content/uploads/2025/04/Website-image.jpg
END:VEVENT
BEGIN:VEVENT
DTSTART;TZID=Australia/Brisbane:20250511T090000
DTEND;TZID=Australia/Brisbane:20250511T110000
DTSTAMP:20260424T010711
CREATED:20250225T223843Z
LAST-MODIFIED:20250415T013830Z
UID:10022028-1746954000-1746961200@gympiersl.com.au
SUMMARY:Mother's Day Brunch
DESCRIPTION:Spoil Mum this Mother’s Day with a delightful brunch at Gympie RSL! \nJoin us on Sunday\, 11th May\, from 9am to 11am for a special morning filled with delicious food\, great company\, and a warm\, welcoming atmosphere. \nWhether you’re celebrating with the whole family or planning a quiet morning with Mum\, our Mother’s Day Brunch is the perfect way to show your appreciation. \nEnjoy a carefully curated selection of brunch favorites while creating cherished memories together. \nMake this Mother’s Day one to remember by reserving your table today. \nSpaces are limited\, so book early to avoid missing out!
URL:https://gympiersl.com.au/event/mothers-day-brunch/
LOCATION:Gympie RSL
CATEGORIES:All,Special Events
ATTACH;FMTTYPE=image/jpeg:https://gympiersl.com.au/wp-content/uploads/2025/02/Gympie-RSL-Mothers-Day-Brunch-2025_Website-Event-featured-image.jpg
END:VEVENT
BEGIN:VEVENT
DTSTART;TZID=Australia/Brisbane:20250528T160000
DTEND;TZID=Australia/Brisbane:20250528T220000
DTSTAMP:20260424T010711
CREATED:20250526T052108Z
LAST-MODIFIED:20250527T000418Z
UID:10024059-1748448000-1748469600@gympiersl.com.au
SUMMARY:State of Origin - Game One
DESCRIPTION:State of Origin – Game 1 at the Gympie RSL!Get ready for the biggest rivalry in rugby league as Game 1 of the 2025 State of Origin kicks off at the Rhythm Bar\, Gympie RSL! \n🔥 Food & Beverage Specials from 4pm–8pm to fuel your game-day hunger🏉 Catch every heart-pounding moment live on our massive screen — it’s the next best thing to being at Suncorp!🍻 Buy any XXXX product and receive a scratch card for your chance to win some epic prizes! \nRound up your mates\, throw on your team colours\, and make Gympie RSL your home of State of Origin 2025!
URL:https://gympiersl.com.au/event/state-of-origin-game-one/
LOCATION:Rhythm Sports Bar\, 217 Mary Street\, Gympie\, QLD\, 4570
CATEGORIES:All,Entertainment,Special Events
ATTACH;FMTTYPE=image/png:https://gympiersl.com.au/wp-content/uploads/2025/05/Home-of-Origin-FB-Cover-960-x-400-px.png
END:VEVENT
END:VCALENDAR