BEGIN:VCALENDAR
VERSION:2.0
PRODID:-//Gympie RSL - ECPv6.15.20//NONSGML v1.0//EN
CALSCALE:GREGORIAN
METHOD:PUBLISH
X-ORIGINAL-URL:https://gympiersl.com.au
X-WR-CALDESC:Events for Gympie RSL
REFRESH-INTERVAL;VALUE=DURATION:PT1H
X-Robots-Tag:noindex
X-PUBLISHED-TTL:PT1H
BEGIN:VTIMEZONE
TZID:Australia/Brisbane
BEGIN:STANDARD
TZOFFSETFROM:+1000
TZOFFSETTO:+1000
TZNAME:AEST
DTSTART:20240101T000000
END:STANDARD
END:VTIMEZONE
BEGIN:VEVENT
DTSTART;TZID=Australia/Brisbane:20250415T173000
DTEND;TZID=Australia/Brisbane:20250415T200000
DTSTAMP:20260424T025038
CREATED:20250303T035422Z
LAST-MODIFIED:20250303T035422Z
UID:10022034-1744738200-1744747200@gympiersl.com.au
SUMMARY:Easter Eggstravaganza Bingo
DESCRIPTION:Get ready for a cracking good time at Gympie RSL’s Easter Eggstravaganza Bingo! \nJoin us on Tuesday\, 15th April 2025\, for a night filled with fun\, excitement\, and over $2\,500 in prizes to be won. \nThe doors open at 5:30pm\, with eyes down at 7:00pm sharp. Enjoy raffles\, lucky door prizes\, and a festive atmosphere as you try your luck. \nFor booking information\, reach out to Leonie or visit our website. \nDon’t miss out on this egg-cellent event\, bring your friends and family for a hoppin’ good time!
URL:https://gympiersl.com.au/event/easter-eggstravaganza-bingo/
LOCATION:Gympie RSL
CATEGORIES:All,Bingo,Special Events
ATTACH;FMTTYPE=image/jpeg:https://gympiersl.com.au/wp-content/uploads/2025/03/Gympie-RSL-Easter-Bingo-Egg-Stravaganza_Website-Event-featured-image.jpg
END:VEVENT
BEGIN:VEVENT
DTSTART;TZID=Australia/Brisbane:20250420T193000
DTEND;TZID=Australia/Brisbane:20250420T213000
DTSTAMP:20260424T025038
CREATED:20250225T224634Z
LAST-MODIFIED:20250407T040345Z
UID:10022029-1745177400-1745184600@gympiersl.com.au
SUMMARY:Easter Raffle
DESCRIPTION:Hop into the Easter spirit with Gympie RSL’s Easter Raffle 2025\, where you could take home a share of $3\,500 worth of prizes! \nJoin us on Sunday\, 20th April\, for an exciting night as we draw the lucky winners from 7.30pm. With incredible prizes up for grabs\, this is one Easter event you won’t want to miss! \nTickets will be available from early March\, with three great value options:1 for $23 for $57 for $10\n \nMake sure to grab your tickets and be part of the fun! \nTerms & conditions apply.
URL:https://gympiersl.com.au/event/easter-raffle/
LOCATION:Gympie RSL
CATEGORIES:All,Special Events
ATTACH;FMTTYPE=image/jpeg:https://gympiersl.com.au/wp-content/uploads/2025/02/Gympie-RSL-Easter-Raffle-2025_Website-Event-featured-image.jpg
END:VEVENT
BEGIN:VEVENT
DTSTART;TZID=Australia/Brisbane:20250424T130000
DTEND;TZID=Australia/Brisbane:20250425T120000
DTSTAMP:20260424T025038
CREATED:20250423T002618Z
LAST-MODIFIED:20250424T015318Z
UID:10023085-1745499600-1745582400@gympiersl.com.au
SUMMARY:Anzac Day 2025
DESCRIPTION:Join us Thursday 24th – Friday 25th April 2025 for our Anzac Day events and activities. \nClick here to download the schedule\, or keep reading below for all the times to mark your calendars. \nFLORAL DEDICATION\n(Wreaths & Bouquets)📅 Thursday\, 24th April🕐 1:00 PM – 5:00 PM📍 Memorial Lane – Mary St\, Gympie \n\nLIGHTING OF THE NEW MEMORIAL FLAME\n📅 Thursday\, 24th April🕠 5:30 PM📍 Memorial Park – Reef St\, Gympie \n\nROLL CALL\n(Veterans Only)📅 Friday\, 25th April🕙 4:00 AM📍 Meet at the Gympie RSL\, Level 1 \n\nDAWN SERVICE\n📅 Friday\, 25th April🕠 5:30 AM📍 Memorial Park – Reef St\, Gympie \n\nANZAC DAY MARCH\n📅 Friday\, 25th April🕣 Form up 8:30 AM\, Lead off 9:00 AM📍 Mary St\, Gympie \n\nCOMMUNITY SERVICE\n📅 Friday\, 25th April🕥 10:15 AM📍 Memorial Park – Reef St\, Gympie \n\nMEALS ON ANZAC DAY\n🍽️ Breakfast: 6:30 AM – 8:30 AM🍽️ Lunch: 11:30 AM
URL:https://gympiersl.com.au/event/anzac-day-2025-2/
LOCATION:Gympie RSL
CATEGORIES:All,Special Events,Welfare
ATTACH;FMTTYPE=image/jpeg:https://gympiersl.com.au/wp-content/uploads/2025/04/Gympie-RSL_Anzac-Day-2025_Website-Event-featured-image.jpg
END:VEVENT
END:VCALENDAR