BEGIN:VCALENDAR
VERSION:2.0
PRODID:-//Gympie RSL - ECPv6.15.20//NONSGML v1.0//EN
CALSCALE:GREGORIAN
METHOD:PUBLISH
X-WR-CALNAME:Gympie RSL
X-ORIGINAL-URL:https://gympiersl.com.au
X-WR-CALDESC:Events for Gympie RSL
REFRESH-INTERVAL;VALUE=DURATION:PT1H
X-Robots-Tag:noindex
X-PUBLISHED-TTL:PT1H
BEGIN:VTIMEZONE
TZID:Australia/Brisbane
BEGIN:STANDARD
TZOFFSETFROM:+1000
TZOFFSETTO:+1000
TZNAME:AEST
DTSTART:20230101T000000
END:STANDARD
END:VTIMEZONE
BEGIN:VEVENT
DTSTART;TZID=Australia/Brisbane:20240810T190000
DTEND;TZID=Australia/Brisbane:20240810T230000
DTSTAMP:20260423T160012
CREATED:20240529T045558Z
LAST-MODIFIED:20240529T050054Z
UID:10014732-1723316400-1723330800@gympiersl.com.au
SUMMARY:Live Entertainment - Sweaty Palms
DESCRIPTION:Catch you on the dance floor with Sweaty Palms!\nCome and enjoy some live music at Gympie RSL every Saturday night! \nFrom 7pm til late\, come on down to Gympie RSLs fantastic Rhythm Bar & Lounge and indulge in terrific cocktails and a wide range of luxury gins\, as well as splendid live music from a selection of different artists.
URL:https://gympiersl.com.au/event/live-entertainment-7/
LOCATION:Rhythm Sports Bar\, 217 Mary Street\, Gympie\, QLD\, 4570
CATEGORIES:All,Entertainment
ATTACH;FMTTYPE=image/jpeg:https://gympiersl.com.au/wp-content/uploads/2024/05/Event-Featured-Image-TemplateSweatyPalms.jpg
END:VEVENT
BEGIN:VEVENT
DTSTART;TZID=Australia/Brisbane:20240803T190000
DTEND;TZID=Australia/Brisbane:20240803T230000
DTSTAMP:20260423T160012
CREATED:20240529T042634Z
LAST-MODIFIED:20240724T231916Z
UID:10014730-1722711600-1722726000@gympiersl.com.au
SUMMARY:Live Entertainment - Michael Gant
DESCRIPTION:Catch you on the dance floor with tunes from Michael Gant!\nCome and enjoy some live music at Gympie RSL every Saturday night! \nFrom 7pm til late\, come on down to Gympie RSLs fantastic Rhythm Bar & Lounge and indulge in terrific cocktails and a wide range of luxury gins\, as well as splendid live music from a selection of different artists.
URL:https://gympiersl.com.au/event/live-entertainment-6/
LOCATION:Rhythm Sports Bar\, 217 Mary Street\, Gympie\, QLD\, 4570
CATEGORIES:All,Entertainment
ATTACH;FMTTYPE=image/jpeg:https://gympiersl.com.au/wp-content/uploads/2024/05/Event-Featured-Image-TemplateTuneRangers.jpg
END:VEVENT
BEGIN:VEVENT
DTSTART;TZID=Australia/Brisbane:20240727T190000
DTEND;TZID=Australia/Brisbane:20240727T230000
DTSTAMP:20260423T160012
CREATED:20240521T042128Z
LAST-MODIFIED:20240521T043928Z
UID:10014728-1722106800-1722121200@gympiersl.com.au
SUMMARY:Live Entertainment - Trainwrecks
DESCRIPTION:Catch you on the dance floor with Trainwrecks!\nCome and enjoy some live music at Gympie RSL every Saturday night! \nFrom 7pm til late\, come on down to Gympie RSLs fantastic Rhythm Bar & Lounge and indulge in terrific cocktails and a wide range of luxury gins\, as well as splendid live music from a selection of different artists.
URL:https://gympiersl.com.au/event/live-entertainment-5/
LOCATION:Rhythm Sports Bar\, 217 Mary Street\, Gympie\, QLD\, 4570
CATEGORIES:All,Entertainment
ATTACH;FMTTYPE=image/jpeg:https://gympiersl.com.au/wp-content/uploads/2024/05/Event-Featured-Image-Trainwrecks.jpg
END:VEVENT
BEGIN:VEVENT
DTSTART;TZID=Australia/Brisbane:20240720T190000
DTEND;TZID=Australia/Brisbane:20240720T230000
DTSTAMP:20260423T160012
CREATED:20240521T041448Z
LAST-MODIFIED:20240521T042000Z
UID:10014726-1721502000-1721516400@gympiersl.com.au
SUMMARY:Live Entertainment - Kruella Da Ville
DESCRIPTION:Catch you on the dance floor with Kruella Da Ville!\nCome and enjoy some live music at Gympie RSL every Saturday night! \nFrom 7pm til late\, come on down to Gympie RSLs fantastic Rhythm Bar & Lounge and indulge in terrific cocktails and a wide range of luxury gins\, as well as splendid live music from a selection of different artists.
URL:https://gympiersl.com.au/event/live-entertainment-4/
LOCATION:Rhythm Sports Bar\, 217 Mary Street\, Gympie\, QLD\, 4570
CATEGORIES:All,Entertainment
ATTACH;FMTTYPE=image/jpeg:https://gympiersl.com.au/wp-content/uploads/2024/04/Gympie-RSL_Web-Featured_Weekly-Entertainment.jpg
END:VEVENT
BEGIN:VEVENT
DTSTART;TZID=Australia/Brisbane:20240718T100000
DTEND;TZID=Australia/Brisbane:20240718T130000
DTSTAMP:20260423T160012
CREATED:20240426T002150Z
LAST-MODIFIED:20260127T020036Z
UID:10012790-1721296800-1721307600@gympiersl.com.au
SUMMARY:Morning Melodies
DESCRIPTION:Join us as we listen to the talented artists performing live on the last Thursday of every month! \nMorning Melodies brings great tunes as well as a a two-course lunch including main and dessert! \nEntry is just $20\, which includes $5 worth of raffle tickets. Book at Reception.
URL:https://gympiersl.com.au/event/morning-melodies/2024-07-18/
LOCATION:Gympie RSL
CATEGORIES:All,Entertainment,Morning Melodies
ATTACH;FMTTYPE=image/jpeg:https://gympiersl.com.au/wp-content/uploads/2024/04/Gympie-RSL_Web-Featured_Morning-Melodies.jpg
END:VEVENT
BEGIN:VEVENT
DTSTART;TZID=Australia/Brisbane:20240713T190000
DTEND;TZID=Australia/Brisbane:20240713T230000
DTSTAMP:20260423T160012
CREATED:20240521T035831Z
LAST-MODIFIED:20240521T041201Z
UID:10014724-1720897200-1720911600@gympiersl.com.au
SUMMARY:Live Entertainment - Brad Sorenson
DESCRIPTION:Catch you on the dance floor with Brad Sorenson!\nCome and enjoy some live music at Gympie RSL every Saturday night! \nFrom 7pm til late\, come on down to Gympie RSLs fantastic Rhythm Bar & Lounge and indulge in terrific cocktails and a wide range of luxury gins\, as well as splendid live music from a selection of different artists.
URL:https://gympiersl.com.au/event/live-entertainment-3/
LOCATION:Rhythm Sports Bar\, 217 Mary Street\, Gympie\, QLD\, 4570
CATEGORIES:All,Entertainment
ATTACH;FMTTYPE=image/jpeg:https://gympiersl.com.au/wp-content/uploads/2024/05/Event-Featured-Image-Brad.jpg
END:VEVENT
BEGIN:VEVENT
DTSTART;TZID=Australia/Brisbane:20240713T163000
DTEND;TZID=Australia/Brisbane:20240713T233000
DTSTAMP:20260423T160012
CREATED:20240603T223941Z
LAST-MODIFIED:20240618T235719Z
UID:10017936-1720888200-1720913400@gympiersl.com.au
SUMMARY:Masked Ball
DESCRIPTION:Join Us for Gympie’s Masked Night of Nights!\nStep into a winter wonderland and be part of an enchanting evening to raise funds for Veterans experiencing homelessness. Last year\, over 220 guests joined us for a mystical evening\, and this year\, we’re crafting an unforgettable inclusive experience you won’t want to miss! \nSecure your tickets and let’s enjoy the following experiences below: \nMagical Networking and Entertainment:\nBe photographed by Eevee Photography on arrival and enjoy complimentary beverage and captivating entertainment featuring Andino the Magician and local community organisations before you even glide through the door! \nScrumptious Catering and Exciting Auction:\nDelight in exquisite catering from Capelli Foods while bidding on unique experiences\, including a Brisbane Broncos Game Day Package\, and 18 Holes of Golf with QLD Pro Golfer\, Rhianna Maree-Lewis at Gunabul Homestead! \nDress to Impress to Win:\nWear your most creative eye masks and dress to impress for your chance to win the best dressed prize! Be sure to be in the draw for enchanting raffle prizes too including our Major Raffle Prize up for grabs – more details soon! \nLive Music and Dancing:\nDance the night away with live music throughout the evening from Entertain OZ! \nBring your friends\, don your most creative eye masks\, and dress to impress for an evening of winter wonder! \nJoin us and create magical memories! \n  \nEarly Bird Tickets Closing Soon! Click Here for Ticket Options \nYou can also purchase tickets in person at the Gympie RSL reception\, where our friendly team is ready to assist with all your inquiries. \nThis is your chance to be part of a night filled with wonder and joy while supporting a noble cause. \nLimited spots are available\, so secure your seat today and be part of this enchanting evening! Early Bird Tickets close Monday 24 June 2024\, at 4:00pm.
URL:https://gympiersl.com.au/event/masked-ball/
LOCATION:77 Exhibition Road Southside\, QLD 4570
CATEGORIES:Special Events,Welfare,Welfare Featured
ATTACH;FMTTYPE=image/png:https://gympiersl.com.au/wp-content/uploads/2024/06/Masked-Ball-960x400-1.png
END:VEVENT
BEGIN:VEVENT
DTSTART;TZID=Australia/Brisbane:20240706T190000
DTEND;TZID=Australia/Brisbane:20240706T230000
DTSTAMP:20260423T160012
CREATED:20240520T222917Z
LAST-MODIFIED:20240521T041325Z
UID:10014722-1720292400-1720306800@gympiersl.com.au
SUMMARY:Live Entertainment - dRAMAqUEEN
DESCRIPTION:Catch you on the dance floor with dRAMAqUEEN!\nCome and enjoy some live music at Gympie RSL every Saturday night! \nFrom 7pm til late\, come on down to Gympie RSLs fantastic Rhythm Bar & Lounge and indulge in terrific cocktails and a wide range of luxury gins\, as well as splendid live music from a selection of different artists.
URL:https://gympiersl.com.au/event/live-entertainment-2/
LOCATION:Rhythm Sports Bar\, 217 Mary Street\, Gympie\, QLD\, 4570
CATEGORIES:All,Entertainment
ATTACH;FMTTYPE=image/jpeg:https://gympiersl.com.au/wp-content/uploads/2024/05/Event-Featured-Image-dRAMAqUEEN.jpg
END:VEVENT
BEGIN:VEVENT
DTSTART;TZID=Australia/Brisbane:20240704T100000
DTEND;TZID=Australia/Brisbane:20240704T130000
DTSTAMP:20260423T160012
CREATED:20240603T232643Z
LAST-MODIFIED:20240603T234749Z
UID:10017937-1720087200-1720098000@gympiersl.com.au
SUMMARY:Kids Bingo
DESCRIPTION:Welcome to Kids Bingo!\nJoin us for a fun-filled afternoon of games and prizes this school holidays! \nThis event is perfect for children who love a good challenge and enjoy friendly competition. \nGet ready to yell “Bingo!” and win exciting rewards! \nKids also EAT FREE in the Atrium Bistro from 11:30am – 2pm on Thursday 4th July with every main meal purchased. \nDon’t miss out on this opportunity to bond with other kids and test your luck. See you there! \n  \n*online booking fees apply*
URL:https://gympiersl.com.au/event/kids-bingo/
LOCATION:Gympie RSL
CATEGORIES:All,Bingo,Special Events
ATTACH;FMTTYPE=image/jpeg:https://gympiersl.com.au/wp-content/uploads/2024/06/Gympie-RSL-Kids-Bingo-Update-2024_Web-Event-Featured-Img.jpg
END:VEVENT
BEGIN:VEVENT
DTSTART;TZID=Australia/Brisbane:20240629T190000
DTEND;TZID=Australia/Brisbane:20240629T230000
DTSTAMP:20260423T160012
CREATED:20240510T003216Z
LAST-MODIFIED:20240517T032128Z
UID:10014720-1719687600-1719702000@gympiersl.com.au
SUMMARY:Live Entertainment - Goran Sedlar Trio
DESCRIPTION:Catch you on the dance floor with Goran Sedlar Trio!\nCome and enjoy some live music at Gympie RSL every Saturday night! \nFrom 7pm til late\, come on down to Gympie RSLs fantastic Rhythm Bar & Lounge and indulge in terrific cocktails and a wide range of luxury gins\, as well as splendid live music from a selection of different artists.
URL:https://gympiersl.com.au/event/live-entertainment-29-06-24/
LOCATION:Rhythm Sports Bar\, 217 Mary Street\, Gympie\, QLD\, 4570
CATEGORIES:All,Entertainment
ATTACH;FMTTYPE=image/jpeg:https://gympiersl.com.au/wp-content/uploads/2024/05/Goran-Sedlar-Trio-event-featured-image.jpg
END:VEVENT
BEGIN:VEVENT
DTSTART;TZID=Australia/Brisbane:20240622T190000
DTEND;TZID=Australia/Brisbane:20240622T230000
DTSTAMP:20260423T160012
CREATED:20240510T000743Z
LAST-MODIFIED:20240520T043953Z
UID:10014718-1719082800-1719097200@gympiersl.com.au
SUMMARY:Live Entertainment - Simon Meola
DESCRIPTION:Catch you on the dance floor!\nCome and enjoy some live music at Gympie RSL every Saturday night! \nFrom 7pm til late\, come on down to Gympie RSLs fantastic Rhythm Bar & Lounge and indulge in terrific cocktails and a wide range of luxury gins\, as well as splendid live music from a selection of different artists.
URL:https://gympiersl.com.au/event/live-entertainment-22-06-24/
LOCATION:Rhythm Sports Bar\, 217 Mary Street\, Gympie\, QLD\, 4570
CATEGORIES:All,Entertainment
ATTACH;FMTTYPE=image/jpeg:https://gympiersl.com.au/wp-content/uploads/2024/05/FB-image-e1716179310534.jpg
END:VEVENT
BEGIN:VEVENT
DTSTART;TZID=Australia/Brisbane:20240620T100000
DTEND;TZID=Australia/Brisbane:20240620T130000
DTSTAMP:20260423T160012
CREATED:20240426T002405Z
LAST-MODIFIED:20240517T035936Z
UID:10012789-1718877600-1718888400@gympiersl.com.au
SUMMARY:Morning Melodies - Steve Graham
DESCRIPTION:Join us as we listen to the talented artists performing live on the last Thursday of every month! \nSteve Graham will be joining us for June! \nMorning Melodies brings great tunes as well as a a two-course lunch including main and dessert! \nEntry is just $15\, which includes $5 worth of raffle tickets. Book at Reception.
URL:https://gympiersl.com.au/event/morning-melodies-20-05-24/
LOCATION:Gympie RSL
CATEGORIES:All,Entertainment
ATTACH;FMTTYPE=image/jpeg:https://gympiersl.com.au/wp-content/uploads/2024/04/SteveGrahamfeatured.jpg
END:VEVENT
BEGIN:VEVENT
DTSTART;TZID=Australia/Brisbane:20240615T180000
DTEND;TZID=Australia/Brisbane:20240615T230000
DTSTAMP:20260423T160012
CREATED:20240510T000656Z
LAST-MODIFIED:20240613T044609Z
UID:10014716-1718474400-1718492400@gympiersl.com.au
SUMMARY:Illegally Blonde (Drag Show) SOLD OUT
DESCRIPTION:Catch you at the Rhythm Bar with Illegally Blonde!\nYour evening will feature Two 20 Min Production Shows with the 3 Showgirls\, Hilarious Games\, topped off with a Dance Party to finish the night!\nIllegally Blonde serves up the sass of blonde boujie LA girls\, with performances to hit songs by Cyndi Lauper\, Sam Smith\, Megan Thee Stallion\, Kim Petras\, Vengaboys & More!!\n\nDuring this evening\, you’ll be entertained from start to finish by outrageous fashion\, side-splitting jokes\, and unforgettable performances by this blonde trio. It’s not just a performance; this evening is a safe haven for everyone\, regardless of gender\, sexual orientation\, or anything else. So slip into your finest pink ensemble\, rally your crew\, and brace yourself for a night of outrageous fun that’ll leave a mark in your memory!
URL:https://gympiersl.com.au/event/illegally-blonde/
LOCATION:Rhythm Sports Bar\, 217 Mary Street\, Gympie\, QLD\, 4570
CATEGORIES:All,Entertainment,Special Events
ATTACH;FMTTYPE=image/jpeg:https://gympiersl.com.au/wp-content/uploads/2024/05/Illegally-Blonde-FeaturedImage.jpg
END:VEVENT
BEGIN:VEVENT
DTSTART;TZID=Australia/Brisbane:20240608T190000
DTEND;TZID=Australia/Brisbane:20240608T230000
DTSTAMP:20260423T160012
CREATED:20240510T000558Z
LAST-MODIFIED:20240517T042320Z
UID:10014714-1717873200-1717887600@gympiersl.com.au
SUMMARY:Live Entertainment - Maria Whittaker
DESCRIPTION:Catch you on the dance floor with Maria Whittaker!\nCome and enjoy some live music at Gympie RSL every Saturday night! \nFrom 7pm til late\, come on down to Gympie RSLs fantastic Rhythm Bar & Lounge and indulge in terrific cocktails and a wide range of luxury gins\, as well as splendid live music from a selection of different artists.
URL:https://gympiersl.com.au/event/live-entertainment-08-06-24/
LOCATION:Rhythm Sports Bar\, 217 Mary Street\, Gympie\, QLD\, 4570
CATEGORIES:All,Entertainment
ATTACH;FMTTYPE=image/jpeg:https://gympiersl.com.au/wp-content/uploads/2024/05/MariaWhittakerfeaturedimagetemplate.jpg
END:VEVENT
BEGIN:VEVENT
DTSTART;TZID=Australia/Brisbane:20240601T190000
DTEND;TZID=Australia/Brisbane:20240601T230000
DTSTAMP:20260423T160012
CREATED:20240510T000457Z
LAST-MODIFIED:20240517T050109Z
UID:10014712-1717268400-1717282800@gympiersl.com.au
SUMMARY:Live Entertainment - Goran Sedlar Trio
DESCRIPTION:Catch you on the dance floor with Goran Sedlar Trio!\nCome and enjoy some live music at Gympie RSL every Saturday night! \nFrom 7pm til late\, come on down to Gympie RSLs fantastic Rhythm Bar & Lounge and indulge in terrific cocktails and a wide range of luxury gins\, as well as splendid live music from a selection of different artists.
URL:https://gympiersl.com.au/event/live-entertainment-01-06-24/
LOCATION:Rhythm Sports Bar\, 217 Mary Street\, Gympie\, QLD\, 4570
CATEGORIES:All,Entertainment
ATTACH;FMTTYPE=image/jpeg:https://gympiersl.com.au/wp-content/uploads/2024/05/Goran-Sedlar-Trio-event-featured-image.jpg
END:VEVENT
BEGIN:VEVENT
DTSTART;TZID=Australia/Brisbane:20240525T190000
DTEND;TZID=Australia/Brisbane:20240525T230000
DTSTAMP:20260423T160012
CREATED:20240510T000202Z
LAST-MODIFIED:20240521T034526Z
UID:10014710-1716663600-1716678000@gympiersl.com.au
SUMMARY:CANCELLED - Live Entertainment
DESCRIPTION:Live entertainment will be cancelled for Saturday 25th May 2024. We are sorry for the inconvenience\, and we’ll see you next week!
URL:https://gympiersl.com.au/event/live-entertainment-25-05-24/
LOCATION:Rhythm Sports Bar\, 217 Mary Street\, Gympie\, QLD\, 4570
CATEGORIES:All,Entertainment
ATTACH;FMTTYPE=image/jpeg:https://gympiersl.com.au/wp-content/uploads/2024/04/Gympie-RSL_Web-Featured_Weekly-Entertainment.jpg
END:VEVENT
BEGIN:VEVENT
DTSTART;TZID=Australia/Brisbane:20240518T190000
DTEND;TZID=Australia/Brisbane:20240518T230000
DTSTAMP:20260423T160012
CREATED:20240510T000048Z
LAST-MODIFIED:20240517T042954Z
UID:10014708-1716058800-1716073200@gympiersl.com.au
SUMMARY:Live Entertainment - Jonathan Mark Hayden
DESCRIPTION:Catch you on the dance floor with Jonathan Mark Hayden!\nCome and enjoy some live music at Gympie RSL every Saturday night! \nFrom 7pm til late\, come on down to Gympie RSLs fantastic Rhythm Bar & Lounge and indulge in terrific cocktails and a wide range of luxury gins\, as well as splendid live music from a selection of different artists.
URL:https://gympiersl.com.au/event/live-entertainment-18-05-24/
LOCATION:Rhythm Sports Bar\, 217 Mary Street\, Gympie\, QLD\, 4570
CATEGORIES:All,Entertainment
ATTACH;FMTTYPE=image/jpeg:https://gympiersl.com.au/wp-content/uploads/2024/05/Jonathan-Mark-Hayden-featured.jpg
END:VEVENT
BEGIN:VEVENT
DTSTART;TZID=Australia/Brisbane:20240516T100000
DTEND;TZID=Australia/Brisbane:20240516T130000
DTSTAMP:20260423T160012
CREATED:20240426T002236Z
LAST-MODIFIED:20240517T043840Z
UID:10012788-1715853600-1715864400@gympiersl.com.au
SUMMARY:Morning Melodies - Paul Hayman
DESCRIPTION:Join us as we listen to the talented artists performing live on the last Thursday of every month! \nPaul Hayman is joining us for May! \nMorning Melodies brings great tunes as well as a a two-course lunch including main and dessert! \nEntry is just $15\, which includes $5 worth of raffle tickets. Book at Reception.
URL:https://gympiersl.com.au/event/morning-melodies-16-05-24/
LOCATION:Gympie RSL
CATEGORIES:All,Entertainment
ATTACH;FMTTYPE=image/jpeg:https://gympiersl.com.au/wp-content/uploads/2024/04/Paul-Hayman-featured.jpg
END:VEVENT
BEGIN:VEVENT
DTSTART;TZID=Australia/Brisbane:20240512T143000
DTEND;TZID=Australia/Brisbane:20240512T173000
DTSTAMP:20260423T160012
CREATED:20240225T043430Z
LAST-MODIFIED:20240507T043234Z
UID:10008728-1715524200-1715535000@gympiersl.com.au
SUMMARY:Mother's Day with Elvis - SOLD OUT
DESCRIPTION:Get your dancing shoes ready for Mother’s day with Elvis on Sunday 12th May!\nEnjoy a great afternoon with lunch at Gympie RSL\, then treat Mum to an Elvis Matinee Show in the Rhythm Bar for only $30 per person. \nSinging many great love songs as well as all those Elvis Favourites\, so be prepared to be entertained and with a great dance floor get ready for a close and personal hip shakin’ experience with Elvis courtesy of Doug Charles . \nRegister your ticket as a mum and receive a free Mother’s Day Elvis Scarf (you must be a mum or grandmother to register – no children. Present your ticket at entry to receive your Mother’s Day keepsake Elvis scarf). \nBut hurry\, tickets are limited\, so make sure to secure yours now! \nTerms and conditions apply. 18+ event only.
URL:https://gympiersl.com.au/event/mothers-day-elvis/
LOCATION:Rhythm Sports Bar\, 217 Mary Street\, Gympie\, QLD\, 4570
CATEGORIES:All,Entertainment,Special Events
ATTACH;FMTTYPE=image/jpeg:https://gympiersl.com.au/wp-content/uploads/2024/02/Elvis_Example-Event-FeaturedImage-2.jpg
END:VEVENT
END:VCALENDAR