BEGIN:VCALENDAR
VERSION:2.0
PRODID:-//Gympie RSL - ECPv6.15.20//NONSGML v1.0//EN
CALSCALE:GREGORIAN
METHOD:PUBLISH
X-WR-CALNAME:Gympie RSL
X-ORIGINAL-URL:https://gympiersl.com.au
X-WR-CALDESC:Events for Gympie RSL
REFRESH-INTERVAL;VALUE=DURATION:PT1H
X-Robots-Tag:noindex
X-PUBLISHED-TTL:PT1H
BEGIN:VTIMEZONE
TZID:Australia/Brisbane
BEGIN:STANDARD
TZOFFSETFROM:+1000
TZOFFSETTO:+1000
TZNAME:AEST
DTSTART:20230101T000000
END:STANDARD
END:VTIMEZONE
BEGIN:VEVENT
DTSTART;TZID=Australia/Brisbane:20241116T190000
DTEND;TZID=Australia/Brisbane:20241116T230000
DTSTAMP:20260423T112214
CREATED:20240927T010925Z
LAST-MODIFIED:20241029T021347Z
UID:10014760-1731783600-1731798000@gympiersl.com.au
SUMMARY:Live Entertainment - Brad Sorensen
DESCRIPTION:Catch you on the dance floor with Brad Sorensen!\nCome and enjoy some live music at Gympie RSL every Saturday night! \nFrom 7pm til late\, come on down to Gympie RSL and indulge in terrific cocktails and a wide range of luxury gins\, as well as splendid live music from a selection of different artists.
URL:https://gympiersl.com.au/event/live-entertainment-bradsorensen/
LOCATION:Rhythm Sports Bar\, 217 Mary Street\, Gympie\, QLD\, 4570
CATEGORIES:All,Entertainment,Live Music
ATTACH;FMTTYPE=image/jpeg:https://gympiersl.com.au/wp-content/uploads/2024/09/Event-Featured-Image-Brad.jpg
END:VEVENT
BEGIN:VEVENT
DTSTART;TZID=Australia/Brisbane:20241109T190000
DTEND;TZID=Australia/Brisbane:20241109T230000
DTSTAMP:20260423T112214
CREATED:20240927T010749Z
LAST-MODIFIED:20241029T021338Z
UID:10014758-1731178800-1731193200@gympiersl.com.au
SUMMARY:Live Entertainment - Damien Barnes Trio
DESCRIPTION:Catch you on the dance floor with Damien Barnes Trio!\nCome and enjoy some live music at Gympie RSL every Saturday night! \nFrom 7pm til late\, come on down to Gympie RSLs fantastic Rhythm Bar & Lounge and indulge in terrific cocktails and a wide range of luxury gins\, as well as splendid live music from a selection of different artists.
URL:https://gympiersl.com.au/event/live-entertainment-damienbarnestrio/
LOCATION:Rhythm Sports Bar\, 217 Mary Street\, Gympie\, QLD\, 4570
CATEGORIES:All,Entertainment,Live Music
ATTACH;FMTTYPE=image/jpeg:https://gympiersl.com.au/wp-content/uploads/2024/09/Event-Featured-Image-Damien-Barnes-Trio.jpg
END:VEVENT
BEGIN:VEVENT
DTSTART;TZID=Australia/Brisbane:20241105T110000
DTEND;TZID=Australia/Brisbane:20241105T150000
DTSTAMP:20260423T112214
CREATED:20241009T034123Z
LAST-MODIFIED:20241022T023426Z
UID:10020424-1730804400-1730818800@gympiersl.com.au
SUMMARY:Melbourne Cup Luncheon 2024
DESCRIPTION:Welcome to the Melbourne Cup Luncheon! Get ready for a day filled with fun\, food\, and fabulous fashion. Join us on Tue\, Nov 05\, 2024 at 11:00 AM at 217 Mary Street as we celebrate the race that stops the nation. \nIndulge in a delicious meal\, sip on refreshing drinks\, and enjoy the excitement of watching the Melbourne Cup race live. Dress to impress and take part in our best-dressed competition for a chance to win fantastic prizes. \nCome together with friends\, colleagues\, and fellow racing enthusiasts to experience the thrill of the Melbourne Cup in style. Don’t miss out on this unforgettable event!
URL:https://gympiersl.com.au/event/melbourne-cup-luncheon-2024/
LOCATION:Gympie RSL
CATEGORIES:All,Meal Specials,Special Events
ATTACH;FMTTYPE=image/jpeg:https://gympiersl.com.au/wp-content/uploads/2024/10/Gympie-RSL-Melbourne-Cup-Luncheon-2024-Featured-Image.jpg
END:VEVENT
BEGIN:VEVENT
DTSTART;TZID=Australia/Brisbane:20241102T190000
DTEND;TZID=Australia/Brisbane:20241102T230000
DTSTAMP:20260423T112214
CREATED:20240927T005855Z
LAST-MODIFIED:20241029T021330Z
UID:10014756-1730574000-1730588400@gympiersl.com.au
SUMMARY:Live Entertainment - Theunis
DESCRIPTION:Catch you on the dance floor with Theunis!\nCome and enjoy some live music at Gympie RSL every Saturday night! \nFrom 7pm til late\, come on down to Gympie RSL and indulge in terrific cocktails and a wide range of luxury gins\, as well as splendid live music from a selection of different artists.
URL:https://gympiersl.com.au/event/live-entertainment-theunis/
LOCATION:Rhythm Sports Bar\, 217 Mary Street\, Gympie\, QLD\, 4570
CATEGORIES:All,Entertainment,Live Music
ATTACH;FMTTYPE=image/jpeg:https://gympiersl.com.au/wp-content/uploads/2024/09/Event-Featured-Image-TheunisP.jpg
END:VEVENT
BEGIN:VEVENT
DTSTART;TZID=Australia/Brisbane:20241026T190000
DTEND;TZID=Australia/Brisbane:20241026T230000
DTSTAMP:20260423T112214
CREATED:20240902T031210Z
LAST-MODIFIED:20250213T005415Z
UID:10014754-1729969200-1729983600@gympiersl.com.au
SUMMARY:Live Entertainment - Fried Out Kombi
DESCRIPTION:Catch you on the dance floor with Fried Out Kombi!\nCome and enjoy some live music at Gympie RSL every Saturday night! \nFrom 7pm til late\, come on down to Gympie RSLs fantastic Rhythm Bar & Lounge and indulge in terrific cocktails and a wide range of luxury gins\, as well as splendid live music from a selection of different artists.
URL:https://gympiersl.com.au/event/live-entertainment-18/
LOCATION:Rhythm Sports Bar\, 217 Mary Street\, Gympie\, QLD\, 4570
CATEGORIES:All,Entertainment,Live Music
ATTACH;FMTTYPE=image/png:https://gympiersl.com.au/wp-content/uploads/2024/09/Event-Featured-Image-Fried-Out-Kombi.png
END:VEVENT
BEGIN:VEVENT
DTSTART;TZID=Australia/Brisbane:20241026T090000
DTEND;TZID=Australia/Brisbane:20241026T110000
DTSTAMP:20260423T112214
CREATED:20241011T012624Z
LAST-MODIFIED:20241011T034540Z
UID:10020757-1729933200-1729940400@gympiersl.com.au
SUMMARY:Pink Ribbon Day
DESCRIPTION:Join us for Pink Ribbon Day on Saturday\, 26th October\, from 9am to 11am!\n\n\n\n\n\n\n\n\n\n\nIndulge in our delicious breakfast menu\, knowing that 50% of all food sales and $1 from every drink purchased will be donated to the Breast Cancer Foundation. \nBreakfast starts at just $20\, and we’ve got kids’ menu items for $15. \nMenu \nEGGS FLORENTINE | $25\nEnglish muffin topped with salmon\, baby spinach\, poached eggs\,\nand hollandaise sauce\nBIG BREAKFAST | $25\nChipolata sausages\, bacon\, scrambled eggs\, grilled tomato\, baked beans\, hash brown\nEGGS BENEDICT | $25\nEnglish muffin topped with ham\, poached eggs\, and hollandaise sauce\nLOADED PANCAKES | $20\nTopped with bacon\, banana & maple syrup\nSMASHED AVO | $25\n2 slices toasted sourdough\, smashed avo\, feta\, eggs\, bacon \nThe items above come with a 50% discount voucher for a cup of tea/coffee/fruit juice. \n$15 KIDS MENU*\n(includes small fruit juice)\nPANCAKE\nPancake topped with maple syrup and ice cream\nSAUSAGES AND EGGS \n*Only available to kids up to 12 years of age \nBookings are essential\, secure your spot today! \n\n\n\n\n\n\n 
URL:https://gympiersl.com.au/event/pink-ribbon-day/
LOCATION:Atrium Bistro\, Gympie RSL\, 217 Mary Street\, Gympie\, QLD\, 4570\, Australia
CATEGORIES:Meal Specials,Special Events
ATTACH;FMTTYPE=image/jpeg:https://gympiersl.com.au/wp-content/uploads/2024/10/Gympie-RSL-Pink-Ribbon-Day-Menu_Web-Event-Featured-Image.jpg
END:VEVENT
BEGIN:VEVENT
DTSTART;TZID=Australia/Brisbane:20241019T190000
DTEND;TZID=Australia/Brisbane:20241019T230000
DTSTAMP:20260423T112214
CREATED:20240902T020004Z
LAST-MODIFIED:20240902T033455Z
UID:10014752-1729364400-1729378800@gympiersl.com.au
SUMMARY:Live Entertainment - Ear Candy
DESCRIPTION:Catch you on the dance floor with Ear Candy!\nCome and enjoy some live music at Gympie RSL every Saturday night! \nFrom 7pm til late\, come on down to Gympie RSLs fantastic Rhythm Bar & Lounge and indulge in terrific cocktails and a wide range of luxury gins\, as well as splendid live music from a selection of different artists.
URL:https://gympiersl.com.au/event/live-entertainment-17/
LOCATION:Rhythm Sports Bar\, 217 Mary Street\, Gympie\, QLD\, 4570
CATEGORIES:All,Entertainment
ATTACH;FMTTYPE=image/png:https://gympiersl.com.au/wp-content/uploads/2024/09/Event-Featured-Image-2.png
END:VEVENT
BEGIN:VEVENT
DTSTART;TZID=Australia/Brisbane:20241017T100000
DTEND;TZID=Australia/Brisbane:20241017T130000
DTSTAMP:20260423T112214
CREATED:20240902T034017Z
LAST-MODIFIED:20241125T012703Z
UID:10012793-1729159200-1729170000@gympiersl.com.au
SUMMARY:Morning Melodies - Michael Gant
DESCRIPTION:Join us as we listen to the Michael Gant performing live on Thursday 17th October!  \nMorning Melodies brings great tunes as well as a a two-course lunch including main and dessert! \nEntry is just $15\, which includes $5 worth of raffle tickets. Book at Reception.
URL:https://gympiersl.com.au/event/morning-melodies-4/
LOCATION:Gympie RSL
CATEGORIES:All,Entertainment,Live Music,Morning Melodies
ATTACH;FMTTYPE=image/png:https://gympiersl.com.au/wp-content/uploads/2024/09/Event-Featured-Image-Michael-Gant.png
END:VEVENT
BEGIN:VEVENT
DTSTART;TZID=Australia/Brisbane:20241012T190000
DTEND;TZID=Australia/Brisbane:20241012T230000
DTSTAMP:20260423T112214
CREATED:20240902T013625Z
LAST-MODIFIED:20241008T215345Z
UID:10014750-1728759600-1728774000@gympiersl.com.au
SUMMARY:Live Entertainment - Those Folk
DESCRIPTION:Catch you on the dance floor with Those Folk!\nCome and enjoy some live music at Gympie RSL every Saturday night! \nFrom 7pm til late\, come on down to Gympie RSL and indulge in terrific cocktails and a wide range of luxury gins\, as well as splendid live music from a selection of different artists.
URL:https://gympiersl.com.au/event/live-entertainment-16/
LOCATION:Rhythm Sports Bar\, 217 Mary Street\, Gympie\, QLD\, 4570
CATEGORIES:All,Entertainment
ATTACH;FMTTYPE=image/png:https://gympiersl.com.au/wp-content/uploads/2024/09/Event-Featured-Image-1.png
END:VEVENT
BEGIN:VEVENT
DTSTART;TZID=Australia/Brisbane:20241006T160000
DTEND;TZID=Australia/Brisbane:20241006T200000
DTSTAMP:20260423T112214
CREATED:20240810T042310Z
LAST-MODIFIED:20240810T042310Z
UID:10019471-1728230400-1728244800@gympiersl.com.au
SUMMARY:NRL Grand Final – Sunday\, 6th October
DESCRIPTION:Get ready for the NRL Grand Final at Gympie RSL’s Sports Bar on Sunday\, 6th October! \nJoin us for an epic showdown\, complete with tasty pizza and unbeatable schooner tap deals. \nThe excitement will be at an all-time high\, so make sure you’re here to cheer on your team. \nIt’s the perfect way to cap off your weekend with great food\, cold drinks\, and the best company. \nSee you for the big game!
URL:https://gympiersl.com.au/event/nrl-grand-final-sunday-6th-october/
LOCATION:Sports Bar\, Gympie RSL\, 217 Mary Street\, Gympie\, QLD\, 4570\, Australia
CATEGORIES:Entertainment,Special Events,Sports Bar
ATTACH;FMTTYPE=image/jpeg:https://gympiersl.com.au/wp-content/uploads/2024/08/Gympie-RSL-AFL-NRL-Grand-Final_Website-Event-featured-image.jpg
END:VEVENT
BEGIN:VEVENT
DTSTART;TZID=Australia/Brisbane:20241005T190000
DTEND;TZID=Australia/Brisbane:20241005T230000
DTSTAMP:20260423T112214
CREATED:20240902T012516Z
LAST-MODIFIED:20240923T014718Z
UID:10014748-1728154800-1728169200@gympiersl.com.au
SUMMARY:Live Entertainment - Bad Attitude
DESCRIPTION:Catch you on the dance floor with Bad Attitude!\nCome and enjoy some live music at Gympie RSL every Saturday night! \nFrom 7pm til late\, come on down to the Gympie RSL and indulge in terrific cocktails and a wide range of luxury gins\, as well as splendid live music from a selection of different artists.
URL:https://gympiersl.com.au/event/live-entertainment-15/
LOCATION:Rhythm Sports Bar\, 217 Mary Street\, Gympie\, QLD\, 4570
CATEGORIES:All,Entertainment
ATTACH;FMTTYPE=image/png:https://gympiersl.com.au/wp-content/uploads/2024/09/Bad-Attitude-3.png
END:VEVENT
BEGIN:VEVENT
DTSTART;TZID=Australia/Brisbane:20240928T190000
DTEND;TZID=Australia/Brisbane:20240928T230000
DTSTAMP:20260423T112214
CREATED:20240530T043314Z
LAST-MODIFIED:20240530T043534Z
UID:10014746-1727550000-1727564400@gympiersl.com.au
SUMMARY:Live Entertainment - Reverend Billy
DESCRIPTION:Catch you on the dance floor with Reverend Billy!\nCome and enjoy some live music at Gympie RSL every Saturday night! \nFrom 7pm til late\, come on down to Gympie RSLs fantastic Rhythm Bar & Lounge and indulge in terrific cocktails and a wide range of luxury gins\, as well as splendid live music from a selection of different artists.
URL:https://gympiersl.com.au/event/live-entertainment-14/
LOCATION:Rhythm Sports Bar\, 217 Mary Street\, Gympie\, QLD\, 4570
CATEGORIES:All,Entertainment
ATTACH;FMTTYPE=image/jpeg:https://gympiersl.com.au/wp-content/uploads/2024/05/Event-Featured-Image-Templatereverend-billy.jpg
END:VEVENT
BEGIN:VEVENT
DTSTART;TZID=Australia/Brisbane:20240928T160000
DTEND;TZID=Australia/Brisbane:20240928T200000
DTSTAMP:20260423T112214
CREATED:20240810T041123Z
LAST-MODIFIED:20240810T042538Z
UID:10019470-1727539200-1727553600@gympiersl.com.au
SUMMARY:AFL Grand Final – Saturday\, 28th September
DESCRIPTION:Experience the thrill of the AFL Grand Final live and loud at Gympie RSL’s Sports Bar on Saturday\, 28th September! \nGather your mates\, grab a seat\, and enjoy our game day specials\, including delicious pizza and refreshing schooner tap deals. \nWhether you’re a die-hard fan or just in it for the atmosphere\, this is the place to be. \nDon’t miss a moment of the action\, kick off your weekend with us! \n 
URL:https://gympiersl.com.au/event/afl-grand-final-saturday-28-september/
LOCATION:Sports Bar\, Gympie RSL\, 217 Mary Street\, Gympie\, QLD\, 4570\, Australia
CATEGORIES:Entertainment,Sports Bar
ATTACH;FMTTYPE=image/jpeg:https://gympiersl.com.au/wp-content/uploads/2024/08/Gympie-RSL-AFL-NRL-Grand-Final_Website-Event-featured-image.jpg
END:VEVENT
BEGIN:VEVENT
DTSTART;TZID=Australia/Brisbane:20240926T100000
DTEND;TZID=Australia/Brisbane:20240926T130000
DTSTAMP:20260423T112214
CREATED:20240824T210052Z
LAST-MODIFIED:20240922T235903Z
UID:10019206-1727344800-1727355600@gympiersl.com.au
SUMMARY:Kids Bingo - School Holidays
DESCRIPTION:Looking for a fun-filled activity for the kids during the school holidays? \nJoin us for Kids Bingo on Thursday\, 26th September 2024\, from 10am to 1pm! \nWith a lucky door prize\, exciting games and prizes\, and a lolly bag for every participant\, it’s an event not to be missed. \nTickets are just $10 per child\, and kids under 3 get in for free. \nYou can book your tickets now online* or at Reception. \nDon’t miss out on this fantastic day of family fun! \n  \n*Please note that online booking fees apply. Children must be supervised by a parent or guardian at all times.
URL:https://gympiersl.com.au/event/kids-bingo-school-holidays/
CATEGORIES:Bingo,Entertainment,Special Events
ATTACH;FMTTYPE=image/jpeg:https://gympiersl.com.au/wp-content/uploads/2024/07/Gympie-RSL-Kids-Bingo-Spring-24_Website-Event-featured-image.jpg
ORGANIZER;CN="Gympie RSL":MAILTO:info@gympiersl.com.au
END:VEVENT
BEGIN:VEVENT
DTSTART;TZID=Australia/Brisbane:20240921T190000
DTEND;TZID=Australia/Brisbane:20240921T230000
DTSTAMP:20260423T112214
CREATED:20240530T041134Z
LAST-MODIFIED:20240530T042845Z
UID:10014744-1726945200-1726959600@gympiersl.com.au
SUMMARY:Live Entertainment - Rockalicious
DESCRIPTION:Catch you on the dance floor with Rockalicious!\nCome and enjoy some live music at Gympie RSL every Saturday night! \nFrom 7pm til late\, come on down to Gympie RSLs fantastic Rhythm Bar & Lounge and indulge in terrific cocktails and a wide range of luxury gins\, as well as splendid live music from a selection of different artists.
URL:https://gympiersl.com.au/event/live-entertainment-13/
LOCATION:Rhythm Sports Bar\, 217 Mary Street\, Gympie\, QLD\, 4570
CATEGORIES:All,Entertainment
ATTACH;FMTTYPE=image/jpeg:https://gympiersl.com.au/wp-content/uploads/2024/05/Event-Featured-Image-Templateockalicious.jpg
END:VEVENT
BEGIN:VEVENT
DTSTART;TZID=Australia/Brisbane:20240919T100000
DTEND;TZID=Australia/Brisbane:20240919T130000
DTSTAMP:20260423T112214
CREATED:20240530T053645Z
LAST-MODIFIED:20240530T054424Z
UID:10012792-1726740000-1726750800@gympiersl.com.au
SUMMARY:Morning Melodies - Brad Sorenson
DESCRIPTION:Join us as we listen to the talented Brad Sorenson performing live on Thursday 19th September! \nMorning Melodies brings great tunes as well as a a two-course lunch including main and dessert! \nEntry is just $15\, which includes $5 worth of raffle tickets. Book at Reception.
URL:https://gympiersl.com.au/event/morning-melodies-3/
LOCATION:Gympie RSL
CATEGORIES:All,Entertainment
ATTACH;FMTTYPE=image/jpeg:https://gympiersl.com.au/wp-content/uploads/2024/05/Event-Featured-Image-Brad.jpg
END:VEVENT
BEGIN:VEVENT
DTSTART;TZID=Australia/Brisbane:20240914T190000
DTEND;TZID=Australia/Brisbane:20240914T230000
DTSTAMP:20260423T112214
CREATED:20240530T040315Z
LAST-MODIFIED:20240530T040852Z
UID:10014742-1726340400-1726354800@gympiersl.com.au
SUMMARY:Live Entertainment - The Webbes
DESCRIPTION:Catch you on the dance floor with The Webbes!\nCome and enjoy some live music at Gympie RSL every Saturday night! \nFrom 7pm til late\, come on down to Gympie RSLs fantastic Rhythm Bar & Lounge and indulge in terrific cocktails and a wide range of luxury gins\, as well as splendid live music from a selection of different artists.
URL:https://gympiersl.com.au/event/live-entertainment-12/
LOCATION:Rhythm Sports Bar\, 217 Mary Street\, Gympie\, QLD\, 4570
CATEGORIES:All,Entertainment
ATTACH;FMTTYPE=image/jpeg:https://gympiersl.com.au/wp-content/uploads/2024/05/Event-Featured-Image-Templatewebbes.jpg
END:VEVENT
BEGIN:VEVENT
DTSTART;TZID=Australia/Brisbane:20240907T190000
DTEND;TZID=Australia/Brisbane:20240907T230000
DTSTAMP:20260423T112214
CREATED:20240530T034710Z
LAST-MODIFIED:20240530T035636Z
UID:10014740-1725735600-1725750000@gympiersl.com.au
SUMMARY:Live Entertainment - Those Folk
DESCRIPTION:Catch you on the dance floor with Those Folk!\nCome and enjoy some live music at Gympie RSL every Saturday night! \nFrom 7pm til late\, come on down to Gympie RSLs fantastic Rhythm Bar & Lounge and indulge in terrific cocktails and a wide range of luxury gins\, as well as splendid live music from a selection of different artists.
URL:https://gympiersl.com.au/event/live-entertainment-11/
LOCATION:Rhythm Sports Bar\, 217 Mary Street\, Gympie\, QLD\, 4570
CATEGORIES:All,Entertainment
ATTACH;FMTTYPE=image/jpeg:https://gympiersl.com.au/wp-content/uploads/2024/05/Event-Featured-Image-Templatethosefolk.jpg
END:VEVENT
BEGIN:VEVENT
DTSTART;TZID=Australia/Brisbane:20240901T113000
DTEND;TZID=Australia/Brisbane:20240901T140000
DTSTAMP:20260423T112214
CREATED:20240821T030201Z
LAST-MODIFIED:20240821T030201Z
UID:10019473-1725190200-1725199200@gympiersl.com.au
SUMMARY:Father's Day - Deals for Dad
DESCRIPTION:Treat Dad to a Father’s Day feast he won’t forget! \nJoin us at Atrium Bistro on Sunday\, September 1st\, for a special Father’s Day lunch. Indulge in a hearty meal featuring your choice of succulent 300g Wagyu Rump or flavorful Champagne Chicken\, served with your preferred sides. Each meal includes a complimentary pint of tap beer or 250ml glass of tap wine\, making it the perfect way to celebrate Dad’s special day. \nDon’t miss out on this fantastic offer! Book your table today and show Dad how much you appreciate him. \n\n\nBook a table
URL:https://gympiersl.com.au/event/fathers-day/
LOCATION:Atrium Bistro\, Gympie RSL\, 217 Mary Street\, Gympie\, QLD\, 4570\, Australia
CATEGORIES:All,Meal Specials,Special Events
ATTACH;FMTTYPE=image/jpeg:https://gympiersl.com.au/wp-content/uploads/2024/08/Gympie-RSL-Fathers-Day-Deals-for-Dad_Website-Event-featured-image.jpg
END:VEVENT
BEGIN:VEVENT
DTSTART;TZID=Australia/Brisbane:20240831T190000
DTEND;TZID=Australia/Brisbane:20240831T230000
DTSTAMP:20260423T112214
CREATED:20240814T230423Z
LAST-MODIFIED:20240819T061717Z
UID:10019472-1725130800-1725145200@gympiersl.com.au
SUMMARY:Uncle Bob's Jug Band
DESCRIPTION:Come join us for a foot-stompin’ good time with Uncle Bob’s Jug Band! \n\n\n\n\n\n\n\n\nGet ready for a toe-tapping\, heartwarming celebration this Father’s Day as Uncle Bob’s Jug Band brings their unique blend of roots music and nostalgic charm to the stage! Join us on Saturday August 31st\, for an afternoon filled with lively tunes\, soulful melodies\, and good old-fashioned fun. \nUncle Bob’s Jug Band is renowned for their infectious energy and delightful repertoire of jug band classics\, blues\, and folk tunes. With their signature sound\, they deliver a musical experience that’s both entertaining and unforgettable.
URL:https://gympiersl.com.au/event/uncle-bobs-jug-band/
LOCATION:Rhythm Sports Bar\, 217 Mary Street\, Gympie\, QLD\, 4570
CATEGORIES:All,Entertainment,Special Events
ATTACH;FMTTYPE=image/jpeg:https://gympiersl.com.au/wp-content/uploads/2024/08/Gympie-RSL-Uncle-Bobs-Jug-Band_Website-Event-featured-image.jpg
END:VEVENT
BEGIN:VEVENT
DTSTART;TZID=Australia/Brisbane:20240831T190000
DTEND;TZID=Australia/Brisbane:20240831T230000
DTSTAMP:20260423T112214
CREATED:20240530T032234Z
LAST-MODIFIED:20240530T034519Z
UID:10014738-1725130800-1725145200@gympiersl.com.au
SUMMARY:Live Entertainment - Cool-Lula
DESCRIPTION:Catch you on the dance floor with Cool-Lula!\nCome and enjoy some live music at Gympie RSL every Saturday night! \nFrom 7pm til late\, come on down to Gympie RSLs fantastic Rhythm Bar & Lounge and indulge in terrific cocktails and a wide range of luxury gins\, as well as splendid live music from a selection of different artists.
URL:https://gympiersl.com.au/event/live-entertainment-10/
LOCATION:Rhythm Sports Bar\, 217 Mary Street\, Gympie\, QLD\, 4570
CATEGORIES:All,Entertainment
ATTACH;FMTTYPE=image/jpeg:https://gympiersl.com.au/wp-content/uploads/2024/05/Event-Featured-Image-Templatecoollula.jpg
END:VEVENT
BEGIN:VEVENT
DTSTART;TZID=Australia/Brisbane:20240824T190000
DTEND;TZID=Australia/Brisbane:20240824T230000
DTSTAMP:20260423T112214
CREATED:20240530T031820Z
LAST-MODIFIED:20240530T032138Z
UID:10014736-1724526000-1724540400@gympiersl.com.au
SUMMARY:Live Entertainment - Brad Sorenson
DESCRIPTION:Catch you on the dance floor with Brad Sorenson!\nCome and enjoy some live music at Gympie RSL every Saturday night! \nFrom 7pm til late\, come on down to Gympie RSLs fantastic Rhythm Bar & Lounge and indulge in terrific cocktails and a wide range of luxury gins\, as well as splendid live music from a selection of different artists.
URL:https://gympiersl.com.au/event/live-entertainment-9/
LOCATION:Rhythm Sports Bar\, 217 Mary Street\, Gympie\, QLD\, 4570
CATEGORIES:All,Entertainment
ATTACH;FMTTYPE=image/jpeg:https://gympiersl.com.au/wp-content/uploads/2024/05/Event-Featured-Image-Brad.jpg
END:VEVENT
BEGIN:VEVENT
DTSTART;TZID=Australia/Brisbane:20240817T190000
DTEND;TZID=Australia/Brisbane:20240817T230000
DTSTAMP:20260423T112214
CREATED:20240530T024744Z
LAST-MODIFIED:20240815T003125Z
UID:10014734-1723921200-1723935600@gympiersl.com.au
SUMMARY:Live Entertainment - Vanessa Sanger
DESCRIPTION:Catch you on the dance floor with Vanessa Sanger!\nCome and enjoy some live music at Gympie RSL every Saturday night! \nFrom 7pm til late\, come on down to Gympie RSLs fantastic Atrium Bar & Bistro and indulge in terrific cocktails and a wide range of tap beers\, and spirits\, as well as splendid live music from a selection of different artists.
URL:https://gympiersl.com.au/event/live-entertainment-8/
LOCATION:Atrium Bistro\, Gympie RSL\, 217 Mary Street\, Gympie\, QLD\, 4570\, Australia
CATEGORIES:All,Entertainment
ATTACH;FMTTYPE=image/jpeg:https://gympiersl.com.au/wp-content/uploads/2024/05/Event-Featured-Image-Templatevanessasanger.jpg
END:VEVENT
BEGIN:VEVENT
DTSTART;TZID=Australia/Brisbane:20240815T100000
DTEND;TZID=Australia/Brisbane:20240815T130000
DTSTAMP:20260423T112214
CREATED:20240530T052305Z
LAST-MODIFIED:20240530T053617Z
UID:10012791-1723716000-1723726800@gympiersl.com.au
SUMMARY:Morning Melodies - Paul Hayman
DESCRIPTION:Join us as we listen to the talented Paul Hayman performing live on Thursday 15th of August! \nMorning Melodies brings great tunes as well as a a two-course lunch including main and dessert! \nEntry is just $15\, which includes $5 worth of raffle tickets. Book at Reception.
URL:https://gympiersl.com.au/event/morning-melodies-2/
LOCATION:Gympie RSL
CATEGORIES:All,Entertainment
ATTACH;FMTTYPE=image/jpeg:https://gympiersl.com.au/wp-content/uploads/2024/04/Paul-Hayman-featured.jpg
END:VEVENT
BEGIN:VEVENT
DTSTART;TZID=Australia/Brisbane:20240810T190000
DTEND;TZID=Australia/Brisbane:20240810T230000
DTSTAMP:20260423T112214
CREATED:20240529T045558Z
LAST-MODIFIED:20240529T050054Z
UID:10014732-1723316400-1723330800@gympiersl.com.au
SUMMARY:Live Entertainment - Sweaty Palms
DESCRIPTION:Catch you on the dance floor with Sweaty Palms!\nCome and enjoy some live music at Gympie RSL every Saturday night! \nFrom 7pm til late\, come on down to Gympie RSLs fantastic Rhythm Bar & Lounge and indulge in terrific cocktails and a wide range of luxury gins\, as well as splendid live music from a selection of different artists.
URL:https://gympiersl.com.au/event/live-entertainment-7/
LOCATION:Rhythm Sports Bar\, 217 Mary Street\, Gympie\, QLD\, 4570
CATEGORIES:All,Entertainment
ATTACH;FMTTYPE=image/jpeg:https://gympiersl.com.au/wp-content/uploads/2024/05/Event-Featured-Image-TemplateSweatyPalms.jpg
END:VEVENT
BEGIN:VEVENT
DTSTART;TZID=Australia/Brisbane:20240803T190000
DTEND;TZID=Australia/Brisbane:20240803T230000
DTSTAMP:20260423T112214
CREATED:20240529T042634Z
LAST-MODIFIED:20240724T231916Z
UID:10014730-1722711600-1722726000@gympiersl.com.au
SUMMARY:Live Entertainment - Michael Gant
DESCRIPTION:Catch you on the dance floor with tunes from Michael Gant!\nCome and enjoy some live music at Gympie RSL every Saturday night! \nFrom 7pm til late\, come on down to Gympie RSLs fantastic Rhythm Bar & Lounge and indulge in terrific cocktails and a wide range of luxury gins\, as well as splendid live music from a selection of different artists.
URL:https://gympiersl.com.au/event/live-entertainment-6/
LOCATION:Rhythm Sports Bar\, 217 Mary Street\, Gympie\, QLD\, 4570
CATEGORIES:All,Entertainment
ATTACH;FMTTYPE=image/jpeg:https://gympiersl.com.au/wp-content/uploads/2024/05/Event-Featured-Image-TemplateTuneRangers.jpg
END:VEVENT
BEGIN:VEVENT
DTSTART;TZID=Australia/Brisbane:20240727T190000
DTEND;TZID=Australia/Brisbane:20240727T230000
DTSTAMP:20260423T112214
CREATED:20240521T042128Z
LAST-MODIFIED:20240521T043928Z
UID:10014728-1722106800-1722121200@gympiersl.com.au
SUMMARY:Live Entertainment - Trainwrecks
DESCRIPTION:Catch you on the dance floor with Trainwrecks!\nCome and enjoy some live music at Gympie RSL every Saturday night! \nFrom 7pm til late\, come on down to Gympie RSLs fantastic Rhythm Bar & Lounge and indulge in terrific cocktails and a wide range of luxury gins\, as well as splendid live music from a selection of different artists.
URL:https://gympiersl.com.au/event/live-entertainment-5/
LOCATION:Rhythm Sports Bar\, 217 Mary Street\, Gympie\, QLD\, 4570
CATEGORIES:All,Entertainment
ATTACH;FMTTYPE=image/jpeg:https://gympiersl.com.au/wp-content/uploads/2024/05/Event-Featured-Image-Trainwrecks.jpg
END:VEVENT
BEGIN:VEVENT
DTSTART;TZID=Australia/Brisbane:20240720T190000
DTEND;TZID=Australia/Brisbane:20240720T230000
DTSTAMP:20260423T112214
CREATED:20240521T041448Z
LAST-MODIFIED:20240521T042000Z
UID:10014726-1721502000-1721516400@gympiersl.com.au
SUMMARY:Live Entertainment - Kruella Da Ville
DESCRIPTION:Catch you on the dance floor with Kruella Da Ville!\nCome and enjoy some live music at Gympie RSL every Saturday night! \nFrom 7pm til late\, come on down to Gympie RSLs fantastic Rhythm Bar & Lounge and indulge in terrific cocktails and a wide range of luxury gins\, as well as splendid live music from a selection of different artists.
URL:https://gympiersl.com.au/event/live-entertainment-4/
LOCATION:Rhythm Sports Bar\, 217 Mary Street\, Gympie\, QLD\, 4570
CATEGORIES:All,Entertainment
ATTACH;FMTTYPE=image/jpeg:https://gympiersl.com.au/wp-content/uploads/2024/04/Gympie-RSL_Web-Featured_Weekly-Entertainment.jpg
END:VEVENT
BEGIN:VEVENT
DTSTART;TZID=Australia/Brisbane:20240718T100000
DTEND;TZID=Australia/Brisbane:20240718T130000
DTSTAMP:20260423T112214
CREATED:20240426T002150Z
LAST-MODIFIED:20260127T020036Z
UID:10012790-1721296800-1721307600@gympiersl.com.au
SUMMARY:Morning Melodies
DESCRIPTION:Join us as we listen to the talented artists performing live on the last Thursday of every month! \nMorning Melodies brings great tunes as well as a a two-course lunch including main and dessert! \nEntry is just $20\, which includes $5 worth of raffle tickets. Book at Reception.
URL:https://gympiersl.com.au/event/morning-melodies/2024-07-18/
LOCATION:Gympie RSL
CATEGORIES:All,Entertainment,Morning Melodies
ATTACH;FMTTYPE=image/jpeg:https://gympiersl.com.au/wp-content/uploads/2024/04/Gympie-RSL_Web-Featured_Morning-Melodies.jpg
END:VEVENT
BEGIN:VEVENT
DTSTART;TZID=Australia/Brisbane:20240713T190000
DTEND;TZID=Australia/Brisbane:20240713T230000
DTSTAMP:20260423T112214
CREATED:20240521T035831Z
LAST-MODIFIED:20240521T041201Z
UID:10014724-1720897200-1720911600@gympiersl.com.au
SUMMARY:Live Entertainment - Brad Sorenson
DESCRIPTION:Catch you on the dance floor with Brad Sorenson!\nCome and enjoy some live music at Gympie RSL every Saturday night! \nFrom 7pm til late\, come on down to Gympie RSLs fantastic Rhythm Bar & Lounge and indulge in terrific cocktails and a wide range of luxury gins\, as well as splendid live music from a selection of different artists.
URL:https://gympiersl.com.au/event/live-entertainment-3/
LOCATION:Rhythm Sports Bar\, 217 Mary Street\, Gympie\, QLD\, 4570
CATEGORIES:All,Entertainment
ATTACH;FMTTYPE=image/jpeg:https://gympiersl.com.au/wp-content/uploads/2024/05/Event-Featured-Image-Brad.jpg
END:VEVENT
END:VCALENDAR