BEGIN:VCALENDAR
VERSION:2.0
PRODID:-//Gympie RSL - ECPv6.15.20//NONSGML v1.0//EN
CALSCALE:GREGORIAN
METHOD:PUBLISH
X-WR-CALNAME:Gympie RSL
X-ORIGINAL-URL:https://gympiersl.com.au
X-WR-CALDESC:Events for Gympie RSL
REFRESH-INTERVAL;VALUE=DURATION:PT1H
X-Robots-Tag:noindex
X-PUBLISHED-TTL:PT1H
BEGIN:VTIMEZONE
TZID:Australia/Brisbane
BEGIN:STANDARD
TZOFFSETFROM:+1000
TZOFFSETTO:+1000
TZNAME:AEST
DTSTART:20250101T000000
END:STANDARD
END:VTIMEZONE
BEGIN:VEVENT
DTSTART;TZID=Australia/Brisbane:20260306T170000
DTEND;TZID=Australia/Brisbane:20260306T210000
DTSTAMP:20260423T050516
CREATED:20250526T020301Z
LAST-MODIFIED:20260409T011438Z
UID:10023838-1772816400-1772830800@gympiersl.com.au
SUMMARY:Friday Night Frenzy at Gympie RSL
DESCRIPTION:Looking for the perfect way to kick off your weekend? Join us every Friday night at the Gympie RSL for our exciting Friday Night Frenzy\, hosted at Rhythm Bar. From 5:00PM to 9:00PM\, enjoy a relaxed evening with friends while earning entries into our weekly prize draw. Simply purchase any beverage during this time to receive an entry – each drink gives you one chance to win\, so the more you enjoy\, the better your odds! \nAt 9:00PM\, one lucky member will be randomly drawn and invited to select one of five mystery cards\, each containing a fantastic prize. Prizes include Gympie RSL Club Vouchers ranging in value from $25 all the way up to $200. \nWhether you’re in it for the thrill of the prize or just want to enjoy a great night out\, Friday Night Frenzy is the place to be every week at Gympie RSL.
URL:https://gympiersl.com.au/event/friday-night-frenzy-at-gympie-rsl/2026-03-06/
LOCATION:Gympie RSL
CATEGORIES:All,Entertainment,Live Music,Promotions,Sports Bar
ATTACH;FMTTYPE=image/jpeg:https://gympiersl.com.au/wp-content/uploads/2025/05/Gympie-RSL-Friday-Night-Frenzy_Website-Event-featured-image.jpg
END:VEVENT
BEGIN:VEVENT
DTSTART;TZID=Australia/Brisbane:20260306T190000
DTEND;TZID=Australia/Brisbane:20260306T230000
DTSTAMP:20260423T050516
CREATED:20250304T033443Z
LAST-MODIFIED:20251007T055944Z
UID:10026539-1772823600-1772838000@gympiersl.com.au
SUMMARY:Friday Live Entertainment
DESCRIPTION:Catch you on the dance floor!\nCome and enjoy some live music at Gympie RSL every Saturday night! \nFrom 7pm til late\, come on down to Live Music at the Gympie RSL and indulge in terrific cocktails and a wide range of luxury gins\, as well as splendid live music from a selection of different artists.
URL:https://gympiersl.com.au/event/fri-live-entertainment/2026-03-06/
LOCATION:Gympie RSL
CATEGORIES:All,Entertainment,Live Music
ATTACH;FMTTYPE=image/jpeg:https://gympiersl.com.au/wp-content/uploads/2024/04/Gympie-RSL_Web-Featured_Weekly-Entertainment.jpg
END:VEVENT
BEGIN:VEVENT
DTSTART;TZID=Australia/Brisbane:20260307T190000
DTEND;TZID=Australia/Brisbane:20260307T230000
DTSTAMP:20260423T050516
CREATED:20250915T221133Z
LAST-MODIFIED:20250915T221133Z
UID:10027245-1772910000-1772924400@gympiersl.com.au
SUMMARY:Saturday Live Entertainment
DESCRIPTION:Catch you on the dance floor!\nCome and enjoy some live music at Gympie RSL every Saturday night! \nFrom 7pm til late\, come on down to Live Music at the Gympie RSL and indulge in terrific cocktails and a wide range of luxury gins\, as well as splendid live music from a selection of different artists.
URL:https://gympiersl.com.au/event/sat-live-entertainment/2026-03-07/
LOCATION:Gympie RSL
CATEGORIES:All,Entertainment,Live Music
ATTACH;FMTTYPE=image/jpeg:https://gympiersl.com.au/wp-content/uploads/2024/04/Gympie-RSL_Web-Featured_Weekly-Entertainment.jpg
END:VEVENT
BEGIN:VEVENT
DTSTART;TZID=Australia/Brisbane:20260313T170000
DTEND;TZID=Australia/Brisbane:20260313T210000
DTSTAMP:20260423T050516
CREATED:20250526T020301Z
LAST-MODIFIED:20260409T011438Z
UID:10023839-1773421200-1773435600@gympiersl.com.au
SUMMARY:Friday Night Frenzy at Gympie RSL
DESCRIPTION:Looking for the perfect way to kick off your weekend? Join us every Friday night at the Gympie RSL for our exciting Friday Night Frenzy\, hosted at Rhythm Bar. From 5:00PM to 9:00PM\, enjoy a relaxed evening with friends while earning entries into our weekly prize draw. Simply purchase any beverage during this time to receive an entry – each drink gives you one chance to win\, so the more you enjoy\, the better your odds! \nAt 9:00PM\, one lucky member will be randomly drawn and invited to select one of five mystery cards\, each containing a fantastic prize. Prizes include Gympie RSL Club Vouchers ranging in value from $25 all the way up to $200. \nWhether you’re in it for the thrill of the prize or just want to enjoy a great night out\, Friday Night Frenzy is the place to be every week at Gympie RSL.
URL:https://gympiersl.com.au/event/friday-night-frenzy-at-gympie-rsl/2026-03-13/
LOCATION:Gympie RSL
CATEGORIES:All,Entertainment,Live Music,Promotions,Sports Bar
ATTACH;FMTTYPE=image/jpeg:https://gympiersl.com.au/wp-content/uploads/2025/05/Gympie-RSL-Friday-Night-Frenzy_Website-Event-featured-image.jpg
END:VEVENT
BEGIN:VEVENT
DTSTART;TZID=Australia/Brisbane:20260313T190000
DTEND;TZID=Australia/Brisbane:20260313T230000
DTSTAMP:20260423T050516
CREATED:20250304T033443Z
LAST-MODIFIED:20251007T055944Z
UID:10026540-1773428400-1773442800@gympiersl.com.au
SUMMARY:Friday Live Entertainment
DESCRIPTION:Catch you on the dance floor!\nCome and enjoy some live music at Gympie RSL every Saturday night! \nFrom 7pm til late\, come on down to Live Music at the Gympie RSL and indulge in terrific cocktails and a wide range of luxury gins\, as well as splendid live music from a selection of different artists.
URL:https://gympiersl.com.au/event/fri-live-entertainment/2026-03-13/
LOCATION:Gympie RSL
CATEGORIES:All,Entertainment,Live Music
ATTACH;FMTTYPE=image/jpeg:https://gympiersl.com.au/wp-content/uploads/2024/04/Gympie-RSL_Web-Featured_Weekly-Entertainment.jpg
END:VEVENT
BEGIN:VEVENT
DTSTART;TZID=Australia/Brisbane:20260314T190000
DTEND;TZID=Australia/Brisbane:20260314T230000
DTSTAMP:20260423T050516
CREATED:20250915T221133Z
LAST-MODIFIED:20250915T221133Z
UID:10027246-1773514800-1773529200@gympiersl.com.au
SUMMARY:Saturday Live Entertainment
DESCRIPTION:Catch you on the dance floor!\nCome and enjoy some live music at Gympie RSL every Saturday night! \nFrom 7pm til late\, come on down to Live Music at the Gympie RSL and indulge in terrific cocktails and a wide range of luxury gins\, as well as splendid live music from a selection of different artists.
URL:https://gympiersl.com.au/event/sat-live-entertainment/2026-03-14/
LOCATION:Gympie RSL
CATEGORIES:All,Entertainment,Live Music
ATTACH;FMTTYPE=image/jpeg:https://gympiersl.com.au/wp-content/uploads/2024/04/Gympie-RSL_Web-Featured_Weekly-Entertainment.jpg
END:VEVENT
BEGIN:VEVENT
DTSTART;TZID=Australia/Brisbane:20260320T170000
DTEND;TZID=Australia/Brisbane:20260320T210000
DTSTAMP:20260423T050516
CREATED:20250526T020301Z
LAST-MODIFIED:20260409T011438Z
UID:10023840-1774026000-1774040400@gympiersl.com.au
SUMMARY:Friday Night Frenzy at Gympie RSL
DESCRIPTION:Looking for the perfect way to kick off your weekend? Join us every Friday night at the Gympie RSL for our exciting Friday Night Frenzy\, hosted at Rhythm Bar. From 5:00PM to 9:00PM\, enjoy a relaxed evening with friends while earning entries into our weekly prize draw. Simply purchase any beverage during this time to receive an entry – each drink gives you one chance to win\, so the more you enjoy\, the better your odds! \nAt 9:00PM\, one lucky member will be randomly drawn and invited to select one of five mystery cards\, each containing a fantastic prize. Prizes include Gympie RSL Club Vouchers ranging in value from $25 all the way up to $200. \nWhether you’re in it for the thrill of the prize or just want to enjoy a great night out\, Friday Night Frenzy is the place to be every week at Gympie RSL.
URL:https://gympiersl.com.au/event/friday-night-frenzy-at-gympie-rsl/2026-03-20/
LOCATION:Gympie RSL
CATEGORIES:All,Entertainment,Live Music,Promotions,Sports Bar
ATTACH;FMTTYPE=image/jpeg:https://gympiersl.com.au/wp-content/uploads/2025/05/Gympie-RSL-Friday-Night-Frenzy_Website-Event-featured-image.jpg
END:VEVENT
BEGIN:VEVENT
DTSTART;TZID=Australia/Brisbane:20260320T190000
DTEND;TZID=Australia/Brisbane:20260320T230000
DTSTAMP:20260423T050516
CREATED:20250304T033443Z
LAST-MODIFIED:20251007T055944Z
UID:10026541-1774033200-1774047600@gympiersl.com.au
SUMMARY:Friday Live Entertainment
DESCRIPTION:Catch you on the dance floor!\nCome and enjoy some live music at Gympie RSL every Saturday night! \nFrom 7pm til late\, come on down to Live Music at the Gympie RSL and indulge in terrific cocktails and a wide range of luxury gins\, as well as splendid live music from a selection of different artists.
URL:https://gympiersl.com.au/event/fri-live-entertainment/2026-03-20/
LOCATION:Gympie RSL
CATEGORIES:All,Entertainment,Live Music
ATTACH;FMTTYPE=image/jpeg:https://gympiersl.com.au/wp-content/uploads/2024/04/Gympie-RSL_Web-Featured_Weekly-Entertainment.jpg
END:VEVENT
BEGIN:VEVENT
DTSTART;TZID=Australia/Brisbane:20260321T190000
DTEND;TZID=Australia/Brisbane:20260321T230000
DTSTAMP:20260423T050516
CREATED:20250915T221133Z
LAST-MODIFIED:20250915T221133Z
UID:10027247-1774119600-1774134000@gympiersl.com.au
SUMMARY:Saturday Live Entertainment
DESCRIPTION:Catch you on the dance floor!\nCome and enjoy some live music at Gympie RSL every Saturday night! \nFrom 7pm til late\, come on down to Live Music at the Gympie RSL and indulge in terrific cocktails and a wide range of luxury gins\, as well as splendid live music from a selection of different artists.
URL:https://gympiersl.com.au/event/sat-live-entertainment/2026-03-21/
LOCATION:Gympie RSL
CATEGORIES:All,Entertainment,Live Music
ATTACH;FMTTYPE=image/jpeg:https://gympiersl.com.au/wp-content/uploads/2024/04/Gympie-RSL_Web-Featured_Weekly-Entertainment.jpg
END:VEVENT
BEGIN:VEVENT
DTSTART;TZID=Australia/Brisbane:20260327T170000
DTEND;TZID=Australia/Brisbane:20260327T210000
DTSTAMP:20260423T050516
CREATED:20250526T020301Z
LAST-MODIFIED:20260409T011438Z
UID:10023841-1774630800-1774645200@gympiersl.com.au
SUMMARY:Friday Night Frenzy at Gympie RSL
DESCRIPTION:Looking for the perfect way to kick off your weekend? Join us every Friday night at the Gympie RSL for our exciting Friday Night Frenzy\, hosted at Rhythm Bar. From 5:00PM to 9:00PM\, enjoy a relaxed evening with friends while earning entries into our weekly prize draw. Simply purchase any beverage during this time to receive an entry – each drink gives you one chance to win\, so the more you enjoy\, the better your odds! \nAt 9:00PM\, one lucky member will be randomly drawn and invited to select one of five mystery cards\, each containing a fantastic prize. Prizes include Gympie RSL Club Vouchers ranging in value from $25 all the way up to $200. \nWhether you’re in it for the thrill of the prize or just want to enjoy a great night out\, Friday Night Frenzy is the place to be every week at Gympie RSL.
URL:https://gympiersl.com.au/event/friday-night-frenzy-at-gympie-rsl/2026-03-27/
LOCATION:Gympie RSL
CATEGORIES:All,Entertainment,Live Music,Promotions,Sports Bar
ATTACH;FMTTYPE=image/jpeg:https://gympiersl.com.au/wp-content/uploads/2025/05/Gympie-RSL-Friday-Night-Frenzy_Website-Event-featured-image.jpg
END:VEVENT
BEGIN:VEVENT
DTSTART;TZID=Australia/Brisbane:20260327T190000
DTEND;TZID=Australia/Brisbane:20260327T230000
DTSTAMP:20260423T050516
CREATED:20250304T033443Z
LAST-MODIFIED:20251007T055944Z
UID:10026542-1774638000-1774652400@gympiersl.com.au
SUMMARY:Friday Live Entertainment
DESCRIPTION:Catch you on the dance floor!\nCome and enjoy some live music at Gympie RSL every Saturday night! \nFrom 7pm til late\, come on down to Live Music at the Gympie RSL and indulge in terrific cocktails and a wide range of luxury gins\, as well as splendid live music from a selection of different artists.
URL:https://gympiersl.com.au/event/fri-live-entertainment/2026-03-27/
LOCATION:Gympie RSL
CATEGORIES:All,Entertainment,Live Music
ATTACH;FMTTYPE=image/jpeg:https://gympiersl.com.au/wp-content/uploads/2024/04/Gympie-RSL_Web-Featured_Weekly-Entertainment.jpg
END:VEVENT
BEGIN:VEVENT
DTSTART;TZID=Australia/Brisbane:20260328T190000
DTEND;TZID=Australia/Brisbane:20260328T230000
DTSTAMP:20260423T050516
CREATED:20250915T221133Z
LAST-MODIFIED:20250915T221133Z
UID:10027248-1774724400-1774738800@gympiersl.com.au
SUMMARY:Saturday Live Entertainment
DESCRIPTION:Catch you on the dance floor!\nCome and enjoy some live music at Gympie RSL every Saturday night! \nFrom 7pm til late\, come on down to Live Music at the Gympie RSL and indulge in terrific cocktails and a wide range of luxury gins\, as well as splendid live music from a selection of different artists.
URL:https://gympiersl.com.au/event/sat-live-entertainment/2026-03-28/
LOCATION:Gympie RSL
CATEGORIES:All,Entertainment,Live Music
ATTACH;FMTTYPE=image/jpeg:https://gympiersl.com.au/wp-content/uploads/2024/04/Gympie-RSL_Web-Featured_Weekly-Entertainment.jpg
END:VEVENT
END:VCALENDAR