BEGIN:VCALENDAR
VERSION:2.0
PRODID:-//Gympie RSL - ECPv6.15.20//NONSGML v1.0//EN
CALSCALE:GREGORIAN
METHOD:PUBLISH
X-ORIGINAL-URL:https://gympiersl.com.au
X-WR-CALDESC:Events for Gympie RSL
REFRESH-INTERVAL;VALUE=DURATION:PT1H
X-Robots-Tag:noindex
X-PUBLISHED-TTL:PT1H
BEGIN:VTIMEZONE
TZID:Australia/Brisbane
BEGIN:STANDARD
TZOFFSETFROM:+1000
TZOFFSETTO:+1000
TZNAME:AEST
DTSTART:20240101T000000
END:STANDARD
END:VTIMEZONE
BEGIN:VEVENT
DTSTART;TZID=Australia/Brisbane:20250801T170000
DTEND;TZID=Australia/Brisbane:20250801T210000
DTSTAMP:20260423T222143
CREATED:20250526T020301Z
LAST-MODIFIED:20260409T011438Z
UID:10023807-1754067600-1754082000@gympiersl.com.au
SUMMARY:Friday Night Frenzy at Gympie RSL
DESCRIPTION:Looking for the perfect way to kick off your weekend? Join us every Friday night at the Gympie RSL for our exciting Friday Night Frenzy\, hosted at Rhythm Bar. From 5:00PM to 9:00PM\, enjoy a relaxed evening with friends while earning entries into our weekly prize draw. Simply purchase any beverage during this time to receive an entry – each drink gives you one chance to win\, so the more you enjoy\, the better your odds! \nAt 9:00PM\, one lucky member will be randomly drawn and invited to select one of five mystery cards\, each containing a fantastic prize. Prizes include Gympie RSL Club Vouchers ranging in value from $25 all the way up to $200. \nWhether you’re in it for the thrill of the prize or just want to enjoy a great night out\, Friday Night Frenzy is the place to be every week at Gympie RSL.
URL:https://gympiersl.com.au/event/friday-night-frenzy-at-gympie-rsl/2025-08-01/
LOCATION:Gympie RSL
CATEGORIES:All,Entertainment,Live Music,Promotions,Sports Bar
ATTACH;FMTTYPE=image/jpeg:https://gympiersl.com.au/wp-content/uploads/2025/05/Gympie-RSL-Friday-Night-Frenzy_Website-Event-featured-image.jpg
END:VEVENT
BEGIN:VEVENT
DTSTART;TZID=Australia/Brisbane:20250802T190000
DTEND;TZID=Australia/Brisbane:20250802T230000
DTSTAMP:20260423T222143
CREATED:20250702T043203Z
LAST-MODIFIED:20250702T043513Z
UID:10022317-1754161200-1754175600@gympiersl.com.au
SUMMARY:Live Entertainment - Theunis Pretorius
DESCRIPTION:Catch you on the dance floor with Theunis Pretorius!\nCome and enjoy some live music at Gympie RSL on Saturday 2nd August! \nFrom 7pm til late\, come on down to Live Music at the Gympie RSL and indulge in terrific cocktails and a wide range of luxury gins\, as well as splendid live music from a selection of different artists.
URL:https://gympiersl.com.au/event/live-entertainment-39/
LOCATION:Gympie RSL
CATEGORIES:All,Entertainment,Live Music,Sports Bar
ATTACH;FMTTYPE=image/jpeg:https://gympiersl.com.au/wp-content/uploads/2024/09/Event-Featured-Image-TheunisP.jpg
END:VEVENT
BEGIN:VEVENT
DTSTART;TZID=Australia/Brisbane:20250808T170000
DTEND;TZID=Australia/Brisbane:20250808T210000
DTSTAMP:20260423T222144
CREATED:20250526T020301Z
LAST-MODIFIED:20260409T011438Z
UID:10023808-1754672400-1754686800@gympiersl.com.au
SUMMARY:Friday Night Frenzy at Gympie RSL
DESCRIPTION:Looking for the perfect way to kick off your weekend? Join us every Friday night at the Gympie RSL for our exciting Friday Night Frenzy\, hosted at Rhythm Bar. From 5:00PM to 9:00PM\, enjoy a relaxed evening with friends while earning entries into our weekly prize draw. Simply purchase any beverage during this time to receive an entry – each drink gives you one chance to win\, so the more you enjoy\, the better your odds! \nAt 9:00PM\, one lucky member will be randomly drawn and invited to select one of five mystery cards\, each containing a fantastic prize. Prizes include Gympie RSL Club Vouchers ranging in value from $25 all the way up to $200. \nWhether you’re in it for the thrill of the prize or just want to enjoy a great night out\, Friday Night Frenzy is the place to be every week at Gympie RSL.
URL:https://gympiersl.com.au/event/friday-night-frenzy-at-gympie-rsl/2025-08-08/
LOCATION:Gympie RSL
CATEGORIES:All,Entertainment,Live Music,Promotions,Sports Bar
ATTACH;FMTTYPE=image/jpeg:https://gympiersl.com.au/wp-content/uploads/2025/05/Gympie-RSL-Friday-Night-Frenzy_Website-Event-featured-image.jpg
END:VEVENT
BEGIN:VEVENT
DTSTART;TZID=Australia/Brisbane:20250809T190000
DTEND;TZID=Australia/Brisbane:20250809T230000
DTSTAMP:20260423T222144
CREATED:20250702T043517Z
LAST-MODIFIED:20250702T043702Z
UID:10022318-1754766000-1754780400@gympiersl.com.au
SUMMARY:Live Entertainment - Jordyn Murphy
DESCRIPTION:Catch you on the dance floor with Jordyn Murphy!\nCome and enjoy some live music at Gympie RSL Saturday 9th August! \nFrom 7pm til late\, come on down to Live Music at the Gympie RSL and indulge in terrific cocktails and a wide range of luxury gins\, as well as splendid live music from a selection of different artists.
URL:https://gympiersl.com.au/event/live-entertainment-40/
LOCATION:Gympie RSL
CATEGORIES:All,Entertainment,Live Music,Sports Bar
ATTACH;FMTTYPE=image/jpeg:https://gympiersl.com.au/wp-content/uploads/2024/04/Gympie-RSL_Web-Featured_Weekly-Entertainment.jpg
END:VEVENT
BEGIN:VEVENT
DTSTART;TZID=Australia/Brisbane:20250815T170000
DTEND;TZID=Australia/Brisbane:20250815T210000
DTSTAMP:20260423T222144
CREATED:20250526T020301Z
LAST-MODIFIED:20260409T011438Z
UID:10023809-1755277200-1755291600@gympiersl.com.au
SUMMARY:Friday Night Frenzy at Gympie RSL
DESCRIPTION:Looking for the perfect way to kick off your weekend? Join us every Friday night at the Gympie RSL for our exciting Friday Night Frenzy\, hosted at Rhythm Bar. From 5:00PM to 9:00PM\, enjoy a relaxed evening with friends while earning entries into our weekly prize draw. Simply purchase any beverage during this time to receive an entry – each drink gives you one chance to win\, so the more you enjoy\, the better your odds! \nAt 9:00PM\, one lucky member will be randomly drawn and invited to select one of five mystery cards\, each containing a fantastic prize. Prizes include Gympie RSL Club Vouchers ranging in value from $25 all the way up to $200. \nWhether you’re in it for the thrill of the prize or just want to enjoy a great night out\, Friday Night Frenzy is the place to be every week at Gympie RSL.
URL:https://gympiersl.com.au/event/friday-night-frenzy-at-gympie-rsl/2025-08-15/
LOCATION:Gympie RSL
CATEGORIES:All,Entertainment,Live Music,Promotions,Sports Bar
ATTACH;FMTTYPE=image/jpeg:https://gympiersl.com.au/wp-content/uploads/2025/05/Gympie-RSL-Friday-Night-Frenzy_Website-Event-featured-image.jpg
END:VEVENT
BEGIN:VEVENT
DTSTART;TZID=Australia/Brisbane:20250816T190000
DTEND;TZID=Australia/Brisbane:20250816T230000
DTSTAMP:20260423T222144
CREATED:20250702T043703Z
LAST-MODIFIED:20250702T043827Z
UID:10022319-1755370800-1755385200@gympiersl.com.au
SUMMARY:Live Entertainment - Dave Barrie
DESCRIPTION:Catch you on the dance floor with Dave Barrie!\nCome and enjoy some live music at Gympie RSL on Saturday 16th August! \nFrom 7pm til late\, come on down to Live Music at the Gympie RSL and indulge in terrific cocktails and a wide range of luxury gins\, as well as splendid live music from a selection of different artists.
URL:https://gympiersl.com.au/event/live-entertainment-41/
LOCATION:Gympie RSL
CATEGORIES:All,Entertainment,Live Music,Sports Bar
ATTACH;FMTTYPE=image/jpeg:https://gympiersl.com.au/wp-content/uploads/2024/09/Event-Featured-Image-DaveBarrie.jpg
END:VEVENT
BEGIN:VEVENT
DTSTART;TZID=Australia/Brisbane:20250822T170000
DTEND;TZID=Australia/Brisbane:20250822T210000
DTSTAMP:20260423T222144
CREATED:20250526T020301Z
LAST-MODIFIED:20260409T011438Z
UID:10023810-1755882000-1755896400@gympiersl.com.au
SUMMARY:Friday Night Frenzy at Gympie RSL
DESCRIPTION:Looking for the perfect way to kick off your weekend? Join us every Friday night at the Gympie RSL for our exciting Friday Night Frenzy\, hosted at Rhythm Bar. From 5:00PM to 9:00PM\, enjoy a relaxed evening with friends while earning entries into our weekly prize draw. Simply purchase any beverage during this time to receive an entry – each drink gives you one chance to win\, so the more you enjoy\, the better your odds! \nAt 9:00PM\, one lucky member will be randomly drawn and invited to select one of five mystery cards\, each containing a fantastic prize. Prizes include Gympie RSL Club Vouchers ranging in value from $25 all the way up to $200. \nWhether you’re in it for the thrill of the prize or just want to enjoy a great night out\, Friday Night Frenzy is the place to be every week at Gympie RSL.
URL:https://gympiersl.com.au/event/friday-night-frenzy-at-gympie-rsl/2025-08-22/
LOCATION:Gympie RSL
CATEGORIES:All,Entertainment,Live Music,Promotions,Sports Bar
ATTACH;FMTTYPE=image/jpeg:https://gympiersl.com.au/wp-content/uploads/2025/05/Gympie-RSL-Friday-Night-Frenzy_Website-Event-featured-image.jpg
END:VEVENT
BEGIN:VEVENT
DTSTART;TZID=Australia/Brisbane:20250823T190000
DTEND;TZID=Australia/Brisbane:20250823T230000
DTSTAMP:20260423T222144
CREATED:20250702T043838Z
LAST-MODIFIED:20250702T044002Z
UID:10022320-1755975600-1755990000@gympiersl.com.au
SUMMARY:Live Entertainment - Cool Lula
DESCRIPTION:Catch you on the dance floor with Cool Lula!\nCome and enjoy some live music at Gympie RSL on Saturday 23rd August! \nFrom 7pm til late\, come on down to Live Music at the Gympie RSL and indulge in terrific cocktails and a wide range of luxury gins\, as well as splendid live music from a selection of different artists.
URL:https://gympiersl.com.au/event/live-entertainment-42/
LOCATION:Gympie RSL
CATEGORIES:All,Entertainment,Live Music,Sports Bar
ATTACH;FMTTYPE=image/jpeg:https://gympiersl.com.au/wp-content/uploads/2024/05/Event-Featured-Image-Templatecoollula.jpg
END:VEVENT
BEGIN:VEVENT
DTSTART;TZID=Australia/Brisbane:20250829T170000
DTEND;TZID=Australia/Brisbane:20250829T210000
DTSTAMP:20260423T222144
CREATED:20250526T020301Z
LAST-MODIFIED:20260409T011438Z
UID:10023811-1756486800-1756501200@gympiersl.com.au
SUMMARY:Friday Night Frenzy at Gympie RSL
DESCRIPTION:Looking for the perfect way to kick off your weekend? Join us every Friday night at the Gympie RSL for our exciting Friday Night Frenzy\, hosted at Rhythm Bar. From 5:00PM to 9:00PM\, enjoy a relaxed evening with friends while earning entries into our weekly prize draw. Simply purchase any beverage during this time to receive an entry – each drink gives you one chance to win\, so the more you enjoy\, the better your odds! \nAt 9:00PM\, one lucky member will be randomly drawn and invited to select one of five mystery cards\, each containing a fantastic prize. Prizes include Gympie RSL Club Vouchers ranging in value from $25 all the way up to $200. \nWhether you’re in it for the thrill of the prize or just want to enjoy a great night out\, Friday Night Frenzy is the place to be every week at Gympie RSL.
URL:https://gympiersl.com.au/event/friday-night-frenzy-at-gympie-rsl/2025-08-29/
LOCATION:Gympie RSL
CATEGORIES:All,Entertainment,Live Music,Promotions,Sports Bar
ATTACH;FMTTYPE=image/jpeg:https://gympiersl.com.au/wp-content/uploads/2025/05/Gympie-RSL-Friday-Night-Frenzy_Website-Event-featured-image.jpg
END:VEVENT
BEGIN:VEVENT
DTSTART;TZID=Australia/Brisbane:20250830T190000
DTEND;TZID=Australia/Brisbane:20250830T230000
DTSTAMP:20260423T222144
CREATED:20250702T044004Z
LAST-MODIFIED:20250827T020942Z
UID:10022321-1756580400-1756594800@gympiersl.com.au
SUMMARY:Live Entertainment - Nick Rivers
DESCRIPTION:Catch you on the dance floor with Nick Rivers!\nCome and enjoy some live entertainment at Gympie RSL on Saturday 30th August! \nFrom 7pm til late\, come on down to Live Music at the Gympie RSL and indulge in terrific cocktails and a wide range of luxury gins\, as well as splendid live music from a selection of different artists.
URL:https://gympiersl.com.au/event/live-entertainment-43/
LOCATION:Gympie RSL
CATEGORIES:All,Entertainment,Live Music,Sports Bar
ATTACH;FMTTYPE=image/png:https://gympiersl.com.au/wp-content/uploads/2025/08/Nick-Rivers-featured-image.png
END:VEVENT
END:VCALENDAR