BEGIN:VCALENDAR
VERSION:2.0
PRODID:-//Gympie RSL - ECPv6.15.20//NONSGML v1.0//EN
CALSCALE:GREGORIAN
METHOD:PUBLISH
X-WR-CALNAME:Gympie RSL
X-ORIGINAL-URL:https://gympiersl.com.au
X-WR-CALDESC:Events for Gympie RSL
REFRESH-INTERVAL;VALUE=DURATION:PT1H
X-Robots-Tag:noindex
X-PUBLISHED-TTL:PT1H
BEGIN:VTIMEZONE
TZID:Australia/Brisbane
BEGIN:STANDARD
TZOFFSETFROM:+1000
TZOFFSETTO:+1000
TZNAME:AEST
DTSTART:20240101T000000
END:STANDARD
END:VTIMEZONE
BEGIN:VEVENT
DTSTART;TZID=Australia/Brisbane:20250704T170000
DTEND;TZID=Australia/Brisbane:20250704T210000
DTSTAMP:20260424T013830
CREATED:20250526T020301Z
LAST-MODIFIED:20260409T011438Z
UID:10023803-1751648400-1751662800@gympiersl.com.au
SUMMARY:Friday Night Frenzy at Gympie RSL
DESCRIPTION:Looking for the perfect way to kick off your weekend? Join us every Friday night at the Gympie RSL for our exciting Friday Night Frenzy\, hosted at Rhythm Bar. From 5:00PM to 9:00PM\, enjoy a relaxed evening with friends while earning entries into our weekly prize draw. Simply purchase any beverage during this time to receive an entry – each drink gives you one chance to win\, so the more you enjoy\, the better your odds! \nAt 9:00PM\, one lucky member will be randomly drawn and invited to select one of five mystery cards\, each containing a fantastic prize. Prizes include Gympie RSL Club Vouchers ranging in value from $25 all the way up to $200. \nWhether you’re in it for the thrill of the prize or just want to enjoy a great night out\, Friday Night Frenzy is the place to be every week at Gympie RSL.
URL:https://gympiersl.com.au/event/friday-night-frenzy-at-gympie-rsl/2025-07-04/
LOCATION:Gympie RSL
CATEGORIES:All,Entertainment,Live Music,Promotions,Sports Bar
ATTACH;FMTTYPE=image/jpeg:https://gympiersl.com.au/wp-content/uploads/2025/05/Gympie-RSL-Friday-Night-Frenzy_Website-Event-featured-image.jpg
END:VEVENT
BEGIN:VEVENT
DTSTART;TZID=Australia/Brisbane:20250705T190000
DTEND;TZID=Australia/Brisbane:20250705T230000
DTSTAMP:20260424T013830
CREATED:20250603T230219Z
LAST-MODIFIED:20250625T011115Z
UID:10022313-1751742000-1751756400@gympiersl.com.au
SUMMARY:Live Entertainment - Dave Barrie
DESCRIPTION:Catch you on the dance floor with Dave Barrie!\nCome and enjoy some live music at Gympie RSL every Saturday night! \nFrom 7pm til late\, come on down to Live Music at the Gympie RSL and indulge in terrific cocktails and a wide range of luxury gins\, as well as splendid live music from a selection of different artists.
URL:https://gympiersl.com.au/event/live-entertainment-35/
LOCATION:Gympie RSL
CATEGORIES:All,Entertainment,Live Music,Sports Bar
ATTACH;FMTTYPE=image/jpeg:https://gympiersl.com.au/wp-content/uploads/2024/09/Event-Featured-Image-DaveBarrie.jpg
END:VEVENT
BEGIN:VEVENT
DTSTART;TZID=Australia/Brisbane:20250711T170000
DTEND;TZID=Australia/Brisbane:20250711T210000
DTSTAMP:20260424T013830
CREATED:20250526T020301Z
LAST-MODIFIED:20260409T011438Z
UID:10023804-1752253200-1752267600@gympiersl.com.au
SUMMARY:Friday Night Frenzy at Gympie RSL
DESCRIPTION:Looking for the perfect way to kick off your weekend? Join us every Friday night at the Gympie RSL for our exciting Friday Night Frenzy\, hosted at Rhythm Bar. From 5:00PM to 9:00PM\, enjoy a relaxed evening with friends while earning entries into our weekly prize draw. Simply purchase any beverage during this time to receive an entry – each drink gives you one chance to win\, so the more you enjoy\, the better your odds! \nAt 9:00PM\, one lucky member will be randomly drawn and invited to select one of five mystery cards\, each containing a fantastic prize. Prizes include Gympie RSL Club Vouchers ranging in value from $25 all the way up to $200. \nWhether you’re in it for the thrill of the prize or just want to enjoy a great night out\, Friday Night Frenzy is the place to be every week at Gympie RSL.
URL:https://gympiersl.com.au/event/friday-night-frenzy-at-gympie-rsl/2025-07-11/
LOCATION:Gympie RSL
CATEGORIES:All,Entertainment,Live Music,Promotions,Sports Bar
ATTACH;FMTTYPE=image/jpeg:https://gympiersl.com.au/wp-content/uploads/2025/05/Gympie-RSL-Friday-Night-Frenzy_Website-Event-featured-image.jpg
END:VEVENT
BEGIN:VEVENT
DTSTART;TZID=Australia/Brisbane:20250712T193000
DTEND;TZID=Australia/Brisbane:20250712T233000
DTSTAMP:20260424T013830
CREATED:20250603T230802Z
LAST-MODIFIED:20250709T014026Z
UID:10022314-1752348600-1752363000@gympiersl.com.au
SUMMARY:Live Entertainment - Beauty and the Beez
DESCRIPTION:Catch you on the dance floor with Beauty and the Beez!\nCome and enjoy some live music at Gympie RSL every Saturday night! \nFrom 7:30pm til late\, come on down to Live Music at the Gympie RSL and indulge in terrific cocktails and a wide range of luxury gins\, as well as splendid live music from a selection of different artists.
URL:https://gympiersl.com.au/event/live-entertainment-36/
LOCATION:Gympie RSL
CATEGORIES:All,Entertainment,Live Music,Sports Bar
ATTACH;FMTTYPE=image/jpeg:https://gympiersl.com.au/wp-content/uploads/2024/04/Gympie-RSL_Web-Featured_Weekly-Entertainment.jpg
END:VEVENT
BEGIN:VEVENT
DTSTART;TZID=Australia/Brisbane:20250718T170000
DTEND;TZID=Australia/Brisbane:20250718T210000
DTSTAMP:20260424T013830
CREATED:20250526T020301Z
LAST-MODIFIED:20260409T011438Z
UID:10023805-1752858000-1752872400@gympiersl.com.au
SUMMARY:Friday Night Frenzy at Gympie RSL
DESCRIPTION:Looking for the perfect way to kick off your weekend? Join us every Friday night at the Gympie RSL for our exciting Friday Night Frenzy\, hosted at Rhythm Bar. From 5:00PM to 9:00PM\, enjoy a relaxed evening with friends while earning entries into our weekly prize draw. Simply purchase any beverage during this time to receive an entry – each drink gives you one chance to win\, so the more you enjoy\, the better your odds! \nAt 9:00PM\, one lucky member will be randomly drawn and invited to select one of five mystery cards\, each containing a fantastic prize. Prizes include Gympie RSL Club Vouchers ranging in value from $25 all the way up to $200. \nWhether you’re in it for the thrill of the prize or just want to enjoy a great night out\, Friday Night Frenzy is the place to be every week at Gympie RSL.
URL:https://gympiersl.com.au/event/friday-night-frenzy-at-gympie-rsl/2025-07-18/
LOCATION:Gympie RSL
CATEGORIES:All,Entertainment,Live Music,Promotions,Sports Bar
ATTACH;FMTTYPE=image/jpeg:https://gympiersl.com.au/wp-content/uploads/2025/05/Gympie-RSL-Friday-Night-Frenzy_Website-Event-featured-image.jpg
END:VEVENT
BEGIN:VEVENT
DTSTART;TZID=Australia/Brisbane:20250719T190000
DTEND;TZID=Australia/Brisbane:20250719T230000
DTSTAMP:20260424T013830
CREATED:20250603T231213Z
LAST-MODIFIED:20250709T023718Z
UID:10022315-1752951600-1752966000@gympiersl.com.au
SUMMARY:Live Entertainment - Nick Rivers
DESCRIPTION:Catch you on the dance floor with Nick Rivers!\nCome and enjoy some live music at Gympie RSL every Saturday night! \nFrom 7pm til late\, come on down to Live Music at the Gympie RSL and indulge in terrific cocktails and a wide range of luxury gins\, as well as splendid live music from a selection of different artists.
URL:https://gympiersl.com.au/event/live-entertainment-37/
LOCATION:Gympie RSL
CATEGORIES:All,Entertainment,Live Music,Sports Bar
ATTACH;FMTTYPE=image/jpeg:https://gympiersl.com.au/wp-content/uploads/2024/04/Gympie-RSL_Web-Featured_Weekly-Entertainment.jpg
END:VEVENT
BEGIN:VEVENT
DTSTART;TZID=Australia/Brisbane:20250725T170000
DTEND;TZID=Australia/Brisbane:20250725T210000
DTSTAMP:20260424T013830
CREATED:20250526T020301Z
LAST-MODIFIED:20260409T011438Z
UID:10023806-1753462800-1753477200@gympiersl.com.au
SUMMARY:Friday Night Frenzy at Gympie RSL
DESCRIPTION:Looking for the perfect way to kick off your weekend? Join us every Friday night at the Gympie RSL for our exciting Friday Night Frenzy\, hosted at Rhythm Bar. From 5:00PM to 9:00PM\, enjoy a relaxed evening with friends while earning entries into our weekly prize draw. Simply purchase any beverage during this time to receive an entry – each drink gives you one chance to win\, so the more you enjoy\, the better your odds! \nAt 9:00PM\, one lucky member will be randomly drawn and invited to select one of five mystery cards\, each containing a fantastic prize. Prizes include Gympie RSL Club Vouchers ranging in value from $25 all the way up to $200. \nWhether you’re in it for the thrill of the prize or just want to enjoy a great night out\, Friday Night Frenzy is the place to be every week at Gympie RSL.
URL:https://gympiersl.com.au/event/friday-night-frenzy-at-gympie-rsl/2025-07-25/
LOCATION:Gympie RSL
CATEGORIES:All,Entertainment,Live Music,Promotions,Sports Bar
ATTACH;FMTTYPE=image/jpeg:https://gympiersl.com.au/wp-content/uploads/2025/05/Gympie-RSL-Friday-Night-Frenzy_Website-Event-featured-image.jpg
END:VEVENT
BEGIN:VEVENT
DTSTART;TZID=Australia/Brisbane:20250726T190000
DTEND;TZID=Australia/Brisbane:20250726T230000
DTSTAMP:20260424T013830
CREATED:20250603T231417Z
LAST-MODIFIED:20250709T024309Z
UID:10022316-1753556400-1753570800@gympiersl.com.au
SUMMARY:Live Entertainment - The Lowdown
DESCRIPTION:Catch you on the dance floor with The Lowdown!\nCome and enjoy some live music at Gympie RSL every Saturday night! \nFrom 7pm til late\, come on down to Live Music at the Gympie RSL and indulge in terrific cocktails and a wide range of luxury gins\, as well as splendid live music from a selection of different artists.
URL:https://gympiersl.com.au/event/live-entertainment-38/
LOCATION:Gympie RSL
CATEGORIES:All,Entertainment,Live Music,Sports Bar
ATTACH;FMTTYPE=image/jpeg:https://gympiersl.com.au/wp-content/uploads/2024/04/Gympie-RSL_Web-Featured_Weekly-Entertainment.jpg
END:VEVENT
END:VCALENDAR