BEGIN:VCALENDAR
VERSION:2.0
PRODID:-//Gympie RSL - ECPv6.15.20//NONSGML v1.0//EN
CALSCALE:GREGORIAN
METHOD:PUBLISH
X-WR-CALNAME:Gympie RSL
X-ORIGINAL-URL:https://gympiersl.com.au
X-WR-CALDESC:Events for Gympie RSL
REFRESH-INTERVAL;VALUE=DURATION:PT1H
X-Robots-Tag:noindex
X-PUBLISHED-TTL:PT1H
BEGIN:VTIMEZONE
TZID:Australia/Brisbane
BEGIN:STANDARD
TZOFFSETFROM:+1000
TZOFFSETTO:+1000
TZNAME:AEST
DTSTART:20240101T000000
END:STANDARD
END:VTIMEZONE
BEGIN:VEVENT
DTSTART;TZID=Australia/Brisbane:20251101T190000
DTEND;TZID=Australia/Brisbane:20251101T230000
DTSTAMP:20260421T201624
CREATED:20250915T225015Z
LAST-MODIFIED:20250915T225124Z
UID:10027227-1762023600-1762038000@gympiersl.com.au
SUMMARY:Saturday Live Entertainment - Theunis Pretorius
DESCRIPTION:Catch you on the dance floor with Theunis Pretorius!\nCome and enjoy some live music at Gympie RSL this Saturday night! \nFrom 7pm til late\, come on down to Live Music at the Gympie RSL and indulge in terrific cocktails and a wide range of luxury gins\, as well as splendid live music from a selection of different artists.
URL:https://gympiersl.com.au/event/saturday-live-entertainment-5/
LOCATION:Gympie RSL
CATEGORIES:All,Entertainment,Live Music
ATTACH;FMTTYPE=image/jpeg:https://gympiersl.com.au/wp-content/uploads/2024/04/Gympie-RSL_Web-Featured_Weekly-Entertainment.jpg
END:VEVENT
BEGIN:VEVENT
DTSTART;TZID=Australia/Brisbane:20251104T110000
DTEND;TZID=Australia/Brisbane:20251104T150000
DTSTAMP:20260421T201624
CREATED:20251007T060518Z
LAST-MODIFIED:20251126T043838Z
UID:10027483-1762254000-1762268400@gympiersl.com.au
SUMMARY:Melbourne Cup Luncheon 2025
DESCRIPTION:Welcome to the Melbourne Cup Luncheon! Get ready for a day filled with fun\, food\, and fabulous fashion. Join us on Tuesday 4th November from 11:00 AM as we celebrate the race that stops the nation. \nIndulge in a delicious meal\, sip on refreshing drinks\, and enjoy the excitement of watching the Melbourne Cup race live. Dress to impress and take part in our best-dressed competition for a chance to win fantastic prizes. \nCome together with friends\, colleagues\, and fellow racing enthusiasts to experience the thrill of the Melbourne Cup in style. Don’t miss out on this unforgettable event!
URL:https://gympiersl.com.au/event/melbourne-cup-luncheon-2025/
LOCATION:Gympie RSL
CATEGORIES:All,Entertainment,Meal Specials,Special Events
ATTACH;FMTTYPE=image/jpeg:https://gympiersl.com.au/wp-content/uploads/2025/10/Gympie-RSL-Melbourne-Cup-Luncheon-2025_Website-Event-featured-image.jpg
END:VEVENT
BEGIN:VEVENT
DTSTART;TZID=Australia/Brisbane:20251107T170000
DTEND;TZID=Australia/Brisbane:20251107T210000
DTSTAMP:20260421T201624
CREATED:20250526T020301Z
LAST-MODIFIED:20260409T011438Z
UID:10023821-1762534800-1762549200@gympiersl.com.au
SUMMARY:Friday Night Frenzy at Gympie RSL
DESCRIPTION:Looking for the perfect way to kick off your weekend? Join us every Friday night at the Gympie RSL for our exciting Friday Night Frenzy\, hosted at Rhythm Bar. From 5:00PM to 9:00PM\, enjoy a relaxed evening with friends while earning entries into our weekly prize draw. Simply purchase any beverage during this time to receive an entry – each drink gives you one chance to win\, so the more you enjoy\, the better your odds! \nAt 9:00PM\, one lucky member will be randomly drawn and invited to select one of five mystery cards\, each containing a fantastic prize. Prizes include Gympie RSL Club Vouchers ranging in value from $25 all the way up to $200. \nWhether you’re in it for the thrill of the prize or just want to enjoy a great night out\, Friday Night Frenzy is the place to be every week at Gympie RSL.
URL:https://gympiersl.com.au/event/friday-night-frenzy-at-gympie-rsl/2025-11-07/
LOCATION:Gympie RSL
CATEGORIES:All,Entertainment,Live Music,Promotions,Sports Bar
ATTACH;FMTTYPE=image/jpeg:https://gympiersl.com.au/wp-content/uploads/2025/05/Gympie-RSL-Friday-Night-Frenzy_Website-Event-featured-image.jpg
END:VEVENT
BEGIN:VEVENT
DTSTART;TZID=Australia/Brisbane:20251107T190000
DTEND;TZID=Australia/Brisbane:20251107T230000
DTSTAMP:20260421T201624
CREATED:20250915T041138Z
LAST-MODIFIED:20250915T041452Z
UID:10026522-1762542000-1762556400@gympiersl.com.au
SUMMARY:Live Entertainment - Seleen McAlister
DESCRIPTION:Catch you on the dance floor with Seleen McAlister!\nCome and enjoy some live music at Gympie RSL this Friday night! \nFrom 7pm til late\, come on down to Live Music at the Gympie RSL and indulge in terrific cocktails and a wide range of luxury gins\, as well as splendid live music from a selection of different artists.
URL:https://gympiersl.com.au/event/live-entertainment-56/
LOCATION:Gympie RSL
CATEGORIES:All,Entertainment,Live Music,Sports Bar
ATTACH;FMTTYPE=image/png:https://gympiersl.com.au/wp-content/uploads/2025/08/Untitled-design-16.png
END:VEVENT
BEGIN:VEVENT
DTSTART;TZID=Australia/Brisbane:20251108T190000
DTEND;TZID=Australia/Brisbane:20251108T230000
DTSTAMP:20260421T201624
CREATED:20250915T225132Z
LAST-MODIFIED:20250915T230859Z
UID:10027228-1762628400-1762642800@gympiersl.com.au
SUMMARY:Saturday Live Entertainment - Dave Barrie
DESCRIPTION:Catch you on the dance floor with Dave Barrie!\nCome and enjoy some live music at Gympie RSL this Saturday night! \nFrom 7pm til late\, come on down to Live Music at the Gympie RSL and indulge in terrific cocktails and a wide range of luxury gins\, as well as splendid live music from a selection of different artists.
URL:https://gympiersl.com.au/event/saturday-live-entertainment-6/
LOCATION:Gympie RSL
CATEGORIES:All,Entertainment,Live Music
ATTACH;FMTTYPE=image/jpeg:https://gympiersl.com.au/wp-content/uploads/2024/04/Gympie-RSL_Web-Featured_Weekly-Entertainment.jpg
END:VEVENT
BEGIN:VEVENT
DTSTART;TZID=Australia/Brisbane:20251114T170000
DTEND;TZID=Australia/Brisbane:20251114T210000
DTSTAMP:20260421T201624
CREATED:20250526T020301Z
LAST-MODIFIED:20260409T011438Z
UID:10023822-1763139600-1763154000@gympiersl.com.au
SUMMARY:Friday Night Frenzy at Gympie RSL
DESCRIPTION:Looking for the perfect way to kick off your weekend? Join us every Friday night at the Gympie RSL for our exciting Friday Night Frenzy\, hosted at Rhythm Bar. From 5:00PM to 9:00PM\, enjoy a relaxed evening with friends while earning entries into our weekly prize draw. Simply purchase any beverage during this time to receive an entry – each drink gives you one chance to win\, so the more you enjoy\, the better your odds! \nAt 9:00PM\, one lucky member will be randomly drawn and invited to select one of five mystery cards\, each containing a fantastic prize. Prizes include Gympie RSL Club Vouchers ranging in value from $25 all the way up to $200. \nWhether you’re in it for the thrill of the prize or just want to enjoy a great night out\, Friday Night Frenzy is the place to be every week at Gympie RSL.
URL:https://gympiersl.com.au/event/friday-night-frenzy-at-gympie-rsl/2025-11-14/
LOCATION:Gympie RSL
CATEGORIES:All,Entertainment,Live Music,Promotions,Sports Bar
ATTACH;FMTTYPE=image/jpeg:https://gympiersl.com.au/wp-content/uploads/2025/05/Gympie-RSL-Friday-Night-Frenzy_Website-Event-featured-image.jpg
END:VEVENT
BEGIN:VEVENT
DTSTART;TZID=Australia/Brisbane:20251114T190000
DTEND;TZID=Australia/Brisbane:20251114T230000
DTSTAMP:20260421T201624
CREATED:20250915T041519Z
LAST-MODIFIED:20250915T042309Z
UID:10026523-1763146800-1763161200@gympiersl.com.au
SUMMARY:Buzz Karaoke
DESCRIPTION:Catch you on the dance floor\, we have Buzz Karaoke at Gympie RSL!\nCome and enjoy some live karaoke at Gympie RSL this Friday night! \nFrom 7pm til late\, come on down to Live Music at the Gympie RSL and indulge in terrific cocktails and a wide range of luxury gins\, as well as splendid live music from a selection of different artists.
URL:https://gympiersl.com.au/event/live-entertainment-57/
LOCATION:Gympie RSL
CATEGORIES:All,Entertainment,Live Music,Sports Bar
ATTACH;FMTTYPE=image/jpeg:https://gympiersl.com.au/wp-content/uploads/2024/04/Gympie-RSL_Web-Featured_Weekly-Entertainment.jpg
END:VEVENT
BEGIN:VEVENT
DTSTART;TZID=Australia/Brisbane:20251115T190000
DTEND;TZID=Australia/Brisbane:20251115T230000
DTSTAMP:20260421T201624
CREATED:20250915T231044Z
LAST-MODIFIED:20250915T231159Z
UID:10027229-1763233200-1763247600@gympiersl.com.au
SUMMARY:Saturday Live Entertainment - Jordy and Jack
DESCRIPTION:Catch you on the dance floor with Jordy and Jack!\nCome and enjoy some live music at Gympie RSL this Saturday night! \nFrom 7pm til late\, come on down to Live Music at the Gympie RSL and indulge in terrific cocktails and a wide range of luxury gins\, as well as splendid live music from a selection of different artists.
URL:https://gympiersl.com.au/event/saturday-live-entertainment-7/
LOCATION:Gympie RSL
CATEGORIES:All,Entertainment,Live Music
ATTACH;FMTTYPE=image/jpeg:https://gympiersl.com.au/wp-content/uploads/2024/04/Gympie-RSL_Web-Featured_Weekly-Entertainment.jpg
END:VEVENT
BEGIN:VEVENT
DTSTART;TZID=Australia/Brisbane:20251120T100000
DTEND;TZID=Australia/Brisbane:20251120T130000
DTSTAMP:20260421T201624
CREATED:20250915T052407Z
LAST-MODIFIED:20250915T052512Z
UID:10012806-1763632800-1763643600@gympiersl.com.au
SUMMARY:Morning Melodies - Derek Smith
DESCRIPTION:Join us as we listen to the talented Derek Smith performing live on the 20th November! \nMorning Melodies brings great tunes as well as a a two-course lunch including main and dessert! \nEntry is just $15\, which includes $5 worth of raffle tickets. Book at Reception.
URL:https://gympiersl.com.au/event/morning-melodies-12/
LOCATION:Gympie RSL
CATEGORIES:All,Entertainment,Morning Melodies
ATTACH;FMTTYPE=image/jpeg:https://gympiersl.com.au/wp-content/uploads/2024/04/Gympie-RSL_Web-Featured_Morning-Melodies.jpg
END:VEVENT
BEGIN:VEVENT
DTSTART;TZID=Australia/Brisbane:20251121T170000
DTEND;TZID=Australia/Brisbane:20251121T210000
DTSTAMP:20260421T201624
CREATED:20250526T020301Z
LAST-MODIFIED:20260409T011438Z
UID:10023823-1763744400-1763758800@gympiersl.com.au
SUMMARY:Friday Night Frenzy at Gympie RSL
DESCRIPTION:Looking for the perfect way to kick off your weekend? Join us every Friday night at the Gympie RSL for our exciting Friday Night Frenzy\, hosted at Rhythm Bar. From 5:00PM to 9:00PM\, enjoy a relaxed evening with friends while earning entries into our weekly prize draw. Simply purchase any beverage during this time to receive an entry – each drink gives you one chance to win\, so the more you enjoy\, the better your odds! \nAt 9:00PM\, one lucky member will be randomly drawn and invited to select one of five mystery cards\, each containing a fantastic prize. Prizes include Gympie RSL Club Vouchers ranging in value from $25 all the way up to $200. \nWhether you’re in it for the thrill of the prize or just want to enjoy a great night out\, Friday Night Frenzy is the place to be every week at Gympie RSL.
URL:https://gympiersl.com.au/event/friday-night-frenzy-at-gympie-rsl/2025-11-21/
LOCATION:Gympie RSL
CATEGORIES:All,Entertainment,Live Music,Promotions,Sports Bar
ATTACH;FMTTYPE=image/jpeg:https://gympiersl.com.au/wp-content/uploads/2025/05/Gympie-RSL-Friday-Night-Frenzy_Website-Event-featured-image.jpg
END:VEVENT
BEGIN:VEVENT
DTSTART;TZID=Australia/Brisbane:20251121T190000
DTEND;TZID=Australia/Brisbane:20251121T230000
DTSTAMP:20260421T201624
CREATED:20250915T042324Z
LAST-MODIFIED:20250915T042905Z
UID:10026524-1763751600-1763766000@gympiersl.com.au
SUMMARY:Live Entertainment - Beauty and the Beez
DESCRIPTION:Catch you on the dance floor with Beauty and the Beez!\nCome and enjoy some live music at Gympie RSL this Friday night! \nFrom 7pm til late\, come on down to Live Music at the Gympie RSL and indulge in terrific cocktails and a wide range of luxury gins\, as well as splendid live music from a selection of different artists.
URL:https://gympiersl.com.au/event/live-entertainment-58/
LOCATION:Gympie RSL
CATEGORIES:All,Entertainment,Live Music,Sports Bar
ATTACH;FMTTYPE=image/jpeg:https://gympiersl.com.au/wp-content/uploads/2024/04/Gympie-RSL_Web-Featured_Weekly-Entertainment.jpg
END:VEVENT
BEGIN:VEVENT
DTSTART;TZID=Australia/Brisbane:20251122T190000
DTEND;TZID=Australia/Brisbane:20251122T230000
DTSTAMP:20260421T201624
CREATED:20250915T231215Z
LAST-MODIFIED:20250915T231508Z
UID:10027230-1763838000-1763852400@gympiersl.com.au
SUMMARY:Saturday Live Entertainment - The Lowdown Races AfterParty
DESCRIPTION:Catch you on the dance floor at our Races After Party with The Lowdown!\nCome and enjoy some live music at Gympie RSL this Saturday night! \nFrom 7pm til late\, come on down to Live Music at the Gympie RSL and indulge in terrific cocktails and a wide range of luxury gins\, as well as splendid live music from a selection of different artists.
URL:https://gympiersl.com.au/event/saturday-live-entertainment-8/
LOCATION:Gympie RSL
CATEGORIES:All,Entertainment,Live Music
ATTACH;FMTTYPE=image/jpeg:https://gympiersl.com.au/wp-content/uploads/2024/04/Gympie-RSL_Web-Featured_Weekly-Entertainment.jpg
END:VEVENT
BEGIN:VEVENT
DTSTART;TZID=Australia/Brisbane:20251128T170000
DTEND;TZID=Australia/Brisbane:20251128T210000
DTSTAMP:20260421T201624
CREATED:20250526T020301Z
LAST-MODIFIED:20260409T011438Z
UID:10023824-1764349200-1764363600@gympiersl.com.au
SUMMARY:Friday Night Frenzy at Gympie RSL
DESCRIPTION:Looking for the perfect way to kick off your weekend? Join us every Friday night at the Gympie RSL for our exciting Friday Night Frenzy\, hosted at Rhythm Bar. From 5:00PM to 9:00PM\, enjoy a relaxed evening with friends while earning entries into our weekly prize draw. Simply purchase any beverage during this time to receive an entry – each drink gives you one chance to win\, so the more you enjoy\, the better your odds! \nAt 9:00PM\, one lucky member will be randomly drawn and invited to select one of five mystery cards\, each containing a fantastic prize. Prizes include Gympie RSL Club Vouchers ranging in value from $25 all the way up to $200. \nWhether you’re in it for the thrill of the prize or just want to enjoy a great night out\, Friday Night Frenzy is the place to be every week at Gympie RSL.
URL:https://gympiersl.com.au/event/friday-night-frenzy-at-gympie-rsl/2025-11-28/
LOCATION:Gympie RSL
CATEGORIES:All,Entertainment,Live Music,Promotions,Sports Bar
ATTACH;FMTTYPE=image/jpeg:https://gympiersl.com.au/wp-content/uploads/2025/05/Gympie-RSL-Friday-Night-Frenzy_Website-Event-featured-image.jpg
END:VEVENT
BEGIN:VEVENT
DTSTART;TZID=Australia/Brisbane:20251128T190000
DTEND;TZID=Australia/Brisbane:20251128T230000
DTSTAMP:20260421T201624
CREATED:20250915T042931Z
LAST-MODIFIED:20250915T043233Z
UID:10026525-1764356400-1764370800@gympiersl.com.au
SUMMARY:Live Entertainment - Nick Rivers
DESCRIPTION:Catch you on the dance floor with Nick Rivers!\nCome and enjoy some live music at Gympie RSL this Friday night! \nFrom 7pm til late\, come on down to Live Music at the Gympie RSL and indulge in terrific cocktails and a wide range of luxury gins\, as well as splendid live music from a selection of different artists.
URL:https://gympiersl.com.au/event/live-entertainment-59/
LOCATION:Gympie RSL
CATEGORIES:All,Entertainment,Live Music,Sports Bar
ATTACH;FMTTYPE=image/jpeg:https://gympiersl.com.au/wp-content/uploads/2024/04/Gympie-RSL_Web-Featured_Weekly-Entertainment.jpg
END:VEVENT
BEGIN:VEVENT
DTSTART;TZID=Australia/Brisbane:20251129T190000
DTEND;TZID=Australia/Brisbane:20251129T230000
DTSTAMP:20260421T201624
CREATED:20250915T231548Z
LAST-MODIFIED:20250915T231759Z
UID:10027231-1764442800-1764457200@gympiersl.com.au
SUMMARY:Saturday Live Entertainment - Simon Meola
DESCRIPTION:Catch you on the dance floor with Simon Meola!\nCome and enjoy some live music at Gympie RSL this Saturday night! \nFrom 7pm til late\, come on down to Live Music at the Gympie RSL and indulge in terrific cocktails and a wide range of luxury gins\, as well as splendid live music from a selection of different artists.
URL:https://gympiersl.com.au/event/saturday-live-entertainment-9/
LOCATION:Gympie RSL
CATEGORIES:All,Entertainment,Live Music
ATTACH;FMTTYPE=image/jpeg:https://gympiersl.com.au/wp-content/uploads/2024/04/Gympie-RSL_Web-Featured_Weekly-Entertainment.jpg
END:VEVENT
END:VCALENDAR