BEGIN:VCALENDAR
VERSION:2.0
PRODID:-//Gympie RSL - ECPv6.15.20//NONSGML v1.0//EN
CALSCALE:GREGORIAN
METHOD:PUBLISH
X-ORIGINAL-URL:https://gympiersl.com.au
X-WR-CALDESC:Events for Gympie RSL
REFRESH-INTERVAL;VALUE=DURATION:PT1H
X-Robots-Tag:noindex
X-PUBLISHED-TTL:PT1H
BEGIN:VTIMEZONE
TZID:Australia/Brisbane
BEGIN:STANDARD
TZOFFSETFROM:+1000
TZOFFSETTO:+1000
TZNAME:AEST
DTSTART:20240101T000000
END:STANDARD
END:VTIMEZONE
BEGIN:VEVENT
DTSTART;TZID=Australia/Brisbane:20251002T093000
DTEND;TZID=Australia/Brisbane:20251002T110000
DTSTAMP:20260422T184131
CREATED:20250825T231433Z
LAST-MODIFIED:20250903T235103Z
UID:10026776-1759397400-1759402800@gympiersl.com.au
SUMMARY:Kids Spring Bingo
DESCRIPTION:Join us at Gympie RSL for a fun-filled morning of Kids Bingo these school holidays! \n📅 Thursday 2nd October🕤 Doors Open: 9:30am | 🎲 Eyes Down: 10:00am \nBring the kids along for a morning of laughter\, excitement\, and prizes. Perfect for children of all ages\, with a special bonus — kids under 3 play free! \n💲 $10 per child (under 3 free)📍 Gympie RSL🍹 Non-alcoholic event \nTickets are limited\, so be sure to secure yours early.👉 Click here to book online or at reception. \nAll children must be accompanied by a parent or legal guardian at all times.
URL:https://gympiersl.com.au/event/kids-spring-bingo/
LOCATION:Gympie RSL
CATEGORIES:All,Bingo,Entertainment,Promotions,Weekly Activities
ATTACH;FMTTYPE=image/jpeg:https://gympiersl.com.au/wp-content/uploads/2025/08/Gympie-RSL-Kids-Bingo-Spring-2025_Website-Event-Featured-Image.jpg
END:VEVENT
BEGIN:VEVENT
DTSTART;TZID=Australia/Brisbane:20251003T170000
DTEND;TZID=Australia/Brisbane:20251003T210000
DTSTAMP:20260422T184131
CREATED:20250526T020301Z
LAST-MODIFIED:20260409T011438Z
UID:10023816-1759510800-1759525200@gympiersl.com.au
SUMMARY:Friday Night Frenzy at Gympie RSL
DESCRIPTION:Looking for the perfect way to kick off your weekend? Join us every Friday night at the Gympie RSL for our exciting Friday Night Frenzy\, hosted at Rhythm Bar. From 5:00PM to 9:00PM\, enjoy a relaxed evening with friends while earning entries into our weekly prize draw. Simply purchase any beverage during this time to receive an entry – each drink gives you one chance to win\, so the more you enjoy\, the better your odds! \nAt 9:00PM\, one lucky member will be randomly drawn and invited to select one of five mystery cards\, each containing a fantastic prize. Prizes include Gympie RSL Club Vouchers ranging in value from $25 all the way up to $200. \nWhether you’re in it for the thrill of the prize or just want to enjoy a great night out\, Friday Night Frenzy is the place to be every week at Gympie RSL.
URL:https://gympiersl.com.au/event/friday-night-frenzy-at-gympie-rsl/2025-10-03/
LOCATION:Gympie RSL
CATEGORIES:All,Entertainment,Live Music,Promotions,Sports Bar
ATTACH;FMTTYPE=image/jpeg:https://gympiersl.com.au/wp-content/uploads/2025/05/Gympie-RSL-Friday-Night-Frenzy_Website-Event-featured-image.jpg
END:VEVENT
BEGIN:VEVENT
DTSTART;TZID=Australia/Brisbane:20251003T190000
DTEND;TZID=Australia/Brisbane:20251003T230000
DTSTAMP:20260422T184131
CREATED:20250915T021419Z
LAST-MODIFIED:20250915T033939Z
UID:10026517-1759518000-1759532400@gympiersl.com.au
SUMMARY:Live Entertainment - Seleen McAlister
DESCRIPTION:Catch you on the dance floor with Seleen McAlister!\nCome and enjoy some live music at Gympie RSL this Friday night! \nFrom 7pm til late\, come on down to Live Music at the Gympie RSL and indulge in terrific cocktails and a wide range of luxury gins\, as well as splendid live music from a selection of different artists.
URL:https://gympiersl.com.au/event/live-entertainment-51/
LOCATION:Gympie RSL
CATEGORIES:All,Entertainment,Live Music,Sports Bar
ATTACH;FMTTYPE=image/png:https://gympiersl.com.au/wp-content/uploads/2025/08/Untitled-design-16.png
END:VEVENT
BEGIN:VEVENT
DTSTART;TZID=Australia/Brisbane:20251004T190000
DTEND;TZID=Australia/Brisbane:20251004T230000
DTSTAMP:20260422T184131
CREATED:20250915T223932Z
LAST-MODIFIED:20250915T224132Z
UID:10027223-1759604400-1759618800@gympiersl.com.au
SUMMARY:Saturday Live Entertainment - Jaida Champney
DESCRIPTION:Catch you on the dance floor with Jaida Champney!\nCome and enjoy some live music at Gympie RSL this Saturday night! \nFrom 7pm til late\, come on down to Live Music at the Gympie RSL and indulge in terrific cocktails and a wide range of luxury gins\, as well as splendid live music from a selection of different artists.
URL:https://gympiersl.com.au/event/saturday-live-entertainment/
LOCATION:Gympie RSL
CATEGORIES:All,Entertainment,Live Music
ATTACH;FMTTYPE=image/jpeg:https://gympiersl.com.au/wp-content/uploads/2024/09/Event-Featured-Image-JaidaChampney.jpg
END:VEVENT
BEGIN:VEVENT
DTSTART;TZID=Australia/Brisbane:20251010T170000
DTEND;TZID=Australia/Brisbane:20251010T210000
DTSTAMP:20260422T184131
CREATED:20250526T020301Z
LAST-MODIFIED:20260409T011438Z
UID:10023817-1760115600-1760130000@gympiersl.com.au
SUMMARY:Friday Night Frenzy at Gympie RSL
DESCRIPTION:Looking for the perfect way to kick off your weekend? Join us every Friday night at the Gympie RSL for our exciting Friday Night Frenzy\, hosted at Rhythm Bar. From 5:00PM to 9:00PM\, enjoy a relaxed evening with friends while earning entries into our weekly prize draw. Simply purchase any beverage during this time to receive an entry – each drink gives you one chance to win\, so the more you enjoy\, the better your odds! \nAt 9:00PM\, one lucky member will be randomly drawn and invited to select one of five mystery cards\, each containing a fantastic prize. Prizes include Gympie RSL Club Vouchers ranging in value from $25 all the way up to $200. \nWhether you’re in it for the thrill of the prize or just want to enjoy a great night out\, Friday Night Frenzy is the place to be every week at Gympie RSL.
URL:https://gympiersl.com.au/event/friday-night-frenzy-at-gympie-rsl/2025-10-10/
LOCATION:Gympie RSL
CATEGORIES:All,Entertainment,Live Music,Promotions,Sports Bar
ATTACH;FMTTYPE=image/jpeg:https://gympiersl.com.au/wp-content/uploads/2025/05/Gympie-RSL-Friday-Night-Frenzy_Website-Event-featured-image.jpg
END:VEVENT
BEGIN:VEVENT
DTSTART;TZID=Australia/Brisbane:20251010T190000
DTEND;TZID=Australia/Brisbane:20251010T230000
DTSTAMP:20260422T184131
CREATED:20250915T030524Z
LAST-MODIFIED:20250915T034139Z
UID:10026518-1760122800-1760137200@gympiersl.com.au
SUMMARY:Buzz Karaoke
DESCRIPTION:Catch you on the dance floor cause we have Buzz Karaoke!\nCome and enjoy some Buzz Karaoke at Gympie RSL this Friday night! \nFrom 7pm til late\, come on down to Live Music at the Gympie RSL and indulge in terrific cocktails and a wide range of luxury gins\, as well as splendid live music from a selection of different artists.
URL:https://gympiersl.com.au/event/live-entertainment-52/
LOCATION:Gympie RSL
CATEGORIES:All,Entertainment,Live Music,Sports Bar
ATTACH;FMTTYPE=image/jpeg:https://gympiersl.com.au/wp-content/uploads/2024/04/Gympie-RSL_Web-Featured_Weekly-Entertainment.jpg
END:VEVENT
BEGIN:VEVENT
DTSTART;TZID=Australia/Brisbane:20251011T190000
DTEND;TZID=Australia/Brisbane:20251011T230000
DTSTAMP:20260422T184131
CREATED:20250915T224242Z
LAST-MODIFIED:20250915T224542Z
UID:10027224-1760209200-1760223600@gympiersl.com.au
SUMMARY:Saturday Live Entertainment - Nick Rivers
DESCRIPTION:Catch you on the dance floor with Nick Rivers!\nCome and enjoy some live music at Gympie RSL this Saturday night! \nFrom 7pm til late\, come on down to Live Music at the Gympie RSL and indulge in terrific cocktails and a wide range of luxury gins\, as well as splendid live music from a selection of different artists.
URL:https://gympiersl.com.au/event/saturday-live-entertainment-2/
LOCATION:Gympie RSL
CATEGORIES:All,Entertainment,Live Music
ATTACH;FMTTYPE=image/jpeg:https://gympiersl.com.au/wp-content/uploads/2024/04/Gympie-RSL_Web-Featured_Weekly-Entertainment.jpg
END:VEVENT
BEGIN:VEVENT
DTSTART;TZID=Australia/Brisbane:20251016T100000
DTEND;TZID=Australia/Brisbane:20251016T130000
DTSTAMP:20260422T184131
CREATED:20250915T051952Z
LAST-MODIFIED:20250915T052400Z
UID:10012805-1760608800-1760619600@gympiersl.com.au
SUMMARY:Morning Melodies - Dave Barrie
DESCRIPTION:Join us as we listen to the talented Dave Barrie performing live on the 16th October! \nMorning Melodies brings great tunes as well as a a two-course lunch including main and dessert! \nEntry is just $15\, which includes $5 worth of raffle tickets. Book at Reception.
URL:https://gympiersl.com.au/event/morning-melodies-11/
LOCATION:Gympie RSL
CATEGORIES:All,Entertainment,Morning Melodies
ATTACH;FMTTYPE=image/jpeg:https://gympiersl.com.au/wp-content/uploads/2024/09/Event-Featured-Image-DaveBarrie.jpg
END:VEVENT
BEGIN:VEVENT
DTSTART;TZID=Australia/Brisbane:20251017T170000
DTEND;TZID=Australia/Brisbane:20251017T210000
DTSTAMP:20260422T184131
CREATED:20250526T020301Z
LAST-MODIFIED:20260409T011438Z
UID:10023818-1760720400-1760734800@gympiersl.com.au
SUMMARY:Friday Night Frenzy at Gympie RSL
DESCRIPTION:Looking for the perfect way to kick off your weekend? Join us every Friday night at the Gympie RSL for our exciting Friday Night Frenzy\, hosted at Rhythm Bar. From 5:00PM to 9:00PM\, enjoy a relaxed evening with friends while earning entries into our weekly prize draw. Simply purchase any beverage during this time to receive an entry – each drink gives you one chance to win\, so the more you enjoy\, the better your odds! \nAt 9:00PM\, one lucky member will be randomly drawn and invited to select one of five mystery cards\, each containing a fantastic prize. Prizes include Gympie RSL Club Vouchers ranging in value from $25 all the way up to $200. \nWhether you’re in it for the thrill of the prize or just want to enjoy a great night out\, Friday Night Frenzy is the place to be every week at Gympie RSL.
URL:https://gympiersl.com.au/event/friday-night-frenzy-at-gympie-rsl/2025-10-17/
LOCATION:Gympie RSL
CATEGORIES:All,Entertainment,Live Music,Promotions,Sports Bar
ATTACH;FMTTYPE=image/jpeg:https://gympiersl.com.au/wp-content/uploads/2025/05/Gympie-RSL-Friday-Night-Frenzy_Website-Event-featured-image.jpg
END:VEVENT
BEGIN:VEVENT
DTSTART;TZID=Australia/Brisbane:20251017T190000
DTEND;TZID=Australia/Brisbane:20251017T230000
DTSTAMP:20260422T184131
CREATED:20250915T034149Z
LAST-MODIFIED:20250915T035717Z
UID:10026519-1760727600-1760742000@gympiersl.com.au
SUMMARY:Live Entertainment - Georgia Rose
DESCRIPTION:Catch you on the dance floor with Georgia Rose!\nCome and enjoy some live music at Gympie RSL this Friday night! \nFrom 7pm til late\, come on down to Live Music at the Gympie RSL and indulge in terrific cocktails and a wide range of luxury gins\, as well as splendid live music from a selection of different artists.
URL:https://gympiersl.com.au/event/live-entertainment-53/
LOCATION:Gympie RSL
CATEGORIES:All,Entertainment,Live Music,Sports Bar
ATTACH;FMTTYPE=image/jpeg:https://gympiersl.com.au/wp-content/uploads/2024/04/Gympie-RSL_Web-Featured_Weekly-Entertainment.jpg
END:VEVENT
BEGIN:VEVENT
DTSTART;TZID=Australia/Brisbane:20251018T120000
DTEND;TZID=Australia/Brisbane:20251018T143000
DTSTAMP:20260422T184131
CREATED:20251008T015900Z
LAST-MODIFIED:20251008T020206Z
UID:10027484-1760788800-1760797800@gympiersl.com.au
SUMMARY:Peacekeepers & Peacemakers Lunch
DESCRIPTION:Peacekeepers & Peacemakers Veterans and Partners Lunch📅 Saturday 18 October 2025 | 🕐 12:15pm – 2:45pm📍 Atrium Bistro\, Gympie RSL \nAustralian and international veterans who have served on peacekeeping or peacemaking missions\, border security operations\, humanitarian assistance missions\, or other recent deployments are invited to a complimentary lunch in honour of your service. \nEnjoy a guest presentation and live music as we acknowledge your contribution. \n👉 Bookings essential by 5:00pm\, Wednesday 15th October 2025📞 5483 7707 | ✉️ erin.b@gympiersl.com.au
URL:https://gympiersl.com.au/event/peacekeepers-peacemakers-lunch/
LOCATION:Atrium Bistro\, Gympie RSL\, 217 Mary Street\, Gympie\, QLD\, 4570\, Australia
CATEGORIES:Entertainment,Special Events,Welfare,Welfare Featured
ATTACH;FMTTYPE=image/png:https://gympiersl.com.au/wp-content/uploads/2025/10/Peacekeepers_-and-Peacemakers-_-Veterans-and-Partners-Lunch-Landscape1920-x-1080-px.png
END:VEVENT
BEGIN:VEVENT
DTSTART;TZID=Australia/Brisbane:20251018T190000
DTEND;TZID=Australia/Brisbane:20251018T230000
DTSTAMP:20260422T184131
CREATED:20250915T224543Z
LAST-MODIFIED:20250915T224755Z
UID:10027225-1760814000-1760828400@gympiersl.com.au
SUMMARY:Saturday Live Entertainment - Derek Smith
DESCRIPTION:Catch you on the dance floor with Derek Smith!\nCome and enjoy some live music at Gympie RSL this Saturday night! \nFrom 7pm til late\, come on down to Live Music at the Gympie RSL and indulge in terrific cocktails and a wide range of luxury gins\, as well as splendid live music from a selection of different artists.
URL:https://gympiersl.com.au/event/saturday-live-entertainment-3/
LOCATION:Gympie RSL
CATEGORIES:All,Entertainment,Live Music
ATTACH;FMTTYPE=image/jpeg:https://gympiersl.com.au/wp-content/uploads/2024/04/Gympie-RSL_Web-Featured_Weekly-Entertainment.jpg
END:VEVENT
BEGIN:VEVENT
DTSTART;TZID=Australia/Brisbane:20251024T170000
DTEND;TZID=Australia/Brisbane:20251024T210000
DTSTAMP:20260422T184131
CREATED:20250526T020301Z
LAST-MODIFIED:20260409T011438Z
UID:10023819-1761325200-1761339600@gympiersl.com.au
SUMMARY:Friday Night Frenzy at Gympie RSL
DESCRIPTION:Looking for the perfect way to kick off your weekend? Join us every Friday night at the Gympie RSL for our exciting Friday Night Frenzy\, hosted at Rhythm Bar. From 5:00PM to 9:00PM\, enjoy a relaxed evening with friends while earning entries into our weekly prize draw. Simply purchase any beverage during this time to receive an entry – each drink gives you one chance to win\, so the more you enjoy\, the better your odds! \nAt 9:00PM\, one lucky member will be randomly drawn and invited to select one of five mystery cards\, each containing a fantastic prize. Prizes include Gympie RSL Club Vouchers ranging in value from $25 all the way up to $200. \nWhether you’re in it for the thrill of the prize or just want to enjoy a great night out\, Friday Night Frenzy is the place to be every week at Gympie RSL.
URL:https://gympiersl.com.au/event/friday-night-frenzy-at-gympie-rsl/2025-10-24/
LOCATION:Gympie RSL
CATEGORIES:All,Entertainment,Live Music,Promotions,Sports Bar
ATTACH;FMTTYPE=image/jpeg:https://gympiersl.com.au/wp-content/uploads/2025/05/Gympie-RSL-Friday-Night-Frenzy_Website-Event-featured-image.jpg
END:VEVENT
BEGIN:VEVENT
DTSTART;TZID=Australia/Brisbane:20251024T190000
DTEND;TZID=Australia/Brisbane:20251024T230000
DTSTAMP:20260422T184131
CREATED:20250915T035804Z
LAST-MODIFIED:20250915T040014Z
UID:10026520-1761332400-1761346800@gympiersl.com.au
SUMMARY:Live Entertainment - Simon Meola
DESCRIPTION:Catch you on the dance floor with Simon Meola!\nCome and enjoy some live music at Gympie RSL this Friday night! \nFrom 7pm til late\, come on down to Live Music at the Gympie RSL and indulge in terrific cocktails and a wide range of luxury gins\, as well as splendid live music from a selection of different artists.
URL:https://gympiersl.com.au/event/live-entertainment-54/
LOCATION:Gympie RSL
CATEGORIES:All,Entertainment,Live Music,Sports Bar
ATTACH;FMTTYPE=image/jpeg:https://gympiersl.com.au/wp-content/uploads/2024/04/Gympie-RSL_Web-Featured_Weekly-Entertainment.jpg
END:VEVENT
BEGIN:VEVENT
DTSTART;TZID=Australia/Brisbane:20251025T190000
DTEND;TZID=Australia/Brisbane:20251025T230000
DTSTAMP:20260422T184131
CREATED:20250915T224803Z
LAST-MODIFIED:20250915T225007Z
UID:10027226-1761418800-1761433200@gympiersl.com.au
SUMMARY:Saturday Live Entertainment - DJ Cain Races Afterparty
DESCRIPTION:Catch you on the dance floor at our Races Afterparty with DJ Cain!\nCome and enjoy some live music at Gympie RSL this Saturday night! \nFrom 7pm til late\, come on down to Live Music at the Gympie RSL and indulge in terrific cocktails and a wide range of luxury gins\, as well as splendid live music from a selection of different artists.
URL:https://gympiersl.com.au/event/saturday-live-entertainment-4/
LOCATION:Gympie RSL
CATEGORIES:All,Entertainment,Live Music
ATTACH;FMTTYPE=image/jpeg:https://gympiersl.com.au/wp-content/uploads/2025/08/Gympie-RSL-Afterparty-Gympie-Race-Update_Web-Event-Featured-Image.jpg
END:VEVENT
BEGIN:VEVENT
DTSTART;TZID=Australia/Brisbane:20251031T170000
DTEND;TZID=Australia/Brisbane:20251031T210000
DTSTAMP:20260422T184131
CREATED:20250526T020301Z
LAST-MODIFIED:20260409T011438Z
UID:10023820-1761930000-1761944400@gympiersl.com.au
SUMMARY:Friday Night Frenzy at Gympie RSL
DESCRIPTION:Looking for the perfect way to kick off your weekend? Join us every Friday night at the Gympie RSL for our exciting Friday Night Frenzy\, hosted at Rhythm Bar. From 5:00PM to 9:00PM\, enjoy a relaxed evening with friends while earning entries into our weekly prize draw. Simply purchase any beverage during this time to receive an entry – each drink gives you one chance to win\, so the more you enjoy\, the better your odds! \nAt 9:00PM\, one lucky member will be randomly drawn and invited to select one of five mystery cards\, each containing a fantastic prize. Prizes include Gympie RSL Club Vouchers ranging in value from $25 all the way up to $200. \nWhether you’re in it for the thrill of the prize or just want to enjoy a great night out\, Friday Night Frenzy is the place to be every week at Gympie RSL.
URL:https://gympiersl.com.au/event/friday-night-frenzy-at-gympie-rsl/2025-10-31/
LOCATION:Gympie RSL
CATEGORIES:All,Entertainment,Live Music,Promotions,Sports Bar
ATTACH;FMTTYPE=image/jpeg:https://gympiersl.com.au/wp-content/uploads/2025/05/Gympie-RSL-Friday-Night-Frenzy_Website-Event-featured-image.jpg
END:VEVENT
BEGIN:VEVENT
DTSTART;TZID=Australia/Brisbane:20251031T190000
DTEND;TZID=Australia/Brisbane:20251031T230000
DTSTAMP:20260422T184131
CREATED:20250915T040109Z
LAST-MODIFIED:20250915T040908Z
UID:10026521-1761937200-1761951600@gympiersl.com.au
SUMMARY:Live Entertainment - Beauty and the Beez
DESCRIPTION:Catch you on the dance floor with Beauty and the Beez!\nCome and enjoy some live music at Gympie RSL this Friday night! \nFrom 7pm til late\, come on down to Live Music at the Gympie RSL and indulge in terrific cocktails and a wide range of luxury gins\, as well as splendid live music from a selection of different artists.
URL:https://gympiersl.com.au/event/live-entertainment-55/
LOCATION:Gympie RSL
CATEGORIES:All,Entertainment,Live Music,Sports Bar
ATTACH;FMTTYPE=image/jpeg:https://gympiersl.com.au/wp-content/uploads/2024/04/Gympie-RSL_Web-Featured_Weekly-Entertainment.jpg
END:VEVENT
END:VCALENDAR